PDS_VERSION_ID = PDS3
/* FILE DATA ELEMENTS */
RECORD_TYPE = UNDEFINED
/* POINTERS TO DATA OBJECTS */
^IMAGE = ("H4469_0000_IR4.TIF")
/* IDENTIFICATION DATA ELEMENTS */
DATA_SET_ID = "MEX-M-HRSC-4-REFDR-MAPPROJECT-EXT1-V4.0"
DATA_SET_NAME = "MARS EXPRESS HRSC MAP PROJECTED REFDR EXTENSION1 V4.0"
DETECTOR_ID = MEX_HRSC_IR
EVENT_TYPE = "MARS-REGIONAL-MAPPING-Gl-Pf"
INSTRUMENT_HOST_ID = MEX
INSTRUMENT_HOST_NAME = "MARS EXPRESS"
INSTRUMENT_ID = HRSC
INSTRUMENT_NAME = "HIGH RESOLUTION STEREO CAMERA"
MISSION_NAME = "MARS EXPRESS"
MISSION_PHASE_NAME = ME_Phase_8
PROCESSING_LEVEL_ID = 4
PRODUCT_CREATION_TIME = 2023-02-10T03:49:22.000Z
PRODUCT_ID = "H4469_0000_IR4.TIF"
RELEASE_ID = 0006
REVISION_ID = 0000
/* QUALITY DATA ELEMENTS */
DATA_QUALITY_ID = 1
DATA_QUALITY_DESC = "Data calculated based on original SPICE kernels"
/* TIME DATA ELEMENTS */
SPACECRAFT_CLOCK_START_COUNT = "1/0131073538.09072"
SPACECRAFT_CLOCK_STOP_COUNT = "1/0131073660.16430"
START_TIME = 2007-06-28T01:19:51.497Z
STOP_TIME = 2007-06-28T01:20:58.054Z
/* ORBITAL DATA ELEMENTS */
ASCENDING_NODE_LONGITUDE = 134.78
MAXIMUM_RESOLUTION = 0.097
FOOTPRINT_POINT_LATITUDE = (-75.1585,-75.1166,-75.088,-75.058, -75.0268,-74.9942,-74.9602,-74.9581, -75.0185,-74.889,-74.8025,-74.7159, -74.6292,-74.5426,-74.4562,-74.3698, -74.2832,-74.1964,-74.1096,-74.0228, -73.9359,-73.8491,-73.7189,-73.6319, -73.5449,-73.4579,-73.3709,-73.2843, -73.1977,-73.1116,-72.9859,-72.902, -72.8181,-72.6926,-72.525,-72.3988, -72.2306,-72.1045,-71.9787,-71.7272, -71.5593,-71.4332,-71.3073,-71.1393, -71.0133,-70.8449,-70.7605,-70.7178, -70.6873,-70.7117,-70.7258,-70.753, -70.7791,-70.8008,-70.8214,-70.8374, -70.8386,-70.8408,-70.9679,-71.0975, -71.2693,-71.3948,-71.606,-71.7756, -71.8611,-71.9463,-72.0737,-72.1589, -72.244,-72.4139,-72.5413,-72.6264, -72.7541,-72.8394,-72.9245,-73.052, -73.1371,-73.2222,-73.3074,-73.3955, -73.4838,-73.616,-73.7038,-73.792, -73.8804,-73.9688,-74.0571,-74.1897, -74.2779,-74.3661,-74.4544,-74.5425, -74.6307,-74.7189,-74.807,-74.9389, -75.0268,-75.159,-75.2031,-75.1585)
FOOTPRINT_POINT_LONGITUDE = (172.98,172.108,171.55,170.993,170.436, 169.88,169.324,169.289,169.057,169.19, 169.277,169.364,169.45,169.534,169.617, 169.698,169.779,169.86,169.94,170.018, 170.096,170.173,170.286,170.361,170.435 ,170.508,170.58,170.65,170.719,170.788, 170.887,170.953,171.017,171.112,171.236 ,171.329,171.451,171.54,171.627,171.796 ,171.907,171.989,172.069,172.174, 172.251,172.353,172.404,172.431,172.449 ,172.873,173.13,173.644,174.157,174.613 ,175.068,175.438,175.467,175.485, 175.429,175.374,175.298,175.239,175.14, 175.059,175.018,174.976,174.913,174.871 ,174.828,174.741,174.674,174.63,174.561 ,174.515,174.469,174.398,174.35,174.302 ,174.253,174.202,174.15,174.071,174.018 ,173.964,173.91,173.855,173.799,173.714 ,173.657,173.599,173.54,173.48,173.42, 173.359,173.298,173.204,173.14,173.044, 173.011,172.98)
ORBIT_NUMBER = 4469
ORBITAL_ECCENTRICITY = 0.57
ORBITAL_INCLINATION = 86.69
ORBITAL_SEMIMAJOR_AXIS = 8541.9
PERIAPSIS_ALTITUDE = 292.7
PERIAPSIS_ARGUMENT_ANGLE = 291.17
PERIAPSIS_TIME = 2007-06-28T01:21:11.000Z
SPACECRAFT_ORIENTATION = (0.0,1.0,0.0)
^MEX_ORIENTATION_DESC = "MEX_ORIENTATION_DESC.TXT"
SPACECRAFT_POINTING_MODE = ACROSSTRACK
^MEX_POINTING_DESC = "MEX_POINTING_DESC.TXT"
RIGHT_ASCENSION = -1e+32
DECLINATION = -1e+32
OFFSET_ANGLE = 0.2
SPACECRAFT_SOLAR_DISTANCE = 2.07261e+08
TARGET_NAME = MARS
/* CAMERA DATA ELEMENTS */
DETECTOR_TEMPERATURE = 17.9627
FOCAL_PLANE_TEMPERATURE = 9.195
INST_CMPRS_NAME = "DISCRETE COSINE TRANSFORMATION (DCT)"
INST_CMPRS_RATIO = 34.1314
INST_CMPRS_QUALITY = 0
INST_CMPRS_QUANTZ_TBL_ID = 0
INSTRUMENT_TEMPERATURE = 11.6418
LENS_TEMPERATURE = 9.3989
MACROPIXEL_SIZE = 8
MISSING_FRAMES = 0
PIXEL_SUBSAMPLING_FLAG = N
SIGNAL_CHAIN_ID = 2
/* RADIOMETRIC DATA ELEMENTS */
BANDWIDTH = 81.0
CENTER_FILTER_WAVELENGTH = 955.5
RADIANCE_OFFSET = 1.63086
RADIANCE_SCALING_FACTOR = 0.00356207
REFLECTANCE_SCALING_FACTOR = 0.000330116
MEX:REFLECTANCE_OFFSET = 0.15114
/* IMAGE OBJECT DEFINITIONS */
OBJECT = IMAGE
  INTERCHANGE_FORMAT = BINARY
  LINES = 2705
  LINE_SAMPLES = 1096
  SAMPLE_TYPE = UNSIGNED_INTEGER
  SAMPLE_BITS = 8
  BANDS = 1
  BAND_STORAGE_TYPE = BAND_SEQUENTIAL
  MAXIMUM = 255
  MEAN = 131.223
  MINIMUM = 2
  STANDARD_DEVIATION = 26.757
END_OBJECT = IMAGE
/* MAP OBJECT DEFINITIONS */
OBJECT = IMAGE_MAP_PROJECTION
  ^DATA_SET_MAP_PROJECTION_CATALOG= "DSMAP.CAT"
  A_AXIS_RADIUS = 3396.0
  B_AXIS_RADIUS = 3396.0
  C_AXIS_RADIUS = 3396.0
  CENTER_LATITUDE = 0.0
  CENTER_LONGITUDE = 173.0
  COORDINATE_SYSTEM_NAME = PLANETOGRAPHIC
  COORDINATE_SYSTEM_TYPE = "BODY-FIXED ROTATING"
  EASTERNMOST_LONGITUDE = 175.485
  FIRST_STANDARD_PARALLEL = "N/A"
  LINE_FIRST_PIXEL = 1
  LINE_LAST_PIXEL = 2705
  LINE_PROJECTION_OFFSET = -41899.0625
  MAP_PROJECTION_ROTATION = 0.0
  MAP_PROJECTION_TYPE = SINUSOIDAL
  MAP_RESOLUTION = 592.713803866667
  MAP_SCALE = 0.1
  MAXIMUM_LATITUDE = -70.68729999999999
  MINIMUM_LATITUDE = -75.20310000000001
  POSITIVE_LONGITUDE_DIRECTION = EAST
  REFERENCE_LATITUDE = "N/A"
  REFERENCE_LONGITUDE = "N/A"
  SAMPLE_FIRST_PIXEL = 1
  SAMPLE_LAST_PIXEL = 1096
  SAMPLE_PROJECTION_OFFSET = 613.6875
  SECOND_STANDARD_PARALLEL = "N/A"
  WESTERNMOST_LONGITUDE = 169.057
END_OBJECT = IMAGE_MAP_PROJECTION
END
