PDS_VERSION_ID = PDS3
/* FILE DATA ELEMENTS */
RECORD_TYPE = UNDEFINED
/* POINTERS TO DATA OBJECTS */
^IMAGE = ("H4469_0000_RE4.TIF")
/* IDENTIFICATION DATA ELEMENTS */
DATA_SET_ID = "MEX-M-HRSC-4-REFDR-MAPPROJECT-EXT1-V4.0"
DATA_SET_NAME = "MARS EXPRESS HRSC MAP PROJECTED REFDR EXTENSION1 V4.0"
DETECTOR_ID = MEX_HRSC_RED
EVENT_TYPE = "MARS-REGIONAL-MAPPING-Gl-Pf"
INSTRUMENT_HOST_ID = MEX
INSTRUMENT_HOST_NAME = "MARS EXPRESS"
INSTRUMENT_ID = HRSC
INSTRUMENT_NAME = "HIGH RESOLUTION STEREO CAMERA"
MISSION_NAME = "MARS EXPRESS"
MISSION_PHASE_NAME = ME_Phase_8
PROCESSING_LEVEL_ID = 4
PRODUCT_CREATION_TIME = 2023-02-10T03:49:22.000Z
PRODUCT_ID = "H4469_0000_RE4.TIF"
RELEASE_ID = 0006
REVISION_ID = 0000
/* QUALITY DATA ELEMENTS */
DATA_QUALITY_ID = 1
DATA_QUALITY_DESC = "Data calculated based on original SPICE kernels"
/* TIME DATA ELEMENTS */
SPACECRAFT_CLOCK_START_COUNT = "1/0131073538.09072"
SPACECRAFT_CLOCK_STOP_COUNT = "1/0131073660.16430"
START_TIME = 2007-06-28T01:19:07.161Z
STOP_TIME = 2007-06-28T01:20:15.069Z
/* ORBITAL DATA ELEMENTS */
ASCENDING_NODE_LONGITUDE = 134.78
MAXIMUM_RESOLUTION = 0.098
FOOTPRINT_POINT_LATITUDE = (-75.3496,-75.324,-75.3016,-75.2675, -75.2318,-75.1944,-75.1579,-75.112, -75.1094,-75.0223,-74.9354,-74.8052, -74.6749,-74.5878,-74.3751,-74.2069, -74.0384,-73.9118,-73.785,-73.6161, -73.4469,-73.362,-73.2767,-73.1913, -73.1061,-72.9784,-72.8085,-72.7231, -72.5948,-72.5094,-72.3393,-72.2539, -72.1685,-72.083,-71.9972,-71.9111, -71.7823,-71.6964,-71.6105,-71.4816, -71.3524,-71.2232,-71.1369,-71.0507, -70.9216,-70.8359,-70.7503,-70.7072, -70.6998,-70.7312,-70.7692,-70.7947, -70.8304,-70.8563,-70.884,-70.8855, -70.888,-70.9757,-71.1058,-71.2774, -71.3668,-71.4548,-71.542,-71.6727, -71.7601,-71.8471,-71.9336,-72.0204, -72.1076,-72.1944,-72.281,-72.3678, -72.4547,-72.585,-72.7148,-72.8013, -72.9308,-73.0173,-73.1038,-73.1902, -73.2765,-73.3626,-73.4489,-73.5352, -73.6216,-73.7082,-73.8374,-73.9234, -74.0953,-74.2669,-74.3528,-74.5244, -74.653,-74.8261,-74.915,-75.0039, -75.137,-75.2254,-75.2697,-75.3496)
FOOTPRINT_POINT_LONGITUDE = (172.886,172.415,172.018,171.44,170.864 ,170.289,169.751,169.106,169.07,168.988 ,169.079,169.213,169.344,169.431, 169.636,169.796,169.951,170.066,170.179 ,170.327,170.471,170.542,170.612, 170.681,170.75,170.851,170.985,171.05, 171.147,171.211,171.338,171.4,171.461, 171.522,171.582,171.641,171.729,171.787 ,171.844,171.929,172.013,172.096,172.15 ,172.204,172.284,172.337,172.389, 172.415,172.42,172.875,173.449,173.85, 174.453,174.912,175.428,175.457,175.475 ,175.438,175.382,175.308,175.266, 175.226,175.186,175.125,175.084,175.043 ,175.002,174.96,174.917,174.874,174.831 ,174.787,174.743,174.676,174.608, 174.562,174.493,174.446,174.398,174.35, 174.302,174.253,174.203,174.153,174.102 ,174.051,173.973,173.92,173.814,173.705 ,173.649,173.537,173.451,173.332,173.27 ,173.207,173.112,173.047,173.015, 172.886)
ORBIT_NUMBER = 4469
ORBITAL_ECCENTRICITY = 0.57
ORBITAL_INCLINATION = 86.69
ORBITAL_SEMIMAJOR_AXIS = 8541.9
PERIAPSIS_ALTITUDE = 292.7
PERIAPSIS_ARGUMENT_ANGLE = 291.17
PERIAPSIS_TIME = 2007-06-28T01:21:11.000Z
SPACECRAFT_ORIENTATION = (0.0,1.0,0.0)
^MEX_ORIENTATION_DESC = "MEX_ORIENTATION_DESC.TXT"
SPACECRAFT_POINTING_MODE = ACROSSTRACK
^MEX_POINTING_DESC = "MEX_POINTING_DESC.TXT"
RIGHT_ASCENSION = -1e+32
DECLINATION = -1e+32
OFFSET_ANGLE = 0.2
SPACECRAFT_SOLAR_DISTANCE = 2.07261e+08
TARGET_NAME = MARS
/* CAMERA DATA ELEMENTS */
DETECTOR_TEMPERATURE = 19.1861
FOCAL_PLANE_TEMPERATURE = 9.195
INST_CMPRS_NAME = "DISCRETE COSINE TRANSFORMATION (DCT)"
INST_CMPRS_RATIO = 36.0131
INST_CMPRS_QUALITY = 0
INST_CMPRS_QUANTZ_TBL_ID = 0
INSTRUMENT_TEMPERATURE = 11.6418
LENS_TEMPERATURE = 9.3989
MACROPIXEL_SIZE = 8
MISSING_FRAMES = 0
PIXEL_SUBSAMPLING_FLAG = N
SIGNAL_CHAIN_ID = 2
/* RADIOMETRIC DATA ELEMENTS */
BANDWIDTH = 48.0
CENTER_FILTER_WAVELENGTH = 748.0
RADIANCE_OFFSET = 1.87237
RADIANCE_SCALING_FACTOR = 0.00362912
REFLECTANCE_SCALING_FACTOR = 0.000355767
MEX:REFLECTANCE_OFFSET = 0.183551
/* IMAGE OBJECT DEFINITIONS */
OBJECT = IMAGE
  INTERCHANGE_FORMAT = BINARY
  LINES = 2705
  LINE_SAMPLES = 1096
  SAMPLE_TYPE = UNSIGNED_INTEGER
  SAMPLE_BITS = 8
  BANDS = 1
  BAND_STORAGE_TYPE = BAND_SEQUENTIAL
  MAXIMUM = 255
  MEAN = 134.089
  MINIMUM = 6
  STANDARD_DEVIATION = 24.8835
END_OBJECT = IMAGE
/* MAP OBJECT DEFINITIONS */
OBJECT = IMAGE_MAP_PROJECTION
  ^DATA_SET_MAP_PROJECTION_CATALOG= "DSMAP.CAT"
  A_AXIS_RADIUS = 3396.0
  B_AXIS_RADIUS = 3396.0
  C_AXIS_RADIUS = 3396.0
  CENTER_LATITUDE = 0.0
  CENTER_LONGITUDE = 173.0
  COORDINATE_SYSTEM_NAME = PLANETOGRAPHIC
  COORDINATE_SYSTEM_TYPE = "BODY-FIXED ROTATING"
  EASTERNMOST_LONGITUDE = 175.475
  FIRST_STANDARD_PARALLEL = "N/A"
  LINE_FIRST_PIXEL = 1
  LINE_LAST_PIXEL = 2705
  LINE_PROJECTION_OFFSET = -41899.0625
  MAP_PROJECTION_ROTATION = 0.0
  MAP_PROJECTION_TYPE = SINUSOIDAL
  MAP_RESOLUTION = 592.713803866667
  MAP_SCALE = 0.1
  MAXIMUM_LATITUDE = -70.6998
  MINIMUM_LATITUDE = -75.3496
  POSITIVE_LONGITUDE_DIRECTION = EAST
  REFERENCE_LATITUDE = "N/A"
  REFERENCE_LONGITUDE = "N/A"
  SAMPLE_FIRST_PIXEL = 1
  SAMPLE_LAST_PIXEL = 1096
  SAMPLE_PROJECTION_OFFSET = 613.6875
  SECOND_STANDARD_PARALLEL = "N/A"
  WESTERNMOST_LONGITUDE = 168.988
END_OBJECT = IMAGE_MAP_PROJECTION
END
