PDS_VERSION_ID = PDS3
/* FILE DATA ELEMENTS */
RECORD_TYPE = UNDEFINED
/* POINTERS TO DATA OBJECTS */
^IMAGE = ("H4469_0001_P14.TIF")
/* IDENTIFICATION DATA ELEMENTS */
DATA_SET_ID = "MEX-M-HRSC-4-REFDR-MAPPROJECT-EXT1-V4.0"
DATA_SET_NAME = "MARS EXPRESS HRSC MAP PROJECTED REFDR EXTENSION1 V4.0"
DETECTOR_ID = MEX_HRSC_P1
EVENT_TYPE = "MARS-REGIONAL-MAPPING-Im-Fl"
INSTRUMENT_HOST_ID = MEX
INSTRUMENT_HOST_NAME = "MARS EXPRESS"
INSTRUMENT_ID = HRSC
INSTRUMENT_NAME = "HIGH RESOLUTION STEREO CAMERA"
MISSION_NAME = "MARS EXPRESS"
MISSION_PHASE_NAME = ME_Phase_8
PROCESSING_LEVEL_ID = 4
PRODUCT_CREATION_TIME = 2023-02-10T03:49:22.000Z
PRODUCT_ID = "H4469_0001_P14.TIF"
RELEASE_ID = 0006
REVISION_ID = 0000
/* QUALITY DATA ELEMENTS */
DATA_QUALITY_ID = 1
DATA_QUALITY_DESC = "Data calculated based on original SPICE kernels"
/* TIME DATA ELEMENTS */
SPACECRAFT_CLOCK_START_COUNT = "1/0131073804.08222"
SPACECRAFT_CLOCK_STOP_COUNT = "1/0131074033.05498"
START_TIME = 2007-06-28T01:24:14.329Z
STOP_TIME = 2007-06-28T01:27:01.610Z
/* ORBITAL DATA ELEMENTS */
ASCENDING_NODE_LONGITUDE = 134.78
MAXIMUM_RESOLUTION = 0.0261
FOOTPRINT_POINT_LATITUDE = (-57.6659,-57.6494,-57.6287,-57.5932, -57.5924,-57.635,-57.1542,-56.7703, -56.3877,-56.1913,-55.9937,-55.7962, -55.5991,-55.4022,-55.1069,-54.9103, -54.7141,-54.4144,-54.2121,-54.0108, -53.8087,-53.6064,-53.3032,-53.1014, -52.8998,-52.6985,-52.4976,-52.1965, -51.8964,-51.6964,-51.4966,-51.1971, -50.9978,-50.7986,-50.5999,-50.4009, -50.0556,-49.8197,-49.4659,-49.2306, -48.8773,-48.6428,-48.2918,-48.0584, -47.8256,-47.5928,-47.3611,-47.2448, -47.2058,-47.2185,-47.2268,-47.2382, -47.2527,-47.2531,-47.2537,-47.4865, -47.7195,-47.9529,-48.1865,-48.4207, -48.7735,-49.0089,-49.2474,-49.6016, -49.9549,-50.1915,-50.4254,-50.6244, -50.8237,-51.0234,-51.2231,-51.5233, -51.7236,-51.9241,-52.1249,-52.4261, -52.6269,-52.829,-53.1298,-53.3338, -53.5349,-53.7379,-53.9408,-54.1462, -54.3506,-54.552,-54.7502,-54.9469, -55.1439,-55.3415,-55.5391,-55.7368, -55.9348,-56.2318,-56.4297,-56.8133, -57.2019,-57.5864,-57.6818,-57.6659)
FOOTPRINT_POINT_LONGITUDE = (178.714,178.194,177.615,176.741, 176.721,176.652,176.73,176.79,176.847, 176.876,176.904,176.932,176.959,176.985 ,177.024,177.05,177.075,177.112,177.136 ,177.159,177.183,177.207,177.242, 177.265,177.287,177.309,177.33,177.361, 177.391,177.41,177.429,177.457,177.476, 177.494,177.511,177.529,177.558,177.577 ,177.606,177.624,177.651,177.668, 177.693,177.709,177.724,177.739,177.753 ,177.761,177.763,178.198,178.513, 178.985,179.769,179.789,179.796,179.779 ,179.761,179.743,179.725,179.707,179.68 ,179.661,179.643,179.614,179.584, 179.563,179.543,179.525,179.508,179.49, 179.471,179.444,179.425,179.406,179.386 ,179.357,179.336,179.316,179.285, 179.264,179.243,179.221,179.199,179.178 ,179.156,179.133,179.109,179.086, 179.063,179.04,179.016,178.992,178.968, 178.93,178.905,178.855,178.805,178.752, 178.738,178.714)
ORBIT_NUMBER = 4469
ORBITAL_ECCENTRICITY = 0.57
ORBITAL_INCLINATION = 86.69
ORBITAL_SEMIMAJOR_AXIS = 8541.9
PERIAPSIS_ALTITUDE = 292.7
PERIAPSIS_ARGUMENT_ANGLE = 291.17
PERIAPSIS_TIME = 2007-06-28T01:21:11.000Z
SPACECRAFT_ORIENTATION = (0.0,1.0,0.0)
^MEX_ORIENTATION_DESC = "MEX_ORIENTATION_DESC.TXT"
SPACECRAFT_POINTING_MODE = ACROSSTRACK
^MEX_POINTING_DESC = "MEX_POINTING_DESC.TXT"
RIGHT_ASCENSION = -1e+32
DECLINATION = -1e+32
OFFSET_ANGLE = 0.2
SPACECRAFT_SOLAR_DISTANCE = 2.07261e+08
TARGET_NAME = MARS
/* CAMERA DATA ELEMENTS */
DETECTOR_TEMPERATURE = 18.5744
FOCAL_PLANE_TEMPERATURE = 8.7872
INST_CMPRS_NAME = "DISCRETE COSINE TRANSFORMATION (DCT)"
INST_CMPRS_RATIO = 10.5219
INST_CMPRS_QUALITY = 0
INST_CMPRS_QUANTZ_TBL_ID = 0
INSTRUMENT_TEMPERATURE = 12.6613
LENS_TEMPERATURE = 9.6028
MACROPIXEL_SIZE = 2
MISSING_FRAMES = 0
PIXEL_SUBSAMPLING_FLAG = N
SIGNAL_CHAIN_ID = 3
/* RADIOMETRIC DATA ELEMENTS */
BANDWIDTH = 174.0
CENTER_FILTER_WAVELENGTH = 675.0
RADIANCE_OFFSET = 5.84663
RADIANCE_SCALING_FACTOR = 0.0220199
REFLECTANCE_SCALING_FACTOR = 0.00050879
MEX:REFLECTANCE_OFFSET = 0.135092
/* IMAGE OBJECT DEFINITIONS */
OBJECT = IMAGE
  INTERCHANGE_FORMAT = BINARY
  LINES = 24946
  LINE_SAMPLES = 4512
  SAMPLE_TYPE = UNSIGNED_INTEGER
  SAMPLE_BITS = 8
  BANDS = 1
  BAND_STORAGE_TYPE = BAND_SEQUENTIAL
  MAXIMUM = 255
  MEAN = 150.507
  MINIMUM = 1
  STANDARD_DEVIATION = 26.6347
END_OBJECT = IMAGE
/* MAP OBJECT DEFINITIONS */
OBJECT = IMAGE_MAP_PROJECTION
  ^DATA_SET_MAP_PROJECTION_CATALOG= "DSMAP.CAT"
  A_AXIS_RADIUS = 3396.0
  B_AXIS_RADIUS = 3396.0
  C_AXIS_RADIUS = 3396.0
  CENTER_LATITUDE = 0.0
  CENTER_LONGITUDE = 178.0
  COORDINATE_SYSTEM_NAME = PLANETOGRAPHIC
  COORDINATE_SYSTEM_TYPE = "BODY-FIXED ROTATING"
  EASTERNMOST_LONGITUDE = 179.796
  FIRST_STANDARD_PARALLEL = "N/A"
  LINE_FIRST_PIXEL = 1
  LINE_LAST_PIXEL = 24946
  LINE_PROJECTION_OFFSET = -111922.25
  MAP_PROJECTION_ROTATION = 0.0
  MAP_PROJECTION_TYPE = SINUSOIDAL
  MAP_RESOLUTION = 2370.85521546667
  MAP_SCALE = 0.025
  MAXIMUM_LATITUDE = -47.2058
  MINIMUM_LATITUDE = -57.6818
  POSITIVE_LONGITUDE_DIRECTION = EAST
  REFERENCE_LATITUDE = "N/A"
  REFERENCE_LONGITUDE = "N/A"
  SAMPLE_FIRST_PIXEL = 1
  SAMPLE_LAST_PIXEL = 4512
  SAMPLE_PROJECTION_OFFSET = 1691.75
  SECOND_STANDARD_PARALLEL = "N/A"
  WESTERNMOST_LONGITUDE = 176.652
END_OBJECT = IMAGE_MAP_PROJECTION
END
