PDS_VERSION_ID = PDS3
/* FILE DATA ELEMENTS */
RECORD_TYPE = UNDEFINED
/* POINTERS TO DATA OBJECTS */
^IMAGE = ("H4472_0000_BL4.TIF")
/* IDENTIFICATION DATA ELEMENTS */
DATA_SET_ID = "MEX-M-HRSC-4-REFDR-MAPPROJECT-EXT1-V4.0"
DATA_SET_NAME = "MARS EXPRESS HRSC MAP PROJECTED REFDR EXTENSION1 V4.0"
DETECTOR_ID = MEX_HRSC_BLUE
EVENT_TYPE = "MARS-REGIONAL-MAPPING-Im"
INSTRUMENT_HOST_ID = MEX
INSTRUMENT_HOST_NAME = "MARS EXPRESS"
INSTRUMENT_ID = HRSC
INSTRUMENT_NAME = "HIGH RESOLUTION STEREO CAMERA"
MISSION_NAME = "MARS EXPRESS"
MISSION_PHASE_NAME = ME_Phase_8
PROCESSING_LEVEL_ID = 4
PRODUCT_CREATION_TIME = 2023-02-10T03:49:22.000Z
PRODUCT_ID = "H4472_0000_BL4.TIF"
RELEASE_ID = 0006
REVISION_ID = 0000
/* QUALITY DATA ELEMENTS */
DATA_QUALITY_ID = 1
DATA_QUALITY_DESC = "Data calculated based on original SPICE kernels"
/* TIME DATA ELEMENTS */
SPACECRAFT_CLOCK_START_COUNT = "1/0131146123.08412"
SPACECRAFT_CLOCK_STOP_COUNT = "1/0131146403.55931"
START_TIME = 2007-06-28T21:29:09.896Z
STOP_TIME = 2007-06-28T21:32:53.588Z
/* ORBITAL DATA ELEMENTS */
ASCENDING_NODE_LONGITUDE = 134.73
MAXIMUM_RESOLUTION = 0.0461
FOOTPRINT_POINT_LATITUDE = (-75.0488,-74.9287,-74.8376,-74.8353, -74.8083,-74.3706,-73.9299,-73.4913, -73.1974,-72.9027,-72.6096,-72.0404, -71.6124,-71.1838,-70.6113,-70.3247, -70.0379,-69.7495,-69.4609,-68.8881, -68.6003,-68.312,-68.0237,-67.7352, -67.4467,-67.1581,-66.8695,-66.5804, -66.29,-65.7123,-65.4227,-65.1331, -64.8434,-64.5541,-64.2643,-63.9745, -63.5264,-63.2254,-62.9245,-62.4729, -62.1719,-61.871,-61.57,-61.269, -60.9671,-60.6673,-60.3666,-60.2163, -60.1692,-60.2315,-60.2657,-60.2665, -60.2675,-60.5693,-60.8713,-61.1732, -61.4753,-61.7775,-62.0798,-62.3821, -62.6846,-62.9872,-63.441,-63.7435, -64.1901,-64.4814,-64.7726,-65.0637, -65.3551,-65.6466,-66.2278,-66.6659, -66.9572,-67.2484,-67.5392,-67.83, -68.1209,-68.5568,-68.8473,-69.1378, -69.5733,-70.0084,-70.2984,-70.5881, -70.8778,-71.1673,-71.4566,-71.8903, -72.179,-72.4677,-72.7559,-73.0517, -73.3505,-73.6493,-73.9476,-74.2456, -74.5433,-74.8407,-74.9893,-75.0488)
FOOTPRINT_POINT_LONGITUDE = (238.492,236.285,234.847,234.812, 234.685,235.108,235.498,235.88,236.119, 236.349,236.569,236.973,237.258,237.53, 237.872,238.034,238.192,238.34,238.483, 238.775,238.911,239.041,239.168,239.291 ,239.411,239.527,239.641,239.75,239.852 ,240.059,240.155,240.25,240.341,240.432 ,240.518,240.603,240.729,240.811,240.89 ,241.005,241.079,241.151,241.221, 241.289,241.352,241.419,241.482,241.513 ,241.522,242.782,243.607,243.627, 243.633,243.583,243.533,243.481,243.428 ,243.373,243.317,243.26,243.201,243.141 ,243.048,242.984,242.887,242.821, 242.755,242.687,242.616,242.543,242.398 ,242.275,242.193,242.11,242.025,241.937 ,241.846,241.706,241.609,241.509, 241.354,241.191,241.079,240.963,240.843 ,240.72,240.592,240.393,240.255,240.111 ,239.964,239.806,239.642,239.47,239.293 ,239.108,238.917,238.717,238.615, 238.492)
ORBIT_NUMBER = 4472
ORBITAL_ECCENTRICITY = 0.57
ORBITAL_INCLINATION = 86.7
ORBITAL_SEMIMAJOR_AXIS = 8540.38
PERIAPSIS_ALTITUDE = 291.69
PERIAPSIS_ARGUMENT_ANGLE = 290.63
PERIAPSIS_TIME = 2007-06-28T21:30:44.000Z
SPACECRAFT_ORIENTATION = (0.0,1.0,0.0)
^MEX_ORIENTATION_DESC = "MEX_ORIENTATION_DESC.TXT"
SPACECRAFT_POINTING_MODE = ACROSSTRACK
^MEX_POINTING_DESC = "MEX_POINTING_DESC.TXT"
RIGHT_ASCENSION = -1e+32
DECLINATION = -1e+32
OFFSET_ANGLE = 0.14
SPACECRAFT_SOLAR_DISTANCE = 2.07304e+08
TARGET_NAME = MARS
/* CAMERA DATA ELEMENTS */
DETECTOR_TEMPERATURE = 19.39
FOCAL_PLANE_TEMPERATURE = 7.3599
INST_CMPRS_NAME = "DISCRETE COSINE TRANSFORMATION (DCT)"
INST_CMPRS_RATIO = 6.78365
INST_CMPRS_QUALITY = 0
INST_CMPRS_QUANTZ_TBL_ID = 0
INSTRUMENT_TEMPERATURE = 11.4379
LENS_TEMPERATURE = 9.3989
MACROPIXEL_SIZE = 4
MISSING_FRAMES = 0
PIXEL_SUBSAMPLING_FLAG = N
SIGNAL_CHAIN_ID = 2
/* RADIOMETRIC DATA ELEMENTS */
BANDWIDTH = 76.0
CENTER_FILTER_WAVELENGTH = 444.0
RADIANCE_OFFSET = 1.04385
RADIANCE_SCALING_FACTOR = 0.00125495
REFLECTANCE_SCALING_FACTOR = 5.54115e-05
MEX:REFLECTANCE_OFFSET = 0.0460905
/* IMAGE OBJECT DEFINITIONS */
OBJECT = IMAGE
  INTERCHANGE_FORMAT = BINARY
  LINES = 17641
  LINE_SAMPLES = 3522
  SAMPLE_TYPE = UNSIGNED_INTEGER
  SAMPLE_BITS = 8
  BANDS = 1
  BAND_STORAGE_TYPE = BAND_SEQUENTIAL
  MAXIMUM = 255
  MEAN = 129.115
  MINIMUM = 1
  STANDARD_DEVIATION = 34.4661
END_OBJECT = IMAGE
/* MAP OBJECT DEFINITIONS */
OBJECT = IMAGE_MAP_PROJECTION
  ^DATA_SET_MAP_PROJECTION_CATALOG= "DSMAP.CAT"
  A_AXIS_RADIUS = 3396.0
  B_AXIS_RADIUS = 3396.0
  C_AXIS_RADIUS = 3396.0
  CENTER_LATITUDE = 0.0
  CENTER_LONGITUDE = 241.0
  COORDINATE_SYSTEM_NAME = PLANETOGRAPHIC
  COORDINATE_SYSTEM_TYPE = "BODY-FIXED ROTATING"
  EASTERNMOST_LONGITUDE = 243.633
  FIRST_STANDARD_PARALLEL = "N/A"
  LINE_FIRST_PIXEL = 1
  LINE_LAST_PIXEL = 17641
  LINE_PROJECTION_OFFSET = -71320.125
  MAP_PROJECTION_ROTATION = 0.0
  MAP_PROJECTION_TYPE = SINUSOIDAL
  MAP_RESOLUTION = 1185.42760773333
  MAP_SCALE = 0.05
  MAXIMUM_LATITUDE = -60.1692
  MINIMUM_LATITUDE = -75.0488
  POSITIVE_LONGITUDE_DIRECTION = EAST
  REFERENCE_LATITUDE = "N/A"
  REFERENCE_LONGITUDE = "N/A"
  SAMPLE_FIRST_PIXEL = 1
  SAMPLE_LAST_PIXEL = 3522
  SAMPLE_PROJECTION_OFFSET = 1969.875
  SECOND_STANDARD_PARALLEL = "N/A"
  WESTERNMOST_LONGITUDE = 234.685
END_OBJECT = IMAGE_MAP_PROJECTION
END
