PDS_VERSION_ID = PDS3
/* FILE DATA ELEMENTS */
RECORD_TYPE = UNDEFINED
/* POINTERS TO DATA OBJECTS */
^IMAGE = ("H4477_0000_IR4.TIF")
/* IDENTIFICATION DATA ELEMENTS */
DATA_SET_ID = "MEX-M-HRSC-4-REFDR-MAPPROJECT-EXT1-V4.0"
DATA_SET_NAME = "MARS EXPRESS HRSC MAP PROJECTED REFDR EXTENSION1 V4.0"
DETECTOR_ID = MEX_HRSC_IR
EVENT_TYPE = "MARS-LOCAL-STEREO-Im-Gl-La"
INSTRUMENT_HOST_ID = MEX
INSTRUMENT_HOST_NAME = "MARS EXPRESS"
INSTRUMENT_ID = HRSC
INSTRUMENT_NAME = "HIGH RESOLUTION STEREO CAMERA"
MISSION_NAME = "MARS EXPRESS"
MISSION_PHASE_NAME = ME_Phase_8
PROCESSING_LEVEL_ID = 4
PRODUCT_CREATION_TIME = 2023-02-10T03:49:22.000Z
PRODUCT_ID = "H4477_0000_IR4.TIF"
RELEASE_ID = 0006
REVISION_ID = 0000
/* QUALITY DATA ELEMENTS */
DATA_QUALITY_ID = 1
DATA_QUALITY_DESC = "Data calculated based on original SPICE kernels"
/* TIME DATA ELEMENTS */
SPACECRAFT_CLOCK_START_COUNT = "1/0131266974.09329"
SPACECRAFT_CLOCK_STOP_COUNT = "1/0131267084.00022"
START_TIME = 2007-06-30T07:03:52.826Z
STOP_TIME = 2007-06-30T07:04:41.444Z
/* ORBITAL DATA ELEMENTS */
ASCENDING_NODE_LONGITUDE = 134.63
MAXIMUM_RESOLUTION = 0.0509
FOOTPRINT_POINT_LATITUDE = (-82.5512,-82.5172,-82.4901,-82.4585, -82.4263,-82.3933,-82.3596,-82.3253, -82.2903,-82.2547,-82.2184,-82.1814, -82.1438,-82.0958,-82.0909,-82.1387, -82.0821,-81.9969,-81.9399,-81.8834, -81.8265,-81.7689,-81.7112,-81.6244, -81.5664,-81.5082,-81.4208,-81.3624, -81.2775,-81.1639,-81.0784,-80.9642, -80.8207,-80.7051,-80.6456,-80.5299, -80.4428,-80.2976,-80.2104,-80.1232, -79.9768,-79.8598,-79.7124,-79.5946, -79.5058,-79.3873,-79.2687,-79.239, -79.2168,-79.2583,-79.2818,-79.3085, -79.3346,-79.3759,-79.4007,-79.425, -79.4484,-79.4717,-79.4941,-79.5131, -79.5421,-79.5445,-79.5461,-79.6374, -79.7287,-79.8201,-79.9421,-80.0652, -80.1573,-80.2802,-80.3424,-80.4052, -80.4984,-80.59,-80.6797,-80.7702, -80.8616,-80.9834,-81.1053,-81.2577, -81.3793,-81.4706,-81.562,-81.6229, -81.7141,-81.7748,-81.8378,-81.933, -81.9951,-82.0572,-82.1505,-82.2126, -82.2742,-82.3358,-82.3974,-82.4589, -82.5204,-82.5819,-82.6126,-82.5512)
FOOTPRINT_POINT_LONGITUDE = (95.2169,94.5935,94.1122,93.5656, 93.0227,92.4833,91.9476,91.416,90.8886, 90.3652,89.8458,89.33,88.8178,88.1832, 88.1201,87.5471,87.7951,88.1605,88.4003 ,88.6291,88.8587,89.0901,89.3178,89.653 ,89.8727,90.0897,90.4085,90.6186, 90.9166,91.3051,91.5899,91.9605,92.4116 ,92.7651,92.9508,93.2879,93.5353,93.936 ,94.1688,94.3967,94.7722,95.0618, 95.4187,95.6945,95.8985,96.165,96.4241, 96.4882,96.5358,97.1392,97.4964,97.904, 98.3129,98.9801,99.3922,99.8058,100.221 ,100.637,101.054,101.42,101.997,102.05, 102.066,101.922,101.774,101.624,101.42, 101.21,101.049,100.829,100.717,100.603, 100.429,100.253,100.074,99.8916,99.7047 ,99.4495,99.1869,98.8481,98.5685, 98.3533,98.1332,97.9837,97.7554,97.6004 ,97.4389,97.1884,97.0195,96.8478, 96.5849,96.4062,96.2249,96.0407,95.8535 ,95.6631,95.4694,95.2725,95.1728, 95.2169)
ORBIT_NUMBER = 4477
ORBITAL_ECCENTRICITY = 0.57
ORBITAL_INCLINATION = 86.69
ORBITAL_SEMIMAJOR_AXIS = 8542.23
PERIAPSIS_ALTITUDE = 292.03
PERIAPSIS_ARGUMENT_ANGLE = 289.76
PERIAPSIS_TIME = 2007-06-30T07:06:46.000Z
SPACECRAFT_ORIENTATION = (0.0,1.0,0.0)
^MEX_ORIENTATION_DESC = "MEX_ORIENTATION_DESC.TXT"
SPACECRAFT_POINTING_MODE = ACROSSTRACK
^MEX_POINTING_DESC = "MEX_POINTING_DESC.TXT"
RIGHT_ASCENSION = -1e+32
DECLINATION = -1e+32
OFFSET_ANGLE = 0.2
SPACECRAFT_SOLAR_DISTANCE = 2.07379e+08
TARGET_NAME = MARS
/* CAMERA DATA ELEMENTS */
DETECTOR_TEMPERATURE = 17.7588
FOCAL_PLANE_TEMPERATURE = 8.7872
INST_CMPRS_NAME = "DISCRETE COSINE TRANSFORMATION (DCT)"
INST_CMPRS_RATIO = 13.2383
INST_CMPRS_QUALITY = 0
INST_CMPRS_QUANTZ_TBL_ID = 0
INSTRUMENT_TEMPERATURE = 11.6418
LENS_TEMPERATURE = 9.195
MACROPIXEL_SIZE = 4
MISSING_FRAMES = 0
PIXEL_SUBSAMPLING_FLAG = N
SIGNAL_CHAIN_ID = 2
/* RADIOMETRIC DATA ELEMENTS */
BANDWIDTH = 81.0
CENTER_FILTER_WAVELENGTH = 955.5
RADIANCE_OFFSET = 1.81299
RADIANCE_SCALING_FACTOR = 0.00203883
REFLECTANCE_SCALING_FACTOR = 0.000189164
MEX:REFLECTANCE_OFFSET = 0.16821
/* IMAGE OBJECT DEFINITIONS */
OBJECT = IMAGE
  INTERCHANGE_FORMAT = BINARY
  LINES = 4097
  LINE_SAMPLES = 2702
  SAMPLE_TYPE = UNSIGNED_INTEGER
  SAMPLE_BITS = 8
  BANDS = 1
  BAND_STORAGE_TYPE = BAND_SEQUENTIAL
  MAXIMUM = 254
  MEAN = 114.864
  MINIMUM = 5
  STANDARD_DEVIATION = 42.0126
END_OBJECT = IMAGE
/* MAP OBJECT DEFINITIONS */
OBJECT = IMAGE_MAP_PROJECTION
  ^DATA_SET_MAP_PROJECTION_CATALOG= "DSMAP.CAT"
  A_AXIS_RADIUS = 3396.0
  B_AXIS_RADIUS = 3396.0
  C_AXIS_RADIUS = 3396.0
  CENTER_LATITUDE = 0.0
  CENTER_LONGITUDE = 96.0
  COORDINATE_SYSTEM_NAME = PLANETOGRAPHIC
  COORDINATE_SYSTEM_TYPE = "BODY-FIXED ROTATING"
  EASTERNMOST_LONGITUDE = 102.066
  FIRST_STANDARD_PARALLEL = "N/A"
  LINE_FIRST_PIXEL = 1
  LINE_LAST_PIXEL = 4097
  LINE_PROJECTION_OFFSET = -93896.625
  MAP_PROJECTION_ROTATION = 0.0
  MAP_PROJECTION_TYPE = SINUSOIDAL
  MAP_RESOLUTION = 1185.42760773333
  MAP_SCALE = 0.05
  MAXIMUM_LATITUDE = -79.21680000000001
  MINIMUM_LATITUDE = -82.6126
  POSITIVE_LONGITUDE_DIRECTION = EAST
  REFERENCE_LATITUDE = "N/A"
  REFERENCE_LONGITUDE = "N/A"
  SAMPLE_FIRST_PIXEL = 1
  SAMPLE_LAST_PIXEL = 2702
  SAMPLE_PROJECTION_OFFSET = 1395.375
  SECOND_STANDARD_PARALLEL = "N/A"
  WESTERNMOST_LONGITUDE = 87.5471
END_OBJECT = IMAGE_MAP_PROJECTION
END
