PDS_VERSION_ID = PDS3
/* FILE DATA ELEMENTS */
RECORD_TYPE = UNDEFINED
/* POINTERS TO DATA OBJECTS */
^IMAGE = ("H4477_0001_BL4.TIF")
/* IDENTIFICATION DATA ELEMENTS */
DATA_SET_ID = "MEX-M-HRSC-4-REFDR-MAPPROJECT-EXT1-V4.0"
DATA_SET_NAME = "MARS EXPRESS HRSC MAP PROJECTED REFDR EXTENSION1 V4.0"
DETECTOR_ID = MEX_HRSC_BLUE
EVENT_TYPE = "MARS-REGIONAL-MAPPING-Im-Gl"
INSTRUMENT_HOST_ID = MEX
INSTRUMENT_HOST_NAME = "MARS EXPRESS"
INSTRUMENT_ID = HRSC
INSTRUMENT_NAME = "HIGH RESOLUTION STEREO CAMERA"
MISSION_NAME = "MARS EXPRESS"
MISSION_PHASE_NAME = ME_Phase_8
PROCESSING_LEVEL_ID = 4
PRODUCT_CREATION_TIME = 2023-02-10T03:49:22.000Z
PRODUCT_ID = "H4477_0001_BL4.TIF"
RELEASE_ID = 0006
REVISION_ID = 0000
/* QUALITY DATA ELEMENTS */
DATA_QUALITY_ID = 1
DATA_QUALITY_DESC = "Data calculated based on original SPICE kernels"
/* TIME DATA ELEMENTS */
SPACECRAFT_CLOCK_START_COUNT = "1/0131267276.08253"
SPACECRAFT_CLOCK_STOP_COUNT = "1/0131267460.32679"
START_TIME = 2007-06-30T07:08:21.961Z
STOP_TIME = 2007-06-30T07:10:26.308Z
/* ORBITAL DATA ELEMENTS */
ASCENDING_NODE_LONGITUDE = 134.63
MAXIMUM_RESOLUTION = 0.0473
FOOTPRINT_POINT_LATITUDE = (-63.359,-63.33,-63.2978,-63.2506, -63.2494,-63.2307,-62.9963,-62.8396, -62.5277,-62.3714,-62.137,-61.9025, -61.5898,-61.2772,-60.9648,-60.7245, -60.5628,-60.4012,-60.2383,-60.0754, -59.9132,-59.7514,-59.5896,-59.4281, -59.2679,-59.0256,-58.783,-58.6212, -58.4598,-58.2982,-58.1334,-57.9662, -57.7992,-57.6321,-57.4654,-57.2146, -57.0473,-56.8804,-56.7137,-56.4636, -56.297,-56.1304,-55.8725,-55.6145, -55.4425,-55.1849,-55.099,-55.0707, -55.0852,-55.1026,-55.1173,-55.136, -55.1541,-55.1548,-55.1558,-55.4143, -55.6733,-55.8463,-56.0179,-56.1908, -56.3591,-56.5264,-56.6934,-56.8607, -57.028,-57.1954,-57.4467,-57.6143, -57.7816,-57.9494,-58.117,-58.2848, -58.4485,-58.6105,-58.8533,-59.0966, -59.3405,-59.5027,-59.7462,-59.9896, -60.152,-60.3957,-60.6395,-60.8021, -61.0444,-61.2013,-61.3582,-61.5937, -61.8294,-61.9866,-62.1434,-62.3004, -62.4575,-62.6143,-62.7713,-62.9283, -63.0853,-63.2423,-63.3209,-63.359)
FOOTPRINT_POINT_LONGITUDE = (111.477,110.83,110.181,109.325,109.304 ,109.232,109.296,109.337,109.421,109.46 ,109.519,109.576,109.65,109.722,109.792 ,109.845,109.881,109.916,109.946, 109.976,110.008,110.04,110.072,110.105, 110.141,110.187,110.231,110.26,110.289, 110.317,110.346,110.374,110.403,110.431 ,110.459,110.498,110.523,110.549, 110.574,110.612,110.637,110.661,110.698 ,110.735,110.759,110.794,110.806,110.81 ,111.107,111.481,111.817,112.282, 112.782,112.801,112.807,112.777,112.745 ,112.724,112.705,112.683,112.66,112.639 ,112.618,112.596,112.574,112.551, 112.517,112.494,112.471,112.447,112.424 ,112.4,112.375,112.351,112.316,112.279, 112.24,112.215,112.176,112.137,112.11, 112.07,112.028,112.0,111.957,111.929, 111.901,111.857,111.812,111.782,111.752 ,111.722,111.691,111.66,111.629,111.597 ,111.564,111.532,111.515,111.477)
ORBIT_NUMBER = 4477
ORBITAL_ECCENTRICITY = 0.57
ORBITAL_INCLINATION = 86.69
ORBITAL_SEMIMAJOR_AXIS = 8542.23
PERIAPSIS_ALTITUDE = 292.03
PERIAPSIS_ARGUMENT_ANGLE = 289.76
PERIAPSIS_TIME = 2007-06-30T07:06:46.000Z
SPACECRAFT_ORIENTATION = (0.0,1.0,0.0)
^MEX_ORIENTATION_DESC = "MEX_ORIENTATION_DESC.TXT"
SPACECRAFT_POINTING_MODE = ACROSSTRACK
^MEX_POINTING_DESC = "MEX_POINTING_DESC.TXT"
RIGHT_ASCENSION = -1e+32
DECLINATION = -1e+32
OFFSET_ANGLE = 0.2
SPACECRAFT_SOLAR_DISTANCE = 2.07379e+08
TARGET_NAME = MARS
/* CAMERA DATA ELEMENTS */
DETECTOR_TEMPERATURE = 18.9822
FOCAL_PLANE_TEMPERATURE = 8.9911
INST_CMPRS_NAME = "DISCRETE COSINE TRANSFORMATION (DCT)"
INST_CMPRS_RATIO = 6.7972
INST_CMPRS_QUALITY = 0
INST_CMPRS_QUANTZ_TBL_ID = 0
INSTRUMENT_TEMPERATURE = 12.6613
LENS_TEMPERATURE = 9.195
MACROPIXEL_SIZE = 4
MISSING_FRAMES = 0
PIXEL_SUBSAMPLING_FLAG = N
SIGNAL_CHAIN_ID = 2
/* RADIOMETRIC DATA ELEMENTS */
BANDWIDTH = 76.0
CENTER_FILTER_WAVELENGTH = 444.0
RADIANCE_OFFSET = 0.973766
RADIANCE_SCALING_FACTOR = 0.000995011
REFLECTANCE_SCALING_FACTOR = 4.39657e-05
MEX:REFLECTANCE_OFFSET = 0.043027
/* IMAGE OBJECT DEFINITIONS */
OBJECT = IMAGE
  INTERCHANGE_FORMAT = BINARY
  LINES = 9811
  LINE_SAMPLES = 2183
  SAMPLE_TYPE = UNSIGNED_INTEGER
  SAMPLE_BITS = 8
  BANDS = 1
  BAND_STORAGE_TYPE = BAND_SEQUENTIAL
  MAXIMUM = 253
  MEAN = 124.923
  MINIMUM = 1
  STANDARD_DEVIATION = 33.8413
END_OBJECT = IMAGE
/* MAP OBJECT DEFINITIONS */
OBJECT = IMAGE_MAP_PROJECTION
  ^DATA_SET_MAP_PROJECTION_CATALOG= "DSMAP.CAT"
  A_AXIS_RADIUS = 3396.0
  B_AXIS_RADIUS = 3396.0
  C_AXIS_RADIUS = 3396.0
  CENTER_LATITUDE = 0.0
  CENTER_LONGITUDE = 111.0
  COORDINATE_SYSTEM_NAME = PLANETOGRAPHIC
  COORDINATE_SYSTEM_TYPE = "BODY-FIXED ROTATING"
  EASTERNMOST_LONGITUDE = 112.807
  FIRST_STANDARD_PARALLEL = "N/A"
  LINE_FIRST_PIXEL = 1
  LINE_LAST_PIXEL = 9811
  LINE_PROJECTION_OFFSET = -65281.375
  MAP_PROJECTION_ROTATION = 0.0
  MAP_PROJECTION_TYPE = SINUSOIDAL
  MAP_RESOLUTION = 1185.42760773333
  MAP_SCALE = 0.05
  MAXIMUM_LATITUDE = -55.0707
  MINIMUM_LATITUDE = -63.359
  POSITIVE_LONGITUDE_DIRECTION = EAST
  REFERENCE_LATITUDE = "N/A"
  REFERENCE_LONGITUDE = "N/A"
  SAMPLE_FIRST_PIXEL = 1
  SAMPLE_LAST_PIXEL = 2183
  SAMPLE_PROJECTION_OFFSET = 952.625
  SECOND_STANDARD_PARALLEL = "N/A"
  WESTERNMOST_LONGITUDE = 109.232
END_OBJECT = IMAGE_MAP_PROJECTION
END
