PDS_VERSION_ID = PDS3
/* FILE DATA ELEMENTS */
RECORD_TYPE = UNDEFINED
/* POINTERS TO DATA OBJECTS */
^IMAGE = ("H4485_0000_S24.TIF")
/* IDENTIFICATION DATA ELEMENTS */
DATA_SET_ID = "MEX-M-HRSC-4-REFDR-MAPPROJECT-EXT1-V4.0"
DATA_SET_NAME = "MARS EXPRESS HRSC MAP PROJECTED REFDR EXTENSION1 V4.0"
DETECTOR_ID = MEX_HRSC_S2
EVENT_TYPE = "MARS-REGIONAL-MAPPING-Gl-Eo-La"
INSTRUMENT_HOST_ID = MEX
INSTRUMENT_HOST_NAME = "MARS EXPRESS"
INSTRUMENT_ID = HRSC
INSTRUMENT_NAME = "HIGH RESOLUTION STEREO CAMERA"
MISSION_NAME = "MARS EXPRESS"
MISSION_PHASE_NAME = ME_Phase_8
PROCESSING_LEVEL_ID = 4
PRODUCT_CREATION_TIME = 2023-02-10T03:49:22.000Z
PRODUCT_ID = "H4485_0000_S24.TIF"
RELEASE_ID = 0006
REVISION_ID = 0000
/* QUALITY DATA ELEMENTS */
DATA_QUALITY_ID = 1
DATA_QUALITY_DESC = "Data calculated based on original SPICE kernels"
/* TIME DATA ELEMENTS */
SPACECRAFT_CLOCK_START_COUNT = "1/0131460394.09051"
SPACECRAFT_CLOCK_STOP_COUNT = "1/0131460598.50325"
START_TIME = 2007-07-02T12:46:38.240Z
STOP_TIME = 2007-07-02T12:49:03.819Z
/* ORBITAL DATA ELEMENTS */
ASCENDING_NODE_LONGITUDE = 134.46
MAXIMUM_RESOLUTION = 0.0277
FOOTPRINT_POINT_LATITUDE = (-86.8723,-86.6194,-86.4396,-86.1192, -85.9332,-85.7097,-85.6978,-85.705, -85.7761,-85.868,-85.941,-85.9786, -86.0068,-86.0252,-86.0356,-86.0312, -86.0159,-85.991,-85.9566,-85.8869, -85.8293,-85.7627,-85.6905,-85.622, -85.548,-85.4274,-85.341,-85.2018, -85.1045,-84.951,-84.7895,-84.6775, -84.5026,-84.3827,-84.194,-84.0645, -83.9376,-83.7423,-83.6093,-83.4743, -83.3374,-83.1985,-82.9888,-82.7778, -82.5671,-82.4253,-82.2815,-81.9929, -81.7726,-81.6988,-81.6695,-81.7944, -81.902,-82.0358,-82.1266,-82.1304, -82.1321,-82.2901,-82.4478,-82.6833, -82.8398,-83.072,-83.3032,-83.4566, -83.6142,-83.7707,-84.0037,-84.2341, -84.3865,-84.5378,-84.6872,-84.8347, -85.0537,-85.197,-85.3387,-85.4779, -85.6145,-85.816,-85.9463,-86.0731, -86.1964,-86.3173,-86.4328,-86.6469, -86.7513,-86.9015,-87.0017,-87.0916, -87.1702,-87.2651,-87.312,-87.356, -87.3673,-87.3568,-87.3138,-87.2411, -87.1398,-87.0141,-86.9667,-86.8723)
FOOTPRINT_POINT_LONGITUDE = (290.184,292.916,294.59,297.152,298.439 ,299.829,299.898,301.251,303.674, 307.437,311.397,314.112,316.886,319.714 ,322.473,326.725,329.555,332.358, 335.118,339.175,341.797,344.351,346.735 ,348.742,350.688,353.487,355.271, 357.838,359.46,361.778,363.958,365.338, 367.308,368.552,370.34,371.471,372.533, 374.05,375.01,375.932,376.817,377.667, 378.876,379.997,381.041,381.705,382.345 ,383.554,384.407,384.681,384.788, 386.508,388.138,390.407,392.141,392.217 ,392.243,391.83,391.397,390.713,390.231 ,389.476,388.665,388.092,387.468, 386.818,385.778,384.656,383.856,383.008 ,382.119,381.185,379.67,378.59,377.44, 376.228,374.942,372.835,371.326,369.73, 368.035,366.185,364.257,360.168,357.686 ,353.643,350.406,346.962,343.332, 337.563,333.516,327.23,322.964,316.576, 310.321,304.374,298.785,293.642,292.021 ,290.184)
ORBIT_NUMBER = 4485
ORBITAL_ECCENTRICITY = 0.57
ORBITAL_INCLINATION = 86.69
ORBITAL_SEMIMAJOR_AXIS = 8540.16
PERIAPSIS_ALTITUDE = 292.47
PERIAPSIS_ARGUMENT_ANGLE = 288.39
PERIAPSIS_TIME = 2007-07-02T12:52:19.000Z
SPACECRAFT_ORIENTATION = (0.0,1.0,0.0)
^MEX_ORIENTATION_DESC = "MEX_ORIENTATION_DESC.TXT"
SPACECRAFT_POINTING_MODE = NADIR
^MEX_POINTING_DESC = "MEX_POINTING_DESC.TXT"
RIGHT_ASCENSION = -1e+32
DECLINATION = -1e+32
OFFSET_ANGLE = -1e+32
SPACECRAFT_SOLAR_DISTANCE = 2.07507e+08
TARGET_NAME = MARS
/* CAMERA DATA ELEMENTS */
DETECTOR_TEMPERATURE = 18.5744
FOCAL_PLANE_TEMPERATURE = 8.7872
INST_CMPRS_NAME = "DISCRETE COSINE TRANSFORMATION (DCT)"
INST_CMPRS_RATIO = 11.9237
INST_CMPRS_QUALITY = 0
INST_CMPRS_QUANTZ_TBL_ID = 0
INSTRUMENT_TEMPERATURE = 12.8652
LENS_TEMPERATURE = 9.3989
MACROPIXEL_SIZE = 2
MISSING_FRAMES = 0
PIXEL_SUBSAMPLING_FLAG = N
SIGNAL_CHAIN_ID = 1
/* RADIOMETRIC DATA ELEMENTS */
BANDWIDTH = 178.0
CENTER_FILTER_WAVELENGTH = 679.0
RADIANCE_OFFSET = 9.34826
RADIANCE_SCALING_FACTOR = 0.0293818
REFLECTANCE_SCALING_FACTOR = 0.000669999
MEX:REFLECTANCE_OFFSET = 0.21317
/* IMAGE OBJECT DEFINITIONS */
OBJECT = IMAGE
  INTERCHANGE_FORMAT = BINARY
  LINES = 15174
  LINE_SAMPLES = 18577
  SAMPLE_TYPE = UNSIGNED_INTEGER
  SAMPLE_BITS = 8
  BANDS = 1
  BAND_STORAGE_TYPE = BAND_SEQUENTIAL
  MAXIMUM = 254
  MEAN = 134.836
  MINIMUM = 1
  STANDARD_DEVIATION = 60.1942
END_OBJECT = IMAGE
/* MAP OBJECT DEFINITIONS */
OBJECT = IMAGE_MAP_PROJECTION
  ^DATA_SET_MAP_PROJECTION_CATALOG= "DSMAP.CAT"
  A_AXIS_RADIUS = 3396.0
  B_AXIS_RADIUS = 3396.0
  C_AXIS_RADIUS = 3396.0
  CENTER_LATITUDE = -90.0
  CENTER_LONGITUDE = 0.0
  COORDINATE_SYSTEM_NAME = PLANETOGRAPHIC
  COORDINATE_SYSTEM_TYPE = "BODY-FIXED ROTATING"
  EASTERNMOST_LONGITUDE = 32.243
  FIRST_STANDARD_PARALLEL = "N/A"
  LINE_FIRST_PIXEL = 1
  LINE_LAST_PIXEL = 15174
  LINE_PROJECTION_OFFSET = 17956.25
  MAP_PROJECTION_ROTATION = 0.0
  MAP_PROJECTION_TYPE = STEREOGRAPHIC
  MAP_RESOLUTION = 2370.85521546667
  MAP_SCALE = 0.025
  MAXIMUM_LATITUDE = -81.6695
  MINIMUM_LATITUDE = -87.3673
  POSITIVE_LONGITUDE_DIRECTION = EAST
  REFERENCE_LATITUDE = "N/A"
  REFERENCE_LONGITUDE = "N/A"
  SAMPLE_FIRST_PIXEL = 1
  SAMPLE_LAST_PIXEL = 18577
  SAMPLE_PROJECTION_OFFSET = 8601.75
  SECOND_STANDARD_PARALLEL = "N/A"
  WESTERNMOST_LONGITUDE = -69.816
END_OBJECT = IMAGE_MAP_PROJECTION
END
