PDS_VERSION_ID = PDS3
/* FILE DATA ELEMENTS */
RECORD_TYPE = UNDEFINED
/* POINTERS TO DATA OBJECTS */
^IMAGE = ("H4488_0000_BL4.TIF")
/* IDENTIFICATION DATA ELEMENTS */
DATA_SET_ID = "MEX-M-HRSC-4-REFDR-MAPPROJECT-EXT1-V4.0"
DATA_SET_NAME = "MARS EXPRESS HRSC MAP PROJECTED REFDR EXTENSION1 V4.0"
DETECTOR_ID = MEX_HRSC_BLUE
EVENT_TYPE = "MARS-REGIONAL-MAPPING-Im-Pf"
INSTRUMENT_HOST_ID = MEX
INSTRUMENT_HOST_NAME = "MARS EXPRESS"
INSTRUMENT_ID = HRSC
INSTRUMENT_NAME = "HIGH RESOLUTION STEREO CAMERA"
MISSION_NAME = "MARS EXPRESS"
MISSION_PHASE_NAME = ME_Phase_8
PROCESSING_LEVEL_ID = 4
PRODUCT_CREATION_TIME = 2023-02-10T03:49:22.000Z
PRODUCT_ID = "H4488_0000_BL4.TIF"
RELEASE_ID = 0006
REVISION_ID = 0000
/* QUALITY DATA ELEMENTS */
DATA_QUALITY_ID = 1
DATA_QUALITY_DESC = "Data calculated based on original SPICE kernels"
/* TIME DATA ELEMENTS */
SPACECRAFT_CLOCK_START_COUNT = "1/0131533532.08270"
SPACECRAFT_CLOCK_STOP_COUNT = "1/0131533725.57092"
START_TIME = 2007-07-03T09:06:01.048Z
STOP_TIME = 2007-07-03T09:08:00.801Z
/* ORBITAL DATA ELEMENTS */
ASCENDING_NODE_LONGITUDE = 134.4
MAXIMUM_RESOLUTION = 0.1084
FOOTPRINT_POINT_LATITUDE = (-55.488,-55.4782,-55.4662,-55.4473, -55.4366,-55.4136,-55.4128,-55.3971, -55.2564,-55.0455,-54.7651,-54.4842, -54.3437,-54.0628,-53.9215,-53.7803, -53.4991,-53.2194,-53.0788,-52.868, -52.5885,-52.3093,-52.0304,-51.7526, -51.5962,-51.4306,-51.2658,-51.1005, -50.9346,-50.7692,-50.6036,-50.4382, -50.2729,-50.1075,-49.9425,-49.6949, -49.5301,-49.3652,-49.2006,-49.036, -48.8714,-48.7071,-48.5432,-48.3795, -48.1332,-47.9683,-47.8046,-47.7228, -47.7208,-47.7336,-47.7472,-47.7543, -47.7638,-47.7725,-47.78,-47.7804, -47.7827,-48.0286,-48.1926,-48.3568, -48.5214,-48.6864,-48.8511,-49.0159, -49.1805,-49.3453,-49.5104,-49.7585, -49.9238,-50.0894,-50.2549,-50.4204, -50.6691,-50.9182,-51.0842,-51.2501, -51.4161,-51.5824,-51.7485,-51.8924, -52.1714,-52.451,-52.801,-53.0812, -53.3618,-53.5024,-53.6436,-53.7847, -53.9252,-54.0657,-54.2063,-54.4178, -54.5588,-54.6997,-54.8403,-54.9813, -55.1929,-55.4047,-55.4754,-55.488)
FOOTPRINT_POINT_LONGITUDE = (112.057,111.739,111.383,110.878, 110.617,110.093,110.075,110.034,110.052 ,110.078,110.113,110.146,110.162, 110.193,110.206,110.218,110.246,110.275 ,110.288,110.306,110.333,110.359, 110.384,110.411,110.426,110.441,110.458 ,110.473,110.486,110.5,110.513,110.525, 110.538,110.55,110.562,110.579,110.591, 110.602,110.613,110.624,110.634,110.645 ,110.655,110.666,110.68,110.687,110.697 ,110.701,110.701,111.047,111.453, 111.686,112.015,112.383,112.732,112.751 ,112.764,112.747,112.736,112.724, 112.712,112.699,112.686,112.674,112.662 ,112.65,112.638,112.618,112.605,112.592 ,112.579,112.566,112.546,112.525, 112.512,112.499,112.485,112.472,112.458 ,112.446,112.423,112.398,112.366,112.34 ,112.313,112.299,112.283,112.268, 112.254,112.24,112.227,112.204,112.189, 112.174,112.161,112.146,112.124,112.1, 112.092,112.057)
ORBIT_NUMBER = 4488
ORBITAL_ECCENTRICITY = 0.57
ORBITAL_INCLINATION = 86.69
ORBITAL_SEMIMAJOR_AXIS = 8540.12
PERIAPSIS_ALTITUDE = 292.13
PERIAPSIS_ARGUMENT_ANGLE = 287.85
PERIAPSIS_TIME = 2007-07-03T09:01:56.000Z
SPACECRAFT_ORIENTATION = (0.0,1.0,0.0)
^MEX_ORIENTATION_DESC = "MEX_ORIENTATION_DESC.TXT"
SPACECRAFT_POINTING_MODE = NADIR
^MEX_POINTING_DESC = "MEX_POINTING_DESC.TXT"
RIGHT_ASCENSION = -1e+32
DECLINATION = -1e+32
OFFSET_ANGLE = -1e+32
SPACECRAFT_SOLAR_DISTANCE = 2.07558e+08
TARGET_NAME = MARS
/* CAMERA DATA ELEMENTS */
DETECTOR_TEMPERATURE = 17.9627
FOCAL_PLANE_TEMPERATURE = 8.7872
INST_CMPRS_NAME = "DISCRETE COSINE TRANSFORMATION (DCT)"
INST_CMPRS_RATIO = 33.6577
INST_CMPRS_QUALITY = 0
INST_CMPRS_QUANTZ_TBL_ID = 0
INSTRUMENT_TEMPERATURE = 11.4379
LENS_TEMPERATURE = 9.195
MACROPIXEL_SIZE = 8
MISSING_FRAMES = 0
PIXEL_SUBSAMPLING_FLAG = N
SIGNAL_CHAIN_ID = 2
/* RADIOMETRIC DATA ELEMENTS */
BANDWIDTH = 76.0
CENTER_FILTER_WAVELENGTH = 444.0
RADIANCE_OFFSET = 1.17251
RADIANCE_SCALING_FACTOR = 0.00104672
REFLECTANCE_SCALING_FACTOR = 4.63302e-05
MEX:REFLECTANCE_OFFSET = 0.0518981
/* IMAGE OBJECT DEFINITIONS */
OBJECT = IMAGE
  INTERCHANGE_FORMAT = BINARY
  LINES = 4600
  LINE_SAMPLES = 1044
  SAMPLE_TYPE = UNSIGNED_INTEGER
  SAMPLE_BITS = 8
  BANDS = 1
  BAND_STORAGE_TYPE = BAND_SEQUENTIAL
  MAXIMUM = 255
  MEAN = 145.752
  MINIMUM = 9
  STANDARD_DEVIATION = 30.2076
END_OBJECT = IMAGE
/* MAP OBJECT DEFINITIONS */
OBJECT = IMAGE_MAP_PROJECTION
  ^DATA_SET_MAP_PROJECTION_CATALOG= "DSMAP.CAT"
  A_AXIS_RADIUS = 3396.0
  B_AXIS_RADIUS = 3396.0
  C_AXIS_RADIUS = 3396.0
  CENTER_LATITUDE = 0.0
  CENTER_LONGITUDE = 111.0
  COORDINATE_SYSTEM_NAME = PLANETOGRAPHIC
  COORDINATE_SYSTEM_TYPE = "BODY-FIXED ROTATING"
  EASTERNMOST_LONGITUDE = 112.764
  FIRST_STANDARD_PARALLEL = "N/A"
  LINE_FIRST_PIXEL = 1
  LINE_LAST_PIXEL = 4600
  LINE_PROJECTION_OFFSET = -28283.3125
  MAP_PROJECTION_ROTATION = 0.0
  MAP_PROJECTION_TYPE = SINUSOIDAL
  MAP_RESOLUTION = 592.713803866667
  MAP_SCALE = 0.1
  MAXIMUM_LATITUDE = -47.7208
  MINIMUM_LATITUDE = -55.488
  POSITIVE_LONGITUDE_DIRECTION = EAST
  REFERENCE_LATITUDE = "N/A"
  REFERENCE_LONGITUDE = "N/A"
  SAMPLE_FIRST_PIXEL = 1
  SAMPLE_LAST_PIXEL = 1044
  SAMPLE_PROJECTION_OFFSET = 336.3125
  SECOND_STANDARD_PARALLEL = "N/A"
  WESTERNMOST_LONGITUDE = 110.034
END_OBJECT = IMAGE_MAP_PROJECTION
END
