PDS_VERSION_ID = PDS3
/* FILE DATA ELEMENTS */
RECORD_TYPE = UNDEFINED
/* POINTERS TO DATA OBJECTS */
^IMAGE = ("H4488_0000_RE4.TIF")
/* IDENTIFICATION DATA ELEMENTS */
DATA_SET_ID = "MEX-M-HRSC-4-REFDR-MAPPROJECT-EXT1-V4.0"
DATA_SET_NAME = "MARS EXPRESS HRSC MAP PROJECTED REFDR EXTENSION1 V4.0"
DETECTOR_ID = MEX_HRSC_RED
EVENT_TYPE = "MARS-REGIONAL-MAPPING-Im-Pf"
INSTRUMENT_HOST_ID = MEX
INSTRUMENT_HOST_NAME = "MARS EXPRESS"
INSTRUMENT_ID = HRSC
INSTRUMENT_NAME = "HIGH RESOLUTION STEREO CAMERA"
MISSION_NAME = "MARS EXPRESS"
MISSION_PHASE_NAME = ME_Phase_8
PROCESSING_LEVEL_ID = 4
PRODUCT_CREATION_TIME = 2023-02-10T03:49:22.000Z
PRODUCT_ID = "H4488_0000_RE4.TIF"
RELEASE_ID = 0006
REVISION_ID = 0000
/* QUALITY DATA ELEMENTS */
DATA_QUALITY_ID = 1
DATA_QUALITY_DESC = "Data calculated based on original SPICE kernels"
/* TIME DATA ELEMENTS */
SPACECRAFT_CLOCK_START_COUNT = "1/0131533532.08270"
SPACECRAFT_CLOCK_STOP_COUNT = "1/0131533725.57092"
START_TIME = 2007-07-03T09:05:41.461Z
STOP_TIME = 2007-07-03T09:07:37.309Z
/* ORBITAL DATA ELEMENTS */
ASCENDING_NODE_LONGITUDE = 134.4
MAXIMUM_RESOLUTION = 0.1106
FOOTPRINT_POINT_LATITUDE = (-55.5366,-55.5207,-55.5094,-55.4949, -55.474,-55.4609,-55.46,-55.4019, -55.1234,-54.916,-54.6348,-54.4895, -54.345,-54.128,-53.9808,-53.8318, -53.6838,-53.5386,-53.3943,-53.2513, -53.1048,-52.8838,-52.7394,-52.5952, -52.3789,-52.2349,-52.019,-51.736, -51.5228,-51.241,-51.0265,-50.8829, -50.7399,-50.5959,-50.4523,-50.3089, -50.1368,-49.9659,-49.7939,-49.6229, -49.4508,-49.194,-49.0222,-48.7648, -48.5947,-48.4248,-48.1672,-47.9913, -47.8203,-47.7349,-47.7164,-47.7345, -47.7427,-47.7603,-47.771,-47.7783, -47.7787,-47.781,-47.9518,-48.2082, -48.3791,-48.5515,-48.726,-48.8978, -49.1539,-49.3251,-49.4964,-49.6687, -49.9273,-50.0995,-50.2714,-50.4313, -50.6471,-50.8638,-51.0085,-51.1517, -51.2943,-51.4376,-51.6527,-51.9378, -52.0818,-52.2979,-52.4423,-52.6589, -52.8756,-53.0201,-53.1644,-53.3089, -53.4545,-53.6022,-53.8234,-54.0398, -54.1841,-54.4025,-54.5481,-54.907, -55.1868,-55.3976,-55.4684,-55.5366)
FOOTPRINT_POINT_LONGITUDE = (112.033,111.535,111.223,110.855, 110.377,110.101,110.083,110.049,110.084 ,110.11,110.145,110.162,110.178,110.202 ,110.217,110.231,110.245,110.259, 110.275,110.29,110.304,110.323,110.337, 110.351,110.372,110.386,110.406,110.434 ,110.454,110.481,110.5,110.512,110.524, 110.535,110.547,110.558,110.571,110.584 ,110.596,110.608,110.62,110.638,110.649 ,110.666,110.678,110.689,110.704, 110.713,110.723,110.728,110.729,111.178 ,111.403,111.93,112.382,112.702,112.721 ,112.734,112.722,112.705,112.693,112.68 ,112.666,112.654,112.636,112.624, 112.611,112.598,112.578,112.564,112.551 ,112.539,112.522,112.504,112.492, 112.481,112.47,112.458,112.441,112.419, 112.406,112.388,112.375,112.356,112.336 ,112.323,112.31,112.296,112.282,112.266 ,112.242,112.221,112.207,112.185, 112.169,112.134,112.104,112.082,112.073 ,112.033)
ORBIT_NUMBER = 4488
ORBITAL_ECCENTRICITY = 0.57
ORBITAL_INCLINATION = 86.69
ORBITAL_SEMIMAJOR_AXIS = 8540.12
PERIAPSIS_ALTITUDE = 292.13
PERIAPSIS_ARGUMENT_ANGLE = 287.85
PERIAPSIS_TIME = 2007-07-03T09:01:56.000Z
SPACECRAFT_ORIENTATION = (0.0,1.0,0.0)
^MEX_ORIENTATION_DESC = "MEX_ORIENTATION_DESC.TXT"
SPACECRAFT_POINTING_MODE = NADIR
^MEX_POINTING_DESC = "MEX_POINTING_DESC.TXT"
RIGHT_ASCENSION = -1e+32
DECLINATION = -1e+32
OFFSET_ANGLE = -1e+32
SPACECRAFT_SOLAR_DISTANCE = 2.07558e+08
TARGET_NAME = MARS
/* CAMERA DATA ELEMENTS */
DETECTOR_TEMPERATURE = 18.5744
FOCAL_PLANE_TEMPERATURE = 8.7872
INST_CMPRS_NAME = "DISCRETE COSINE TRANSFORMATION (DCT)"
INST_CMPRS_RATIO = 30.9516
INST_CMPRS_QUALITY = 0
INST_CMPRS_QUANTZ_TBL_ID = 0
INSTRUMENT_TEMPERATURE = 11.4379
LENS_TEMPERATURE = 9.195
MACROPIXEL_SIZE = 8
MISSING_FRAMES = 0
PIXEL_SUBSAMPLING_FLAG = N
SIGNAL_CHAIN_ID = 2
/* RADIOMETRIC DATA ELEMENTS */
BANDWIDTH = 48.0
CENTER_FILTER_WAVELENGTH = 748.0
RADIANCE_OFFSET = 2.52708
RADIANCE_SCALING_FACTOR = 0.00426898
REFLECTANCE_SCALING_FACTOR = 0.00041969
MEX:REFLECTANCE_OFFSET = 0.248442
/* IMAGE OBJECT DEFINITIONS */
OBJECT = IMAGE
  INTERCHANGE_FORMAT = BINARY
  LINES = 4600
  LINE_SAMPLES = 1044
  SAMPLE_TYPE = UNSIGNED_INTEGER
  SAMPLE_BITS = 8
  BANDS = 1
  BAND_STORAGE_TYPE = BAND_SEQUENTIAL
  MAXIMUM = 255
  MEAN = 133.815
  MINIMUM = 1
  STANDARD_DEVIATION = 38.2299
END_OBJECT = IMAGE
/* MAP OBJECT DEFINITIONS */
OBJECT = IMAGE_MAP_PROJECTION
  ^DATA_SET_MAP_PROJECTION_CATALOG= "DSMAP.CAT"
  A_AXIS_RADIUS = 3396.0
  B_AXIS_RADIUS = 3396.0
  C_AXIS_RADIUS = 3396.0
  CENTER_LATITUDE = 0.0
  CENTER_LONGITUDE = 111.0
  COORDINATE_SYSTEM_NAME = PLANETOGRAPHIC
  COORDINATE_SYSTEM_TYPE = "BODY-FIXED ROTATING"
  EASTERNMOST_LONGITUDE = 112.734
  FIRST_STANDARD_PARALLEL = "N/A"
  LINE_FIRST_PIXEL = 1
  LINE_LAST_PIXEL = 4600
  LINE_PROJECTION_OFFSET = -28283.3125
  MAP_PROJECTION_ROTATION = 0.0
  MAP_PROJECTION_TYPE = SINUSOIDAL
  MAP_RESOLUTION = 592.713803866667
  MAP_SCALE = 0.1
  MAXIMUM_LATITUDE = -47.7164
  MINIMUM_LATITUDE = -55.5366
  POSITIVE_LONGITUDE_DIRECTION = EAST
  REFERENCE_LATITUDE = "N/A"
  REFERENCE_LONGITUDE = "N/A"
  SAMPLE_FIRST_PIXEL = 1
  SAMPLE_LAST_PIXEL = 1044
  SAMPLE_PROJECTION_OFFSET = 336.3125
  SECOND_STANDARD_PARALLEL = "N/A"
  WESTERNMOST_LONGITUDE = 110.049
END_OBJECT = IMAGE_MAP_PROJECTION
END
