PDS_VERSION_ID = PDS3
/* FILE DATA ELEMENTS */
RECORD_TYPE = UNDEFINED
/* POINTERS TO DATA OBJECTS */
^IMAGE = ("H4489_0000_P24.TIF")
/* IDENTIFICATION DATA ELEMENTS */
DATA_SET_ID = "MEX-M-HRSC-4-REFDR-MAPPROJECT-EXT1-V4.0"
DATA_SET_NAME = "MARS EXPRESS HRSC MAP PROJECTED REFDR EXTENSION1 V4.0"
DETECTOR_ID = MEX_HRSC_P2
EVENT_TYPE = "MARS-REGIONAL-MAPPING-Gl-Pf-La"
INSTRUMENT_HOST_ID = MEX
INSTRUMENT_HOST_NAME = "MARS EXPRESS"
INSTRUMENT_ID = HRSC
INSTRUMENT_NAME = "HIGH RESOLUTION STEREO CAMERA"
MISSION_NAME = "MARS EXPRESS"
MISSION_PHASE_NAME = ME_Phase_8
PROCESSING_LEVEL_ID = 4
PRODUCT_CREATION_TIME = 2023-02-10T03:49:22.000Z
PRODUCT_ID = "H4489_0000_P24.TIF"
RELEASE_ID = 0006
REVISION_ID = 0000
/* QUALITY DATA ELEMENTS */
DATA_QUALITY_ID = 1
DATA_QUALITY_DESC = "Data calculated based on original SPICE kernels"
/* TIME DATA ELEMENTS */
SPACECRAFT_CLOCK_START_COUNT = "1/0131557332.08253"
SPACECRAFT_CLOCK_STOP_COUNT = "1/0131557469.22792"
START_TIME = 2007-07-03T15:43:02.770Z
STOP_TIME = 2007-07-03T15:44:22.542Z
/* ORBITAL DATA ELEMENTS */
ASCENDING_NODE_LONGITUDE = 134.38
MAXIMUM_RESOLUTION = 0.0431
FOOTPRINT_POINT_LATITUDE = (-80.8766,-80.9219,-80.9912,-81.0404, -81.0948,-81.1438,-81.1971,-81.2362, -81.2392,-81.3099,-81.2049,-81.0471, -80.8889,-80.7832,-80.6811,-80.579, -80.4766,-80.3229,-80.2203,-80.0661, -79.9629,-79.8597,-79.7568,-79.6543, -79.5512,-79.4484,-79.2937,-79.139, -79.0355,-78.9319,-78.8284,-78.6728, -78.5689,-78.465,-78.3611,-78.2575, -78.1537,-78.0496,-77.9449,-77.7895, -77.6328,-77.5276,-77.3728,-77.2681, -77.112,-77.0077,-76.9037,-76.7993, -76.6946,-76.5903,-76.4369,-76.1866, -76.1364,-76.1233,-76.0882,-76.0647, -76.0344,-75.9985,-75.9608,-75.9001, -75.8977,-75.8976,-76.1441,-76.2919, -76.4962,-76.5983,-76.7514,-76.8534, -77.0064,-77.1083,-77.3115,-77.5138, -77.8168,-77.9705,-78.0721,-78.2713, -78.3741,-78.5751,-78.6774,-78.8255, -78.9757,-79.1254,-79.2252,-79.3742, -79.4735,-79.5726,-79.6715,-79.7704, -79.9184,-80.0169,-80.1152,-80.2133, -80.3111,-80.4088,-80.5095,-80.6103, -80.7109,-80.8615,-80.9115,-80.8766)
FOOTPRINT_POINT_LONGITUDE = (354.656,355.311,356.359,357.14,358.044 ,358.9,359.883,360.642,360.701,360.765, 360.987,361.31,361.621,361.822,362.012, 362.198,362.38,362.645,362.817,363.068, 363.231,363.391,363.547,363.701,363.852 ,363.999,364.215,364.425,364.561, 364.695,364.826,365.018,365.143,365.266 ,365.386,365.505,365.621,365.735, 365.847,366.012,366.172,366.276,366.431 ,366.531,366.678,366.774,366.869, 366.963,367.054,367.144,367.273,367.481 ,367.521,367.532,366.794,366.329, 365.749,365.095,364.444,363.454,363.416 ,363.402,363.124,362.952,362.707, 362.582,362.39,362.259,362.059,361.922, 361.644,361.358,360.91,360.667,360.504, 360.186,360.008,359.661,359.474,359.21, 358.928,358.639,358.441,358.138,357.931 ,357.72,357.505,357.285,356.947,356.715 ,356.479,356.238,355.993,355.742, 355.478,355.207,354.929,354.501,354.355 ,354.656)
ORBIT_NUMBER = 4489
ORBITAL_ECCENTRICITY = 0.57
ORBITAL_INCLINATION = 86.69
ORBITAL_SEMIMAJOR_AXIS = 8538.75
PERIAPSIS_ALTITUDE = 292.81
PERIAPSIS_ARGUMENT_ANGLE = 287.68
PERIAPSIS_TIME = 2007-07-03T15:45:06.000Z
SPACECRAFT_ORIENTATION = (0.0,-1.0,0.0)
^MEX_ORIENTATION_DESC = "MEX_ORIENTATION_DESC.TXT"
SPACECRAFT_POINTING_MODE = NADIR
^MEX_POINTING_DESC = "MEX_POINTING_DESC.TXT"
RIGHT_ASCENSION = -1e+32
DECLINATION = -1e+32
OFFSET_ANGLE = -1e+32
SPACECRAFT_SOLAR_DISTANCE = 2.07575e+08
TARGET_NAME = MARS
/* CAMERA DATA ELEMENTS */
DETECTOR_TEMPERATURE = 18.9822
FOCAL_PLANE_TEMPERATURE = 8.5833
INST_CMPRS_NAME = "DISCRETE COSINE TRANSFORMATION (DCT)"
INST_CMPRS_RATIO = 42.7833
INST_CMPRS_QUALITY = 0
INST_CMPRS_QUANTZ_TBL_ID = 0
INSTRUMENT_TEMPERATURE = 11.234
LENS_TEMPERATURE = 8.5833
MACROPIXEL_SIZE = 4
MISSING_FRAMES = 0
PIXEL_SUBSAMPLING_FLAG = N
SIGNAL_CHAIN_ID = 3
/* RADIOMETRIC DATA ELEMENTS */
BANDWIDTH = 177.0
CENTER_FILTER_WAVELENGTH = 676.5
RADIANCE_OFFSET = 10.2865
RADIANCE_SCALING_FACTOR = 0.00912013
REFLECTANCE_SCALING_FACTOR = 0.000208357
MEX:REFLECTANCE_OFFSET = 0.235003
/* IMAGE OBJECT DEFINITIONS */
OBJECT = IMAGE
  INTERCHANGE_FORMAT = BINARY
  LINES = 6453
  LINE_SAMPLES = 3029
  SAMPLE_TYPE = UNSIGNED_INTEGER
  SAMPLE_BITS = 8
  BANDS = 1
  BAND_STORAGE_TYPE = BAND_SEQUENTIAL
  MAXIMUM = 255
  MEAN = 202.398
  MINIMUM = 2
  STANDARD_DEVIATION = 33.1744
END_OBJECT = IMAGE
/* MAP OBJECT DEFINITIONS */
OBJECT = IMAGE_MAP_PROJECTION
  ^DATA_SET_MAP_PROJECTION_CATALOG= "DSMAP.CAT"
  A_AXIS_RADIUS = 3396.0
  B_AXIS_RADIUS = 3396.0
  C_AXIS_RADIUS = 3396.0
  CENTER_LATITUDE = 0.0
  CENTER_LONGITUDE = 2.0
  COORDINATE_SYSTEM_NAME = PLANETOGRAPHIC
  COORDINATE_SYSTEM_TYPE = "BODY-FIXED ROTATING"
  EASTERNMOST_LONGITUDE = 7.532
  FIRST_STANDARD_PARALLEL = "N/A"
  LINE_FIRST_PIXEL = 1
  LINE_LAST_PIXEL = 6453
  LINE_PROJECTION_OFFSET = -89964.875
  MAP_PROJECTION_ROTATION = 0.0
  MAP_PROJECTION_TYPE = SINUSOIDAL
  MAP_RESOLUTION = 1185.42760773333
  MAP_SCALE = 0.05
  MAXIMUM_LATITUDE = -75.8976
  MINIMUM_LATITUDE = -81.3099
  POSITIVE_LONGITUDE_DIRECTION = EAST
  REFERENCE_LATITUDE = "N/A"
  REFERENCE_LONGITUDE = "N/A"
  SAMPLE_FIRST_PIXEL = 1
  SAMPLE_LAST_PIXEL = 3029
  SAMPLE_PROJECTION_OFFSET = 1452.125
  SECOND_STANDARD_PARALLEL = "N/A"
  WESTERNMOST_LONGITUDE = -5.645
END_OBJECT = IMAGE_MAP_PROJECTION
END
