PDS_VERSION_ID = PDS3
/* FILE DATA ELEMENTS */
RECORD_TYPE = UNDEFINED
/* POINTERS TO DATA OBJECTS */
^IMAGE = ("H4496_0000_GR4.TIF")
/* IDENTIFICATION DATA ELEMENTS */
DATA_SET_ID = "MEX-M-HRSC-4-REFDR-MAPPROJECT-EXT1-V4.0"
DATA_SET_NAME = "MARS EXPRESS HRSC MAP PROJECTED REFDR EXTENSION1 V4.0"
DETECTOR_ID = MEX_HRSC_GREEN
EVENT_TYPE = "MARS-REGIONAL-MAPPING-Vo-Te-Gl"
INSTRUMENT_HOST_ID = MEX
INSTRUMENT_HOST_NAME = "MARS EXPRESS"
INSTRUMENT_ID = HRSC
INSTRUMENT_NAME = "HIGH RESOLUTION STEREO CAMERA"
MISSION_NAME = "MARS EXPRESS"
MISSION_PHASE_NAME = ME_Phase_8
PROCESSING_LEVEL_ID = 4
PRODUCT_CREATION_TIME = 2023-02-10T03:49:22.000Z
PRODUCT_ID = "H4496_0000_GR4.TIF"
RELEASE_ID = 0006
REVISION_ID = 0000
/* QUALITY DATA ELEMENTS */
DATA_QUALITY_ID = 1
DATA_QUALITY_DESC = "Data calculated based on original SPICE kernels"
/* TIME DATA ELEMENTS */
SPACECRAFT_CLOCK_START_COUNT = "1/0131726798.09050"
SPACECRAFT_CLOCK_STOP_COUNT = "1/0131727077.24793"
START_TIME = 2007-07-05T14:47:03.724Z
STOP_TIME = 2007-07-05T14:50:44.199Z
/* ORBITAL DATA ELEMENTS */
ASCENDING_NODE_LONGITUDE = 134.24
MAXIMUM_RESOLUTION = 0.0462
FOOTPRINT_POINT_LATITUDE = (-74.5411,-74.5961,-74.6466,-74.7058, -74.7071,-74.7,-74.2804,-74.0006, -73.5805,-73.1601,-72.8797,-72.5993, -72.3186,-72.0379,-71.7569,-71.3354, -70.9138,-70.6328,-70.2112,-69.7896, -69.3676,-69.0763,-68.7842,-68.4922, -68.2003,-67.7623,-67.4701,-67.1783, -66.7407,-66.303,-66.0114,-65.7198, -65.4284,-65.1367,-64.8453,-64.5512, -64.2491,-63.9472,-63.6454,-63.3437, -63.0422,-62.7408,-62.4397,-61.9882, -61.682,-61.3706,-61.0595,-60.7487, -60.2826,-60.1273,-60.1127,-60.0674, -60.036,-60.0351,-60.0357,-60.4998, -60.8099,-61.1198,-61.43,-61.7404, -62.0408,-62.3408,-62.6411,-62.9411, -63.2414,-63.5417,-63.9926,-64.2932, -64.5917,-64.8819,-65.1716,-65.4616, -65.7518,-66.0419,-66.3321,-66.7673, -67.0574,-67.3476,-67.6379,-67.928, -68.3634,-68.6535,-68.9438,-69.2334, -69.5128,-69.9316,-70.2106,-70.4896, -71.0466,-71.3251,-71.7426,-72.1599, -72.4376,-72.7153,-72.9925,-73.408, -73.823,-74.3754,-74.5133,-74.5411)
FOOTPRINT_POINT_LONGITUDE = (38.4704,39.5156,40.5806,42.0084, 42.0429,42.2495,42.4728,42.6097,42.8103 ,43.0007,43.1226,43.2367,43.3529, 43.4622,43.573,43.73,43.8775,43.9715, 44.1054,44.2327,44.3589,44.4434,44.5241 ,44.6015,44.6763,44.7852,44.8582, 44.9257,45.0216,45.117,45.1764,45.236, 45.2921,45.3508,45.4064,45.4615,45.5169 ,45.5698,45.6216,45.6727,45.7221, 45.7705,45.8164,45.8838,45.9291,45.9731 ,46.0156,46.0569,46.1186,46.1385, 46.1404,44.6987,43.9082,43.8875,43.8805 ,43.8046,43.7523,43.6983,43.6425, 43.5851,43.528,43.4692,43.4087,43.3461, 43.2818,43.2154,43.1123,43.0408,42.9677 ,42.8946,42.819,42.7413,42.6614,42.5789 ,42.494,42.3617,42.27,42.1755,42.0781, 41.9776,41.8209,41.7121,41.6,41.4842, 41.369,41.1892,41.0645,40.9357,40.6648, 40.5226,40.3001,40.0661,39.9031,39.7344 ,39.5595,39.2852,38.9955,38.5833, 38.4752,38.4704)
ORBIT_NUMBER = 4496
ORBITAL_ECCENTRICITY = 0.57
ORBITAL_INCLINATION = 86.69
ORBITAL_SEMIMAJOR_AXIS = 8538.24
PERIAPSIS_ALTITUDE = 292.62
PERIAPSIS_ARGUMENT_ANGLE = 286.48
PERIAPSIS_TIME = 2007-07-05T14:47:28.000Z
SPACECRAFT_ORIENTATION = (0.0,-1.0,0.0)
^MEX_ORIENTATION_DESC = "MEX_ORIENTATION_DESC.TXT"
SPACECRAFT_POINTING_MODE = ACROSSTRACK
^MEX_POINTING_DESC = "MEX_POINTING_DESC.TXT"
RIGHT_ASCENSION = -1e+32
DECLINATION = -1e+32
OFFSET_ANGLE = -0.4
SPACECRAFT_SOLAR_DISTANCE = 2.077e+08
TARGET_NAME = MARS
/* CAMERA DATA ELEMENTS */
DETECTOR_TEMPERATURE = 18.1666
FOCAL_PLANE_TEMPERATURE = 8.9911
INST_CMPRS_NAME = "DISCRETE COSINE TRANSFORMATION (DCT)"
INST_CMPRS_RATIO = 14.7241
INST_CMPRS_QUALITY = 0
INST_CMPRS_QUANTZ_TBL_ID = 0
INSTRUMENT_TEMPERATURE = 11.234
LENS_TEMPERATURE = 9.195
MACROPIXEL_SIZE = 4
MISSING_FRAMES = 0
PIXEL_SUBSAMPLING_FLAG = N
SIGNAL_CHAIN_ID = 2
/* RADIOMETRIC DATA ELEMENTS */
BANDWIDTH = 88.0
CENTER_FILTER_WAVELENGTH = 538.0
RADIANCE_OFFSET = 3.13638
RADIANCE_SCALING_FACTOR = 0.00367151
REFLECTANCE_SCALING_FACTOR = 0.000136366
MEX:REFLECTANCE_OFFSET = 0.116491
/* IMAGE OBJECT DEFINITIONS */
OBJECT = IMAGE
  INTERCHANGE_FORMAT = BINARY
  LINES = 17387
  LINE_SAMPLES = 3300
  SAMPLE_TYPE = UNSIGNED_INTEGER
  SAMPLE_BITS = 8
  BANDS = 1
  BAND_STORAGE_TYPE = BAND_SEQUENTIAL
  MAXIMUM = 255
  MEAN = 145.375
  MINIMUM = 1
  STANDARD_DEVIATION = 34.3386
END_OBJECT = IMAGE
/* MAP OBJECT DEFINITIONS */
OBJECT = IMAGE_MAP_PROJECTION
  ^DATA_SET_MAP_PROJECTION_CATALOG= "DSMAP.CAT"
  A_AXIS_RADIUS = 3396.0
  B_AXIS_RADIUS = 3396.0
  C_AXIS_RADIUS = 3396.0
  CENTER_LATITUDE = 0.0
  CENTER_LONGITUDE = 43.0
  COORDINATE_SYSTEM_NAME = PLANETOGRAPHIC
  COORDINATE_SYSTEM_TYPE = "BODY-FIXED ROTATING"
  EASTERNMOST_LONGITUDE = 46.1404
  FIRST_STANDARD_PARALLEL = "N/A"
  LINE_FIRST_PIXEL = 1
  LINE_LAST_PIXEL = 17387
  LINE_PROJECTION_OFFSET = -71166.625
  MAP_PROJECTION_ROTATION = 0.0
  MAP_PROJECTION_TYPE = SINUSOIDAL
  MAP_RESOLUTION = 1185.42760773333
  MAP_SCALE = 0.05
  MAXIMUM_LATITUDE = -60.0351
  MINIMUM_LATITUDE = -74.7071
  POSITIVE_LONGITUDE_DIRECTION = EAST
  REFERENCE_LATITUDE = "N/A"
  REFERENCE_LONGITUDE = "N/A"
  SAMPLE_FIRST_PIXEL = 1
  SAMPLE_LAST_PIXEL = 3300
  SAMPLE_PROJECTION_OFFSET = 1433.125
  SECOND_STANDARD_PARALLEL = "N/A"
  WESTERNMOST_LONGITUDE = 38.4704
END_OBJECT = IMAGE_MAP_PROJECTION
END
