PDS_VERSION_ID = PDS3
/* FILE DATA ELEMENTS */
RECORD_TYPE = UNDEFINED
/* POINTERS TO DATA OBJECTS */
^IMAGE = ("H4500_0000_IR4.TIF")
/* IDENTIFICATION DATA ELEMENTS */
DATA_SET_ID = "MEX-M-HRSC-4-REFDR-MAPPROJECT-EXT1-V4.0"
DATA_SET_NAME = "MARS EXPRESS HRSC MAP PROJECTED REFDR EXTENSION1 V4.0"
DETECTOR_ID = MEX_HRSC_IR
EVENT_TYPE = "MARS-REGIONAL-MAPPING-Gl-Pf-La"
INSTRUMENT_HOST_ID = MEX
INSTRUMENT_HOST_NAME = "MARS EXPRESS"
INSTRUMENT_ID = HRSC
INSTRUMENT_NAME = "HIGH RESOLUTION STEREO CAMERA"
MISSION_NAME = "MARS EXPRESS"
MISSION_PHASE_NAME = ME_Phase_8
PROCESSING_LEVEL_ID = 4
PRODUCT_CREATION_TIME = 2023-02-10T03:49:22.000Z
PRODUCT_ID = "H4500_0000_IR4.TIF"
RELEASE_ID = 0006
REVISION_ID = 0000
/* QUALITY DATA ELEMENTS */
DATA_QUALITY_ID = 1
DATA_QUALITY_DESC = "Data calculated based on original SPICE kernels"
/* TIME DATA ELEMENTS */
SPACECRAFT_CLOCK_START_COUNT = "1/0131823382.09097"
SPACECRAFT_CLOCK_STOP_COUNT = "1/0131823536.31770"
START_TIME = 2007-07-06T17:36:31.897Z
STOP_TIME = 2007-07-06T17:38:09.312Z
/* ORBITAL DATA ELEMENTS */
ASCENDING_NODE_LONGITUDE = 134.16
MAXIMUM_RESOLUTION = 0.0509
FOOTPRINT_POINT_LATITUDE = (-85.622,-85.7563,-85.8885,-86.0188, -86.1464,-86.2712,-86.4674,-86.4748, -86.4522,-86.3066,-86.207,-86.1063, -86.0064,-85.905,-85.8014,-85.6971, -85.5383,-85.431,-85.2674,-85.157, -84.9898,-84.8205,-84.7067,-84.5926, -84.4809,-84.367,-84.2553,-84.1426, -84.0292,-83.9158,-83.8016,-83.6875, -83.5726,-83.4574,-83.2839,-83.1677, -82.993,-82.8759,-82.7594,-82.529, -82.3582,-82.1279,-82.0125,-81.8391, -81.5517,-81.3771,-81.2606,-81.1436, -81.0266,-80.9095,-80.851,-80.8166, -80.7504,-80.6927,-80.6374,-80.5827, -80.494,-80.4905,-80.4901,-80.6581, -80.8256,-81.0478,-81.2686,-81.488, -81.7058,-81.9763,-82.1901,-82.2986, -82.4081,-82.5709,-82.7328,-82.8933, -83.0523,-83.1576,-83.262,-83.3656, -83.4688,-83.5712,-83.6728,-83.7733, -83.8736,-83.9718,-84.0719,-84.2255, -84.3246,-84.4221,-84.5189,-84.6146, -84.7079,-84.8,-84.9347,-85.022, -85.1073,-85.1908,-85.2725,-85.3532, -85.4329,-85.5102,-85.5478,-85.622)
FOOTPRINT_POINT_LONGITUDE = (323.012,324.298,325.673,327.145, 328.722,330.413,333.43,333.553,334.817, 336.884,338.174,339.389,340.514,341.584 ,342.622,343.594,344.966,345.829, 347.063,347.843,348.944,349.978,350.63, 351.252,351.838,352.42,352.943,353.452, 353.944,354.412,354.866,355.299,355.719 ,356.126,356.708,357.08,357.614,357.956 ,358.281,358.895,359.327,359.886, 360.152,360.537,361.125,361.47,361.691, 361.909,362.119,362.324,362.424,362.482 ,360.967,359.777,358.723,357.742, 356.273,356.217,356.197,355.779,355.345 ,354.742,354.108,353.442,352.74,351.808 ,351.018,350.598,350.159,349.478, 348.766,348.022,347.243,346.704,346.149 ,345.576,344.985,344.374,343.744, 343.094,342.42,341.73,340.997,339.818, 339.006,338.167,337.296,336.392,335.462 ,334.497,332.988,331.94,330.858,329.737 ,328.576,327.358,326.076,324.749,324.07 ,323.012)
ORBIT_NUMBER = 4500
ORBITAL_ECCENTRICITY = 0.57
ORBITAL_INCLINATION = 86.69
ORBITAL_SEMIMAJOR_AXIS = 8536.92
PERIAPSIS_ALTITUDE = 292.96
PERIAPSIS_ARGUMENT_ANGLE = 285.77
PERIAPSIS_TIME = 2007-07-06T17:40:15.000Z
SPACECRAFT_ORIENTATION = (0.0,-1.0,0.0)
^MEX_ORIENTATION_DESC = "MEX_ORIENTATION_DESC.TXT"
SPACECRAFT_POINTING_MODE = ACROSSTRACK
^MEX_POINTING_DESC = "MEX_POINTING_DESC.TXT"
RIGHT_ASCENSION = -1e+32
DECLINATION = -1e+32
OFFSET_ANGLE = -0.25
SPACECRAFT_SOLAR_DISTANCE = 2.07775e+08
TARGET_NAME = MARS
/* CAMERA DATA ELEMENTS */
DETECTOR_TEMPERATURE = 17.7588
FOCAL_PLANE_TEMPERATURE = 8.5833
INST_CMPRS_NAME = "DISCRETE COSINE TRANSFORMATION (DCT)"
INST_CMPRS_RATIO = 37.9505
INST_CMPRS_QUALITY = 0
INST_CMPRS_QUANTZ_TBL_ID = 0
INSTRUMENT_TEMPERATURE = 11.4379
LENS_TEMPERATURE = 9.195
MACROPIXEL_SIZE = 4
MISSING_FRAMES = 0
PIXEL_SUBSAMPLING_FLAG = N
SIGNAL_CHAIN_ID = 2
/* RADIOMETRIC DATA ELEMENTS */
BANDWIDTH = 81.0
CENTER_FILTER_WAVELENGTH = 955.5
RADIANCE_OFFSET = 2.75607
RADIANCE_SCALING_FACTOR = 0.00254309
REFLECTANCE_SCALING_FACTOR = 0.000236851
MEX:REFLECTANCE_OFFSET = 0.256687
/* IMAGE OBJECT DEFINITIONS */
OBJECT = IMAGE
  INTERCHANGE_FORMAT = BINARY
  LINES = 7073
  LINE_SAMPLES = 4643
  SAMPLE_TYPE = UNSIGNED_INTEGER
  SAMPLE_BITS = 8
  BANDS = 1
  BAND_STORAGE_TYPE = BAND_SEQUENTIAL
  MAXIMUM = 255
  MEAN = 208.224
  MINIMUM = 4
  STANDARD_DEVIATION = 40.5558
END_OBJECT = IMAGE
/* MAP OBJECT DEFINITIONS */
OBJECT = IMAGE_MAP_PROJECTION
  ^DATA_SET_MAP_PROJECTION_CATALOG= "DSMAP.CAT"
  A_AXIS_RADIUS = 3396.0
  B_AXIS_RADIUS = 3396.0
  C_AXIS_RADIUS = 3396.0
  CENTER_LATITUDE = 0.0
  CENTER_LONGITUDE = 351.0
  COORDINATE_SYSTEM_NAME = PLANETOGRAPHIC
  COORDINATE_SYSTEM_TYPE = "BODY-FIXED ROTATING"
  EASTERNMOST_LONGITUDE = 2.482
  FIRST_STANDARD_PARALLEL = "N/A"
  LINE_FIRST_PIXEL = 1
  LINE_LAST_PIXEL = 7073
  LINE_PROJECTION_OFFSET = -95387.875
  MAP_PROJECTION_ROTATION = 0.0
  MAP_PROJECTION_TYPE = SINUSOIDAL
  MAP_RESOLUTION = 1185.42760773333
  MAP_SCALE = 0.05
  MAXIMUM_LATITUDE = -80.4901
  MINIMUM_LATITUDE = -86.4748
  POSITIVE_LONGITUDE_DIRECTION = EAST
  REFERENCE_LATITUDE = "N/A"
  REFERENCE_LONGITUDE = "N/A"
  SAMPLE_FIRST_PIXEL = 1
  SAMPLE_LAST_PIXEL = 4643
  SAMPLE_PROJECTION_OFFSET = 2471.625
  SECOND_STANDARD_PARALLEL = "N/A"
  WESTERNMOST_LONGITUDE = -36.988
END_OBJECT = IMAGE_MAP_PROJECTION
END
