PDS_VERSION_ID = PDS3
/* FILE DATA ELEMENTS */
RECORD_TYPE = UNDEFINED
/* POINTERS TO DATA OBJECTS */
^IMAGE = ("H4504_0000_P24.TIF")
/* IDENTIFICATION DATA ELEMENTS */
DATA_SET_ID = "MEX-M-HRSC-4-REFDR-MAPPROJECT-EXT1-V4.0"
DATA_SET_NAME = "MARS EXPRESS HRSC MAP PROJECTED REFDR EXTENSION1 V4.0"
DETECTOR_ID = MEX_HRSC_P2
EVENT_TYPE = "MARS-REGIONAL-MAPPING-Gl-Pf-Eo"
INSTRUMENT_HOST_ID = MEX
INSTRUMENT_HOST_NAME = "MARS EXPRESS"
INSTRUMENT_ID = HRSC
INSTRUMENT_NAME = "HIGH RESOLUTION STEREO CAMERA"
MISSION_NAME = "MARS EXPRESS"
MISSION_PHASE_NAME = ME_Phase_8
PROCESSING_LEVEL_ID = 4
PRODUCT_CREATION_TIME = 2023-02-11T00:15:54.000Z
PRODUCT_ID = "H4504_0000_P24.TIF"
RELEASE_ID = 0007
REVISION_ID = 0000
/* QUALITY DATA ELEMENTS */
DATA_QUALITY_ID = 1
DATA_QUALITY_DESC = "Data calculated based on original SPICE kernels"
/* TIME DATA ELEMENTS */
SPACECRAFT_CLOCK_START_COUNT = "1/0131920278.09071"
SPACECRAFT_CLOCK_STOP_COUNT = "1/0131920496.32026"
START_TIME = 2007-07-07T20:32:05.820Z
STOP_TIME = 2007-07-07T20:34:49.301Z
/* ORBITAL DATA ELEMENTS */
ASCENDING_NODE_LONGITUDE = 134.08
MAXIMUM_RESOLUTION = 0.0239
FOOTPRINT_POINT_LATITUDE = (-79.0965,-79.1873,-79.3066,-79.3797, -79.3821,-79.4547,-79.2372,-79.0221, -78.8123,-78.6025,-78.3923,-78.1821, -77.8657,-77.5497,-77.3388,-77.1276, -76.9163,-76.7037,-76.3862,-76.1746, -75.8576,-75.6451,-75.3281,-75.1164, -74.9051,-74.5882,-74.3766,-74.1635, -73.9525,-73.7405,-73.5284,-73.3171, -73.1057,-72.8938,-72.6825,-72.3654, -72.0469,-71.8336,-71.6224,-71.2939, -71.0746,-70.8553,-70.6365,-70.4184, -70.1998,-69.9816,-69.7618,-69.5415, -69.3223,-69.104,-68.8848,-68.7755, -68.7598,-68.7299,-68.6806,-68.6268, -68.6252,-68.625,-68.8417,-69.1659, -69.384,-69.6002,-69.8167,-70.141, -70.3582,-70.5742,-70.7915,-71.117, -71.4457,-71.7598,-72.0717,-72.2809, -72.4904,-72.6996,-72.9093,-73.1183, -73.4318,-73.8494,-74.0591,-74.475, -74.7888,-75.1022,-75.4147,-75.6228, -75.9346,-76.1423,-76.4533,-76.6604, -76.8677,-77.0746,-77.2808,-77.5897, -77.7953,-78.1028,-78.3074,-78.6134, -78.8181,-79.029,-79.1343,-79.0965)
FOOTPRINT_POINT_LONGITUDE = (324.795,326.213,328.283,329.705, 329.755,329.837,330.139,330.427,330.696 ,330.956,331.205,331.445,331.79,332.116 ,332.325,332.526,332.721,332.908, 333.178,333.352,333.602,333.762,333.994 ,334.143,334.288,334.498,334.632, 334.762,334.89,335.013,335.133,335.25, 335.365,335.475,335.584,335.741,335.891 ,335.987,336.083,336.226,336.319, 336.409,336.498,336.585,336.67,336.753, 336.833,336.91,336.986,337.061,337.134, 337.17,337.175,336.452,335.426,334.341, 334.313,334.303,334.209,334.066,333.964 ,333.863,333.759,333.599,333.487, 333.374,333.257,333.075,332.879,332.688 ,332.495,332.359,332.219,332.076, 331.927,331.776,331.541,331.212,331.039 ,330.684,330.399,330.1,329.789,329.574, 329.239,329.007,328.644,328.392,328.13, 327.86,327.582,327.146,326.842,326.367, 326.036,325.516,325.15,324.758,324.555, 324.795)
ORBIT_NUMBER = 4504
ORBITAL_ECCENTRICITY = 0.57
ORBITAL_INCLINATION = 86.7
ORBITAL_SEMIMAJOR_AXIS = 8534.79
PERIAPSIS_ALTITUDE = 292.81
PERIAPSIS_ARGUMENT_ANGLE = 285.09
PERIAPSIS_TIME = 2007-07-07T20:33:02.000Z
SPACECRAFT_ORIENTATION = (0.0,-1.0,0.0)
^MEX_ORIENTATION_DESC = "MEX_ORIENTATION_DESC.TXT"
SPACECRAFT_POINTING_MODE = NADIR
^MEX_POINTING_DESC = "MEX_POINTING_DESC.TXT"
RIGHT_ASCENSION = -1e+32
DECLINATION = -1e+32
OFFSET_ANGLE = -1e+32
SPACECRAFT_SOLAR_DISTANCE = 2.07852e+08
TARGET_NAME = MARS
/* CAMERA DATA ELEMENTS */
DETECTOR_TEMPERATURE = 18.9822
FOCAL_PLANE_TEMPERATURE = 8.7872
INST_CMPRS_NAME = "DISCRETE COSINE TRANSFORMATION (DCT)"
INST_CMPRS_RATIO = 7.66814
INST_CMPRS_QUALITY = 0
INST_CMPRS_QUANTZ_TBL_ID = 0
INSTRUMENT_TEMPERATURE = 11.4379
LENS_TEMPERATURE = 8.7872
MACROPIXEL_SIZE = 2
MISSING_FRAMES = 0
PIXEL_SUBSAMPLING_FLAG = N
SIGNAL_CHAIN_ID = 3
/* RADIOMETRIC DATA ELEMENTS */
BANDWIDTH = 177.0
CENTER_FILTER_WAVELENGTH = 676.5
RADIANCE_OFFSET = 9.71525
RADIANCE_SCALING_FACTOR = 0.02199
REFLECTANCE_SCALING_FACTOR = 0.000503724
MEX:REFLECTANCE_OFFSET = 0.222546
/* IMAGE OBJECT DEFINITIONS */
OBJECT = IMAGE
  INTERCHANGE_FORMAT = BINARY
  LINES = 25673
  LINE_SAMPLES = 7352
  SAMPLE_TYPE = UNSIGNED_INTEGER
  SAMPLE_BITS = 8
  BANDS = 1
  BAND_STORAGE_TYPE = BAND_SEQUENTIAL
  MAXIMUM = 254
  MEAN = 111.714
  MINIMUM = 1
  STANDARD_DEVIATION = 56.7422
END_OBJECT = IMAGE
/* MAP OBJECT DEFINITIONS */
OBJECT = IMAGE_MAP_PROJECTION
  ^DATA_SET_MAP_PROJECTION_CATALOG= "DSMAP.CAT"
  A_AXIS_RADIUS = 3396.0
  B_AXIS_RADIUS = 3396.0
  C_AXIS_RADIUS = 3396.0
  CENTER_LATITUDE = 0.0
  CENTER_LONGITUDE = 333.0
  COORDINATE_SYSTEM_NAME = PLANETOGRAPHIC
  COORDINATE_SYSTEM_TYPE = "BODY-FIXED ROTATING"
  EASTERNMOST_LONGITUDE = 337.175
  FIRST_STANDARD_PARALLEL = "N/A"
  LINE_FIRST_PIXEL = 1
  LINE_LAST_PIXEL = 25673
  LINE_PROJECTION_OFFSET = -162729.75
  MAP_PROJECTION_ROTATION = 0.0
  MAP_PROJECTION_TYPE = SINUSOIDAL
  MAP_RESOLUTION = 2370.85521546667
  MAP_SCALE = 0.025
  MAXIMUM_LATITUDE = -68.625
  MINIMUM_LATITUDE = -79.4547
  POSITIVE_LONGITUDE_DIRECTION = EAST
  REFERENCE_LATITUDE = "N/A"
  REFERENCE_LONGITUDE = "N/A"
  SAMPLE_FIRST_PIXEL = 1
  SAMPLE_LAST_PIXEL = 7352
  SAMPLE_PROJECTION_OFFSET = 3794.75
  SECOND_STANDARD_PARALLEL = "N/A"
  WESTERNMOST_LONGITUDE = 324.555
END_OBJECT = IMAGE_MAP_PROJECTION
END
