PDS_VERSION_ID = PDS3
/* FILE DATA ELEMENTS */
RECORD_TYPE = UNDEFINED
/* POINTERS TO DATA OBJECTS */
^IMAGE = ("H4504_0000_S24.TIF")
/* IDENTIFICATION DATA ELEMENTS */
DATA_SET_ID = "MEX-M-HRSC-4-REFDR-MAPPROJECT-EXT1-V4.0"
DATA_SET_NAME = "MARS EXPRESS HRSC MAP PROJECTED REFDR EXTENSION1 V4.0"
DETECTOR_ID = MEX_HRSC_S2
EVENT_TYPE = "MARS-REGIONAL-MAPPING-Gl-Pf-Eo"
INSTRUMENT_HOST_ID = MEX
INSTRUMENT_HOST_NAME = "MARS EXPRESS"
INSTRUMENT_ID = HRSC
INSTRUMENT_NAME = "HIGH RESOLUTION STEREO CAMERA"
MISSION_NAME = "MARS EXPRESS"
MISSION_PHASE_NAME = ME_Phase_8
PROCESSING_LEVEL_ID = 4
PRODUCT_CREATION_TIME = 2023-02-11T00:15:54.000Z
PRODUCT_ID = "H4504_0000_S24.TIF"
RELEASE_ID = 0007
REVISION_ID = 0000
/* QUALITY DATA ELEMENTS */
DATA_QUALITY_ID = 1
DATA_QUALITY_DESC = "Data calculated based on original SPICE kernels"
/* TIME DATA ELEMENTS */
SPACECRAFT_CLOCK_START_COUNT = "1/0131920278.09071"
SPACECRAFT_CLOCK_STOP_COUNT = "1/0131920496.32026"
START_TIME = 2007-07-07T20:32:14.865Z
STOP_TIME = 2007-07-07T20:34:58.564Z
/* ORBITAL DATA ELEMENTS */
ASCENDING_NODE_LONGITUDE = 134.08
MAXIMUM_RESOLUTION = 0.0247
FOOTPRINT_POINT_LATITUDE = (-79.0485,-79.1642,-79.241,-79.3294, -79.3318,-79.4376,-79.1229,-78.9131, -78.598,-78.3875,-78.1772,-77.9663, -77.6496,-77.4389,-77.2278,-77.0163, -76.8049,-76.486,-76.1683,-75.8517, -75.6394,-75.4285,-75.2173,-74.901, -74.5853,-74.3742,-74.161,-73.9511, -73.7395,-73.5281,-73.3176,-73.1073, -72.8961,-72.6859,-72.3706,-72.1574, -71.938,-71.7171,-71.4994,-71.2806, -71.0626,-70.8446,-70.6272,-70.4107, -70.086,-69.7591,-69.5406,-69.3218, -69.1052,-68.8877,-68.7793,-68.7575, -68.6963,-68.6583,-68.627,-68.6254, -68.6252,-69.0499,-69.2705,-69.4861, -69.7007,-70.0204,-70.3442,-70.5582, -70.7742,-71.0982,-71.3175,-71.6429, -71.8584,-72.07,-72.2784,-72.4871, -72.6953,-72.9046,-73.1128,-73.4251, -73.841,-74.0508,-74.4648,-74.6735, -74.8825,-75.1959,-75.404,-75.612, -75.9235,-76.1311,-76.4421,-76.6492, -76.8569,-77.0639,-77.2703,-77.5793, -77.7853,-78.0931,-78.2981,-78.6045, -78.8084,-79.0121,-79.1137,-79.0485)
FOOTPRINT_POINT_LONGITUDE = (324.895,326.736,328.08,329.786,329.835 ,329.872,330.305,330.58,330.973,331.223 ,331.463,331.695,332.028,332.24,332.445 ,332.643,332.834,333.109,333.371, 333.621,333.781,333.937,334.088,334.306 ,334.515,334.649,334.779,334.906, 335.029,335.149,335.266,335.38,335.49, 335.599,335.756,335.856,335.958,336.057 ,336.154,336.249,336.341,336.431,336.52 ,336.606,336.732,336.852,336.929, 337.005,337.08,337.152,337.188,337.195, 335.793,334.95,334.333,334.305,334.295, 334.114,334.009,333.908,333.807,333.653 ,333.488,333.377,333.26,333.08,332.95, 332.755,332.624,332.492,332.357,332.217 ,332.075,331.927,331.777,331.543, 331.218,331.044,330.692,330.505,330.311 ,330.009,329.801,329.587,329.253, 329.021,328.66,328.409,328.148,327.878, 327.601,327.167,326.863,326.39,326.059, 325.54,325.177,324.8,324.605,324.895)
ORBIT_NUMBER = 4504
ORBITAL_ECCENTRICITY = 0.57
ORBITAL_INCLINATION = 86.7
ORBITAL_SEMIMAJOR_AXIS = 8534.79
PERIAPSIS_ALTITUDE = 292.81
PERIAPSIS_ARGUMENT_ANGLE = 285.09
PERIAPSIS_TIME = 2007-07-07T20:33:02.000Z
SPACECRAFT_ORIENTATION = (0.0,-1.0,0.0)
^MEX_ORIENTATION_DESC = "MEX_ORIENTATION_DESC.TXT"
SPACECRAFT_POINTING_MODE = NADIR
^MEX_POINTING_DESC = "MEX_POINTING_DESC.TXT"
RIGHT_ASCENSION = -1e+32
DECLINATION = -1e+32
OFFSET_ANGLE = -1e+32
SPACECRAFT_SOLAR_DISTANCE = 2.07852e+08
TARGET_NAME = MARS
/* CAMERA DATA ELEMENTS */
DETECTOR_TEMPERATURE = 18.9822
FOCAL_PLANE_TEMPERATURE = 8.7872
INST_CMPRS_NAME = "DISCRETE COSINE TRANSFORMATION (DCT)"
INST_CMPRS_RATIO = 10.8252
INST_CMPRS_QUALITY = 0
INST_CMPRS_QUANTZ_TBL_ID = 0
INSTRUMENT_TEMPERATURE = 11.4379
LENS_TEMPERATURE = 8.7872
MACROPIXEL_SIZE = 2
MISSING_FRAMES = 0
PIXEL_SUBSAMPLING_FLAG = N
SIGNAL_CHAIN_ID = 1
/* RADIOMETRIC DATA ELEMENTS */
BANDWIDTH = 178.0
CENTER_FILTER_WAVELENGTH = 679.0
RADIANCE_OFFSET = 10.3384
RADIANCE_SCALING_FACTOR = 0.022283
REFLECTANCE_SCALING_FACTOR = 0.000509816
MEX:REFLECTANCE_OFFSET = 0.236534
/* IMAGE OBJECT DEFINITIONS */
OBJECT = IMAGE
  INTERCHANGE_FORMAT = BINARY
  LINES = 25673
  LINE_SAMPLES = 7352
  SAMPLE_TYPE = UNSIGNED_INTEGER
  SAMPLE_BITS = 8
  BANDS = 1
  BAND_STORAGE_TYPE = BAND_SEQUENTIAL
  MAXIMUM = 254
  MEAN = 110.12
  MINIMUM = 1
  STANDARD_DEVIATION = 57.0051
END_OBJECT = IMAGE
/* MAP OBJECT DEFINITIONS */
OBJECT = IMAGE_MAP_PROJECTION
  ^DATA_SET_MAP_PROJECTION_CATALOG= "DSMAP.CAT"
  A_AXIS_RADIUS = 3396.0
  B_AXIS_RADIUS = 3396.0
  C_AXIS_RADIUS = 3396.0
  CENTER_LATITUDE = 0.0
  CENTER_LONGITUDE = 333.0
  COORDINATE_SYSTEM_NAME = PLANETOGRAPHIC
  COORDINATE_SYSTEM_TYPE = "BODY-FIXED ROTATING"
  EASTERNMOST_LONGITUDE = 337.195
  FIRST_STANDARD_PARALLEL = "N/A"
  LINE_FIRST_PIXEL = 1
  LINE_LAST_PIXEL = 25673
  LINE_PROJECTION_OFFSET = -162729.75
  MAP_PROJECTION_ROTATION = 0.0
  MAP_PROJECTION_TYPE = SINUSOIDAL
  MAP_RESOLUTION = 2370.85521546667
  MAP_SCALE = 0.025
  MAXIMUM_LATITUDE = -68.62520000000001
  MINIMUM_LATITUDE = -79.4376
  POSITIVE_LONGITUDE_DIRECTION = EAST
  REFERENCE_LATITUDE = "N/A"
  REFERENCE_LONGITUDE = "N/A"
  SAMPLE_FIRST_PIXEL = 1
  SAMPLE_LAST_PIXEL = 7352
  SAMPLE_PROJECTION_OFFSET = 3794.75
  SECOND_STANDARD_PARALLEL = "N/A"
  WESTERNMOST_LONGITUDE = 324.605
END_OBJECT = IMAGE_MAP_PROJECTION
END
