PDS_VERSION_ID = PDS3
/* FILE DATA ELEMENTS */
RECORD_TYPE = UNDEFINED
/* POINTERS TO DATA OBJECTS */
^IMAGE = ("H4507_0000_S24.TIF")
/* IDENTIFICATION DATA ELEMENTS */
DATA_SET_ID = "MEX-M-HRSC-4-REFDR-MAPPROJECT-EXT1-V4.0"
DATA_SET_NAME = "MARS EXPRESS HRSC MAP PROJECTED REFDR EXTENSION1 V4.0"
DETECTOR_ID = MEX_HRSC_S2
EVENT_TYPE = "MARS-REGIONAL-MAPPING-Vo-Te-Gl"
INSTRUMENT_HOST_ID = MEX
INSTRUMENT_HOST_NAME = "MARS EXPRESS"
INSTRUMENT_ID = HRSC
INSTRUMENT_NAME = "HIGH RESOLUTION STEREO CAMERA"
MISSION_NAME = "MARS EXPRESS"
MISSION_PHASE_NAME = ME_Phase_8
PROCESSING_LEVEL_ID = 4
PRODUCT_CREATION_TIME = 2023-02-11T00:15:54.000Z
PRODUCT_ID = "H4507_0000_S24.TIF"
RELEASE_ID = 0007
REVISION_ID = 0000
/* QUALITY DATA ELEMENTS */
DATA_QUALITY_ID = 1
DATA_QUALITY_DESC = "Data calculated based on original SPICE kernels"
/* TIME DATA ELEMENTS */
SPACECRAFT_CLOCK_START_COUNT = "1/0131992934.09028"
SPACECRAFT_CLOCK_STOP_COUNT = "1/0131993215.24919"
START_TIME = 2007-07-08T16:43:09.470Z
STOP_TIME = 2007-07-08T16:46:57.460Z
/* ORBITAL DATA ELEMENTS */
ASCENDING_NODE_LONGITUDE = 134.02
MAXIMUM_RESOLUTION = 0.0247
FOOTPRINT_POINT_LATITUDE = (-74.3721,-74.4496,-74.5599,-74.5615, -74.6595,-74.246,-73.9702,-73.6953, -73.4193,-73.1418,-72.5916,-72.3072, -71.8819,-71.5971,-71.1722,-70.8888, -70.6038,-70.3199,-70.0375,-69.7545, -69.4709,-69.1892,-68.7667,-68.4851, -68.1977,-67.9063,-67.6144,-67.3233, -67.0318,-66.7394,-66.4501,-66.159, -65.8699,-65.5753,-65.2764,-64.8269, -64.5301,-64.0851,-63.7889,-63.4873, -63.181,-62.7228,-62.268,-61.9645, -61.6532,-61.3409,-61.0291,-60.7222, -60.4074,-60.2528,-60.0979,-60.0404, -60.0002,-59.999,-59.9991,-60.3076, -60.6173,-60.9273,-61.2378,-61.5493, -62.0097,-62.3191,-62.6217,-62.9187, -63.2215,-63.6737,-63.9684,-64.2643, -64.7093,-65.0065,-65.3054,-65.7484, -66.0363,-66.326,-66.6151,-66.9044, -67.3367,-67.6234,-68.0577,-68.3471, -68.7669,-69.0469,-69.3261,-69.6057, -69.8865,-70.1678,-70.5893,-70.8702, -71.1516,-71.4342,-71.7152,-71.9973, -72.2777,-72.5561,-73.1005,-73.5083, -73.7797,-74.1885,-74.3235,-74.3721)
FOOTPRINT_POINT_LONGITUDE = (35.9989,37.3264,39.4952,39.53,39.5866, 39.8497,40.0171,40.1789,40.3344,40.4837 ,40.7695,40.9108,41.1146,41.244,41.4313 ,41.551,41.666,41.7779,41.887,41.9923, 42.094,42.1936,42.3372,42.4294,42.5211, 42.6112,42.6985,42.7834,42.8656,42.9449 ,43.0233,43.0985,43.1725,43.2458, 43.3182,43.4222,43.4904,43.589,43.6526, 43.7159,43.7779,43.868,43.9558,44.012, 44.0686,44.1239,44.1777,44.2322,44.2814 ,44.3067,44.331,42.8097,41.9084,41.8847 ,41.8761,41.8198,41.7612,41.701,41.6389 ,41.5745,41.4768,41.4033,41.3344, 41.2691,41.1965,41.0833,41.0067,40.927, 40.8023,40.7159,40.6254,40.4873,40.3947 ,40.2974,40.1983,40.0961,39.9396, 39.8332,39.6626,39.5411,39.3626,39.2391 ,39.113,38.9824,38.846,38.7047,38.4848, 38.3323,38.174,38.0085,37.8399,37.6634, 37.4837,37.2954,36.9093,36.6019,36.3883 ,36.049,35.934,35.9989)
ORBIT_NUMBER = 4507
ORBITAL_ECCENTRICITY = 0.57
ORBITAL_INCLINATION = 86.69
ORBITAL_SEMIMAJOR_AXIS = 8536.5
PERIAPSIS_ALTITUDE = 292.76
PERIAPSIS_ARGUMENT_ANGLE = 284.58
PERIAPSIS_TIME = 2007-07-08T16:42:36.000Z
SPACECRAFT_ORIENTATION = (0.0,-1.0,0.0)
^MEX_ORIENTATION_DESC = "MEX_ORIENTATION_DESC.TXT"
SPACECRAFT_POINTING_MODE = NADIR
^MEX_POINTING_DESC = "MEX_POINTING_DESC.TXT"
RIGHT_ASCENSION = -1e+32
DECLINATION = -1e+32
OFFSET_ANGLE = -1e+32
SPACECRAFT_SOLAR_DISTANCE = 2.07912e+08
TARGET_NAME = MARS
/* CAMERA DATA ELEMENTS */
DETECTOR_TEMPERATURE = 18.5744
FOCAL_PLANE_TEMPERATURE = 7.9716
INST_CMPRS_NAME = "DISCRETE COSINE TRANSFORMATION (DCT)"
INST_CMPRS_RATIO = 10.3636
INST_CMPRS_QUALITY = 0
INST_CMPRS_QUANTZ_TBL_ID = 0
INSTRUMENT_TEMPERATURE = 11.0301
LENS_TEMPERATURE = 8.1755
MACROPIXEL_SIZE = 2
MISSING_FRAMES = 0
PIXEL_SUBSAMPLING_FLAG = N
SIGNAL_CHAIN_ID = 1
/* RADIOMETRIC DATA ELEMENTS */
BANDWIDTH = 178.0
CENTER_FILTER_WAVELENGTH = 679.0
RADIANCE_OFFSET = 11.4588
RADIANCE_SCALING_FACTOR = 0.0060931
REFLECTANCE_SCALING_FACTOR = 0.000139485
MEX:REFLECTANCE_OFFSET = 0.262319
/* IMAGE OBJECT DEFINITIONS */
OBJECT = IMAGE
  INTERCHANGE_FORMAT = BINARY
  LINES = 34769
  LINE_SAMPLES = 7150
  SAMPLE_TYPE = UNSIGNED_INTEGER
  SAMPLE_BITS = 8
  BANDS = 1
  BAND_STORAGE_TYPE = BAND_SEQUENTIAL
  MAXIMUM = 255
  MEAN = 144.08
  MINIMUM = 1
  STANDARD_DEVIATION = 46.5498
END_OBJECT = IMAGE
/* MAP OBJECT DEFINITIONS */
OBJECT = IMAGE_MAP_PROJECTION
  ^DATA_SET_MAP_PROJECTION_CATALOG= "DSMAP.CAT"
  A_AXIS_RADIUS = 3396.0
  B_AXIS_RADIUS = 3396.0
  C_AXIS_RADIUS = 3396.0
  CENTER_LATITUDE = 0.0
  CENTER_LONGITUDE = 41.0
  COORDINATE_SYSTEM_NAME = PLANETOGRAPHIC
  COORDINATE_SYSTEM_TYPE = "BODY-FIXED ROTATING"
  EASTERNMOST_LONGITUDE = 44.331
  FIRST_STANDARD_PARALLEL = "N/A"
  LINE_FIRST_PIXEL = 1
  LINE_LAST_PIXEL = 34769
  LINE_PROJECTION_OFFSET = -142262.75
  MAP_PROJECTION_ROTATION = 0.0
  MAP_PROJECTION_TYPE = SINUSOIDAL
  MAP_RESOLUTION = 2370.85521546667
  MAP_SCALE = 0.025
  MAXIMUM_LATITUDE = -59.999
  MINIMUM_LATITUDE = -74.65949999999999
  POSITIVE_LONGITUDE_DIRECTION = EAST
  REFERENCE_LATITUDE = "N/A"
  REFERENCE_LONGITUDE = "N/A"
  SAMPLE_FIRST_PIXEL = 1
  SAMPLE_LAST_PIXEL = 7150
  SAMPLE_PROJECTION_OFFSET = 3293.75
  SECOND_STANDARD_PARALLEL = "N/A"
  WESTERNMOST_LONGITUDE = 35.934
END_OBJECT = IMAGE_MAP_PROJECTION
END
