PDS_VERSION_ID = PDS3
/* FILE DATA ELEMENTS */
RECORD_TYPE = UNDEFINED
/* POINTERS TO DATA OBJECTS */
^IMAGE = ("H4518_0000_ND4.TIF")
/* IDENTIFICATION DATA ELEMENTS */
DATA_SET_ID = "MEX-M-HRSC-4-REFDR-MAPPROJECT-EXT1-V4.0"
DATA_SET_NAME = "MARS EXPRESS HRSC MAP PROJECTED REFDR EXTENSION1 V4.0"
DETECTOR_ID = MEX_HRSC_NADIR
EVENT_TYPE = "MARS-REGIONAL-MAPPING-Vo-Te-Gl"
INSTRUMENT_HOST_ID = MEX
INSTRUMENT_HOST_NAME = "MARS EXPRESS"
INSTRUMENT_ID = HRSC
INSTRUMENT_NAME = "HIGH RESOLUTION STEREO CAMERA"
MISSION_NAME = "MARS EXPRESS"
MISSION_PHASE_NAME = ME_Phase_8
PROCESSING_LEVEL_ID = 4
PRODUCT_CREATION_TIME = 2023-02-11T00:15:54.000Z
PRODUCT_ID = "H4518_0000_ND4.TIF"
RELEASE_ID = 0007
REVISION_ID = 0000
/* QUALITY DATA ELEMENTS */
DATA_QUALITY_ID = 1
DATA_QUALITY_DESC = "Data calculated based on original SPICE kernels"
/* TIME DATA ELEMENTS */
SPACECRAFT_CLOCK_START_COUNT = "1/0132259071.08416"
SPACECRAFT_CLOCK_STOP_COUNT = "1/0132259356.31527"
START_TIME = 2007-07-11T18:38:21.062Z
STOP_TIME = 2007-07-11T18:42:05.037Z
/* ORBITAL DATA ELEMENTS */
ASCENDING_NODE_LONGITUDE = 133.79
MAXIMUM_RESOLUTION = 0.0116
FOOTPRINT_POINT_LATITUDE = (-74.2239,-74.3095,-74.3784,-74.4409, -74.4428,-74.4448,-73.909,-73.3552, -73.0766,-72.7979,-72.5191,-72.2402, -71.9612,-71.6822,-71.4032,-71.1241, -70.845,-70.5659,-70.2868,-70.0077, -69.4496,-68.8917,-68.46,-68.1709, -67.8818,-67.5929,-67.3041,-67.0153, -66.7267,-66.4382,-66.1498,-65.707, -65.4087,-65.1105,-64.8126,-64.5149, -64.2173,-63.9199,-63.6159,-63.3088, -63.0019,-62.6953,-62.3889,-62.0827, -61.6121,-61.2965,-60.9812,-60.6662, -60.3515,-60.0372,-59.8801,-59.8619, -59.8317,-59.7835,-59.7445,-59.743, -59.7425,-60.0555,-60.3687,-60.6823, -60.9961,-61.3102,-61.6247,-61.9361, -62.2408,-62.5463,-62.8516,-63.157, -63.4627,-63.7658,-64.0616,-64.3574, -64.6535,-64.9496,-65.2457,-65.5422, -65.9826,-66.269,-66.5556,-66.8422, -67.1289,-67.4156,-67.7024,-67.9893, -68.2762,-68.7053,-69.2587,-69.812, -70.3652,-70.918,-71.4697,-72.1586, -72.4346,-72.7092,-72.9841,-73.2588, -73.6678,-74.0636,-74.1953,-74.2239)
FOOTPRINT_POINT_LONGITUDE = (33.3005,34.553,35.6594,36.7603,36.7946 ,36.8162,37.2079,37.5852,37.7652, 37.9392,38.1074,38.2701,38.4275,38.58, 38.7276,38.8707,39.0095,39.144,39.2745, 39.4011,39.6435,39.8724,40.0408,40.1495 ,40.2552,40.3582,40.4584,40.5555, 40.6502,40.7421,40.8318,40.965,41.0518, 41.1362,41.2186,41.2991,41.3771,41.4532 ,41.5292,41.604,41.6775,41.7492,41.8184 ,41.8853,41.9863,42.0519,42.116,42.1784 ,42.2393,42.2987,42.3278,42.3311, 41.6189,40.6351,39.932,39.9077,39.8957, 39.8301,39.7618,39.6918,39.6205,39.5463 ,39.4714,39.3849,39.3061,39.2351, 39.1533,39.0672,38.9804,38.8927,38.8021 ,38.7051,38.6098,38.5088,38.4023, 38.2966,38.1304,38.0203,37.9083,37.7901 ,37.6711,37.5476,37.4204,37.2901, 37.1575,36.953,36.6721,36.3745,36.0588, 35.7203,35.3491,34.8533,34.6536,34.4283 ,34.2054,33.9734,33.6109,33.2438,33.116 ,33.3005)
ORBIT_NUMBER = 4518
ORBITAL_ECCENTRICITY = 0.57
ORBITAL_INCLINATION = 86.69
ORBITAL_SEMIMAJOR_AXIS = 8534.97
PERIAPSIS_ALTITUDE = 292.91
PERIAPSIS_ARGUMENT_ANGLE = 282.67
PERIAPSIS_TIME = 2007-07-11T18:37:43.000Z
SPACECRAFT_ORIENTATION = (0.0,-1.0,0.0)
^MEX_ORIENTATION_DESC = "MEX_ORIENTATION_DESC.TXT"
SPACECRAFT_POINTING_MODE = ACROSSTRACK
^MEX_POINTING_DESC = "MEX_POINTING_DESC.TXT"
RIGHT_ASCENSION = -1e+32
DECLINATION = -1e+32
OFFSET_ANGLE = 0.45
SPACECRAFT_SOLAR_DISTANCE = 2.08143e+08
TARGET_NAME = MARS
/* CAMERA DATA ELEMENTS */
DETECTOR_TEMPERATURE = 18.7783
FOCAL_PLANE_TEMPERATURE = 8.9911
INST_CMPRS_NAME = "DISCRETE COSINE TRANSFORMATION (DCT)"
INST_CMPRS_RATIO = 6.96958
INST_CMPRS_QUALITY = 0
INST_CMPRS_QUANTZ_TBL_ID = 0
INSTRUMENT_TEMPERATURE = 11.4379
LENS_TEMPERATURE = 9.6028
MACROPIXEL_SIZE = 1
MISSING_FRAMES = 0
PIXEL_SUBSAMPLING_FLAG = N
SIGNAL_CHAIN_ID = 0
/* RADIOMETRIC DATA ELEMENTS */
BANDWIDTH = 177.0
CENTER_FILTER_WAVELENGTH = 677.5
RADIANCE_OFFSET = 9.81531
RADIANCE_SCALING_FACTOR = 0.0111872
REFLECTANCE_SCALING_FACTOR = 0.000257471
MEX:REFLECTANCE_OFFSET = 0.225898
/* IMAGE OBJECT DEFINITIONS */
OBJECT = IMAGE
  INTERCHANGE_FORMAT = BINARY
  LINES = 69716
  LINE_SAMPLES = 15543
  SAMPLE_TYPE = UNSIGNED_INTEGER
  SAMPLE_BITS = 8
  BANDS = 1
  BAND_STORAGE_TYPE = BAND_SEQUENTIAL
  MAXIMUM = 255
  MEAN = 137.123
  MINIMUM = 1
  STANDARD_DEVIATION = 49.1914
END_OBJECT = IMAGE
/* MAP OBJECT DEFINITIONS */
OBJECT = IMAGE_MAP_PROJECTION
  ^DATA_SET_MAP_PROJECTION_CATALOG= "DSMAP.CAT"
  A_AXIS_RADIUS = 3396.0
  B_AXIS_RADIUS = 3396.0
  C_AXIS_RADIUS = 3396.0
  CENTER_LATITUDE = 0.0
  CENTER_LONGITUDE = 39.0
  COORDINATE_SYSTEM_NAME = PLANETOGRAPHIC
  COORDINATE_SYSTEM_TYPE = "BODY-FIXED ROTATING"
  EASTERNMOST_LONGITUDE = 42.3311
  FIRST_STANDARD_PARALLEL = "N/A"
  LINE_FIRST_PIXEL = 1
  LINE_LAST_PIXEL = 69716
  LINE_PROJECTION_OFFSET = -283282.0
  MAP_PROJECTION_ROTATION = 0.0
  MAP_PROJECTION_TYPE = SINUSOIDAL
  MAP_RESOLUTION = 4741.71043093333
  MAP_SCALE = 0.0125
  MAXIMUM_LATITUDE = -59.7425
  MINIMUM_LATITUDE = -74.4448
  POSITIVE_LONGITUDE_DIRECTION = EAST
  REFERENCE_LATITUDE = "N/A"
  REFERENCE_LONGITUDE = "N/A"
  SAMPLE_FIRST_PIXEL = 1
  SAMPLE_LAST_PIXEL = 15543
  SAMPLE_PROJECTION_OFFSET = 7611.0
  SECOND_STANDARD_PARALLEL = "N/A"
  WESTERNMOST_LONGITUDE = 33.116
END_OBJECT = IMAGE_MAP_PROJECTION
END
