PDS_VERSION_ID = PDS3
/* FILE DATA ELEMENTS */
RECORD_TYPE = UNDEFINED
/* POINTERS TO DATA OBJECTS */
^IMAGE = ("H4520_0000_IR4.TIF")
/* IDENTIFICATION DATA ELEMENTS */
DATA_SET_ID = "MEX-M-HRSC-4-REFDR-MAPPROJECT-EXT1-V4.0"
DATA_SET_NAME = "MARS EXPRESS HRSC MAP PROJECTED REFDR EXTENSION1 V4.0"
DETECTOR_ID = MEX_HRSC_IR
EVENT_TYPE = "MARS-REGIONAL-MAPPING-Gl-La"
INSTRUMENT_HOST_ID = MEX
INSTRUMENT_HOST_NAME = "MARS EXPRESS"
INSTRUMENT_ID = HRSC
INSTRUMENT_NAME = "HIGH RESOLUTION STEREO CAMERA"
MISSION_NAME = "MARS EXPRESS"
MISSION_PHASE_NAME = ME_Phase_8
PROCESSING_LEVEL_ID = 4
PRODUCT_CREATION_TIME = 2023-02-11T00:15:54.000Z
PRODUCT_ID = "H4520_0000_IR4.TIF"
RELEASE_ID = 0007
REVISION_ID = 0000
/* QUALITY DATA ELEMENTS */
DATA_QUALITY_ID = 1
DATA_QUALITY_DESC = "Data calculated based on original SPICE kernels"
/* TIME DATA ELEMENTS */
SPACECRAFT_CLOCK_START_COUNT = "1/0132307249.07283"
SPACECRAFT_CLOCK_STOP_COUNT = "1/0132307441.15343"
START_TIME = 2007-07-12T08:00:58.480Z
STOP_TIME = 2007-07-12T08:03:15.930Z
/* ORBITAL DATA ELEMENTS */
ASCENDING_NODE_LONGITUDE = 133.75
MAXIMUM_RESOLUTION = 0.0486
FOOTPRINT_POINT_LATITUDE = (-86.2304,-86.5228,-86.8129,-87.1872, -87.196,-87.1979,-87.0453,-86.9337, -86.8154,-86.6913,-86.5616,-86.4267, -86.2868,-86.1421,-85.9951,-85.7706, -85.6193,-85.4681,-85.3157,-85.1606, -85.0036,-84.845,-84.6849,-84.5235, -84.3607,-84.1969,-84.032,-83.8661, -83.6992,-83.5315,-83.2795,-82.9517, -82.6213,-82.2888,-81.9543,-81.7864, -81.6181,-81.4493,-81.2802,-81.1108, -80.9409,-80.7708,-80.6003,-80.4295, -80.2585,-80.0872,-79.9156,-79.7437, -79.5715,-79.3984,-79.3118,-79.3072, -79.2255,-79.1412,-79.0562,-79.0534, -79.0532,-79.2208,-79.3879,-79.5544, -79.7202,-79.8871,-80.1352,-80.3003, -80.4643,-80.6278,-80.7909,-80.9534, -81.2765,-81.5967,-81.914,-82.2279, -82.5381,-82.8443,-83.078,-83.2329, -83.3864,-83.5384,-83.6887,-83.8372, -83.9839,-84.1285,-84.2711,-84.4803, -84.6168,-84.7506,-84.8813,-85.0088, -85.1998,-85.3222,-85.4409,-85.5548, -85.6637,-85.7674,-85.8654,-85.9564, -86.0408,-86.1553,-86.1898,-86.2304)
FOOTPRINT_POINT_LONGITUDE = (143.755,145.674,147.969,151.745, 151.848,153.669,158.282,161.085,163.667 ,166.039,168.246,170.312,172.249, 174.075,175.718,177.912,179.266,180.502 ,181.637,182.719,183.736,184.692, 185.591,186.437,187.236,187.99,188.702, 189.376,190.015,190.621,191.47,192.478, 193.396,194.237,195.008,195.37,195.718, 196.052,196.373,196.682,196.979,197.265 ,197.542,197.808,198.064,198.312, 198.552,198.783,199.007,199.228,199.336 ,199.342,197.37,195.648,194.114,194.067 ,194.05,193.756,193.452,193.138,192.815 ,192.479,191.955,191.59,191.213,190.823 ,190.418,189.999,189.113,188.159, 187.129,186.015,184.808,183.496,182.402 ,181.627,180.815,179.966,179.075, 178.142,177.163,176.136,175.058,173.339 ,172.118,170.836,169.488,168.073, 165.734,164.07,162.311,160.462,158.519, 156.479,154.337,152.111,149.789,146.107 ,144.83,143.755)
ORBIT_NUMBER = 4520
ORBITAL_ECCENTRICITY = 0.57
ORBITAL_INCLINATION = 86.7
ORBITAL_SEMIMAJOR_AXIS = 8533.39
PERIAPSIS_ALTITUDE = 292.56
PERIAPSIS_ARGUMENT_ANGLE = 282.32
PERIAPSIS_TIME = 2007-07-12T08:04:06.000Z
SPACECRAFT_ORIENTATION = (0.0,-1.0,0.0)
^MEX_ORIENTATION_DESC = "MEX_ORIENTATION_DESC.TXT"
SPACECRAFT_POINTING_MODE = ACROSSTRACK
^MEX_POINTING_DESC = "MEX_POINTING_DESC.TXT"
RIGHT_ASCENSION = -1e+32
DECLINATION = -1e+32
OFFSET_ANGLE = -0.3
SPACECRAFT_SOLAR_DISTANCE = 2.08187e+08
TARGET_NAME = MARS
/* CAMERA DATA ELEMENTS */
DETECTOR_TEMPERATURE = 17.7588
FOCAL_PLANE_TEMPERATURE = 8.3794
INST_CMPRS_NAME = "DISCRETE COSINE TRANSFORMATION (DCT)"
INST_CMPRS_RATIO = 9.05262
INST_CMPRS_QUALITY = 0
INST_CMPRS_QUANTZ_TBL_ID = 0
INSTRUMENT_TEMPERATURE = 10.2145
LENS_TEMPERATURE = 8.3794
MACROPIXEL_SIZE = 4
MISSING_FRAMES = 0
PIXEL_SUBSAMPLING_FLAG = N
SIGNAL_CHAIN_ID = 2
/* RADIOMETRIC DATA ELEMENTS */
BANDWIDTH = 81.0
CENTER_FILTER_WAVELENGTH = 955.5
RADIANCE_OFFSET = 1.85093
RADIANCE_SCALING_FACTOR = 0.00239495
REFLECTANCE_SCALING_FACTOR = 0.000223939
MEX:REFLECTANCE_OFFSET = 0.173071
/* IMAGE OBJECT DEFINITIONS */
OBJECT = IMAGE
  INTERCHANGE_FORMAT = BINARY
  LINES = 9672
  LINE_SAMPLES = 6147
  SAMPLE_TYPE = UNSIGNED_INTEGER
  SAMPLE_BITS = 8
  BANDS = 1
  BAND_STORAGE_TYPE = BAND_SEQUENTIAL
  MAXIMUM = 255
  MEAN = 108.308
  MINIMUM = 1
  STANDARD_DEVIATION = 51.7524
END_OBJECT = IMAGE
/* MAP OBJECT DEFINITIONS */
OBJECT = IMAGE_MAP_PROJECTION
  ^DATA_SET_MAP_PROJECTION_CATALOG= "DSMAP.CAT"
  A_AXIS_RADIUS = 3396.0
  B_AXIS_RADIUS = 3396.0
  C_AXIS_RADIUS = 3396.0
  CENTER_LATITUDE = 0.0
  CENTER_LONGITUDE = 186.0
  COORDINATE_SYSTEM_NAME = PLANETOGRAPHIC
  COORDINATE_SYSTEM_TYPE = "BODY-FIXED ROTATING"
  EASTERNMOST_LONGITUDE = 199.342
  FIRST_STANDARD_PARALLEL = "N/A"
  LINE_FIRST_PIXEL = 1
  LINE_LAST_PIXEL = 9672
  LINE_PROJECTION_OFFSET = -93671.125
  MAP_PROJECTION_ROTATION = 0.0
  MAP_PROJECTION_TYPE = SINUSOIDAL
  MAP_RESOLUTION = 1185.42760773333
  MAP_SCALE = 0.05
  MAXIMUM_LATITUDE = -79.0532
  MINIMUM_LATITUDE = -87.1979
  POSITIVE_LONGITUDE_DIRECTION = EAST
  REFERENCE_LATITUDE = "N/A"
  REFERENCE_LONGITUDE = "N/A"
  SAMPLE_FIRST_PIXEL = 1
  SAMPLE_LAST_PIXEL = 6147
  SAMPLE_PROJECTION_OFFSET = 3206.875
  SECOND_STANDARD_PARALLEL = "N/A"
  WESTERNMOST_LONGITUDE = 143.755
END_OBJECT = IMAGE_MAP_PROJECTION
END
