PDS_VERSION_ID = PDS3
/* FILE DATA ELEMENTS */
RECORD_TYPE = UNDEFINED
/* POINTERS TO DATA OBJECTS */
^IMAGE = ("H4522_0000_ND4.TIF")
/* IDENTIFICATION DATA ELEMENTS */
DATA_SET_ID = "MEX-M-HRSC-4-REFDR-MAPPROJECT-EXT1-V4.0"
DATA_SET_NAME = "MARS EXPRESS HRSC MAP PROJECTED REFDR EXTENSION1 V4.0"
DETECTOR_ID = MEX_HRSC_NADIR
EVENT_TYPE = "MARS-REGIONAL-MAPPING-Im-Fl-Pf"
INSTRUMENT_HOST_ID = MEX
INSTRUMENT_HOST_NAME = "MARS EXPRESS"
INSTRUMENT_ID = HRSC
INSTRUMENT_NAME = "HIGH RESOLUTION STEREO CAMERA"
MISSION_NAME = "MARS EXPRESS"
MISSION_PHASE_NAME = ME_Phase_8
PROCESSING_LEVEL_ID = 4
PRODUCT_CREATION_TIME = 2023-02-11T00:15:54.000Z
PRODUCT_ID = "H4522_0000_ND4.TIF"
RELEASE_ID = 0007
REVISION_ID = 0000
/* QUALITY DATA ELEMENTS */
DATA_QUALITY_ID = 1
DATA_QUALITY_DESC = "Data calculated based on original SPICE kernels"
/* TIME DATA ELEMENTS */
SPACECRAFT_CLOCK_START_COUNT = "1/0132356069.07288"
SPACECRAFT_CLOCK_STOP_COUNT = "1/0132356289.40219"
START_TIME = 2007-07-12T21:35:04.150Z
STOP_TIME = 2007-07-12T21:37:26.165Z
/* ORBITAL DATA ELEMENTS */
ASCENDING_NODE_LONGITUDE = 133.71
MAXIMUM_RESOLUTION = 0.0142
FOOTPRINT_POINT_LATITUDE = (-59.696,-59.7329,-59.7589,-59.7743, -59.794,-59.7948,-59.7972,-59.4871, -59.1774,-58.868,-58.5592,-58.2505, -57.8957,-57.712,-57.5285,-57.3451, -57.1619,-56.9788,-56.7959,-56.6131, -56.4304,-56.2479,-56.0656,-55.8834, -55.7014,-55.5196,-55.3378,-55.1564, -54.9751,-54.7939,-54.6128,-54.432, -54.0706,-53.7098,-53.4334,-53.2487, -53.0642,-52.88,-52.6959,-52.5072, -52.3186,-52.1302,-51.9421,-51.7541, -51.5616,-51.3692,-51.177,-50.9851, -50.8892,-50.8771,-50.8661,-50.8531, -50.8406,-50.8292,-50.8177,-50.8025, -50.8015,-50.8012,-50.9925,-51.184, -51.3757,-51.5676,-51.7576,-51.9452, -52.1329,-52.3208,-52.5089,-52.6951, -52.8788,-53.0626,-53.2467,-53.4309, -53.6147,-53.9742,-54.3345,-54.6954, -55.0569,-55.2379,-55.4191,-55.6004, -55.7819,-55.9635,-56.1453,-56.3272, -56.5093,-56.6916,-56.874,-57.0565, -57.2391,-57.4219,-57.6048,-57.7879, -58.1433,-58.4509,-58.7588,-59.0671, -59.3757,-59.6074,-59.6847,-59.696)
FOOTPRINT_POINT_LONGITUDE = (7.7782,8.54609,9.15216,9.54868,10.11, 10.1334,10.1898,10.2372,10.2827,10.3271 ,10.3734,10.4138,10.4607,10.4853, 10.5092,10.533,10.5565,10.5798,10.6031, 10.6251,10.6472,10.6692,10.6913,10.7129 ,10.7339,10.7548,10.7745,10.7967, 10.8188,10.8398,10.8589,10.8787,10.9136 ,10.9485,10.9755,10.9937,11.0113,11.029 ,11.0465,11.0641,11.0816,11.0987, 11.1159,11.1329,11.1506,11.1684,11.1836 ,11.1988,11.2069,11.2079,10.7311, 10.2545,9.84925,9.51512,9.20488,8.82292 ,8.79904,8.78733,8.77293,8.75894, 8.74417,8.72771,8.71222,8.69603,8.681, 8.66484,8.64863,8.6333,8.61897,8.60147, 8.58381,8.56618,8.54826,8.51126,8.47394 ,8.43579,8.39516,8.37439,8.3531,8.33119 ,8.30896,8.28673,8.26419,8.24164, 8.21963,8.19613,8.17222,8.14799,8.12004 ,8.09323,8.06693,8.04022,7.98711,7.9398 ,7.89093,7.83961,7.78825,7.74819, 7.73471,7.7782)
ORBIT_NUMBER = 4522
ORBITAL_ECCENTRICITY = 0.57
ORBITAL_INCLINATION = 86.69
ORBITAL_SEMIMAJOR_AXIS = 8533.84
PERIAPSIS_ALTITUDE = 293.25
PERIAPSIS_ARGUMENT_ANGLE = 281.96
PERIAPSIS_TIME = 2007-07-12T21:30:29.000Z
SPACECRAFT_ORIENTATION = (0.0,-1.0,0.0)
^MEX_ORIENTATION_DESC = "MEX_ORIENTATION_DESC.TXT"
SPACECRAFT_POINTING_MODE = NADIR
^MEX_POINTING_DESC = "MEX_POINTING_DESC.TXT"
RIGHT_ASCENSION = -1e+32
DECLINATION = -1e+32
OFFSET_ANGLE = -1e+32
SPACECRAFT_SOLAR_DISTANCE = 2.08232e+08
TARGET_NAME = MARS
/* CAMERA DATA ELEMENTS */
DETECTOR_TEMPERATURE = 18.3705
FOCAL_PLANE_TEMPERATURE = 8.7872
INST_CMPRS_NAME = "DISCRETE COSINE TRANSFORMATION (DCT)"
INST_CMPRS_RATIO = 6.96962
INST_CMPRS_QUALITY = 0
INST_CMPRS_QUANTZ_TBL_ID = 0
INSTRUMENT_TEMPERATURE = 11.234
LENS_TEMPERATURE = 9.195
MACROPIXEL_SIZE = 1
MISSING_FRAMES = 0
PIXEL_SUBSAMPLING_FLAG = N
SIGNAL_CHAIN_ID = 0
/* RADIOMETRIC DATA ELEMENTS */
BANDWIDTH = 177.0
CENTER_FILTER_WAVELENGTH = 677.5
RADIANCE_OFFSET = 10.4428
RADIANCE_SCALING_FACTOR = 0.0110433
REFLECTANCE_SCALING_FACTOR = 0.000254376
MEX:REFLECTANCE_OFFSET = 0.240544
/* IMAGE OBJECT DEFINITIONS */
OBJECT = IMAGE
  INTERCHANGE_FORMAT = BINARY
  LINES = 42658
  LINE_SAMPLES = 9040
  SAMPLE_TYPE = UNSIGNED_INTEGER
  SAMPLE_BITS = 8
  BANDS = 1
  BAND_STORAGE_TYPE = BAND_SEQUENTIAL
  MAXIMUM = 254
  MEAN = 135.45
  MINIMUM = 1
  STANDARD_DEVIATION = 40.0611
END_OBJECT = IMAGE
/* MAP OBJECT DEFINITIONS */
OBJECT = IMAGE_MAP_PROJECTION
  ^DATA_SET_MAP_PROJECTION_CATALOG= "DSMAP.CAT"
  A_AXIS_RADIUS = 3396.0
  B_AXIS_RADIUS = 3396.0
  C_AXIS_RADIUS = 3396.0
  CENTER_LATITUDE = 0.0
  CENTER_LONGITUDE = 10.0
  COORDINATE_SYSTEM_NAME = PLANETOGRAPHIC
  COORDINATE_SYSTEM_TYPE = "BODY-FIXED ROTATING"
  EASTERNMOST_LONGITUDE = 11.2079
  FIRST_STANDARD_PARALLEL = "N/A"
  LINE_FIRST_PIXEL = 1
  LINE_LAST_PIXEL = 42658
  LINE_PROJECTION_OFFSET = -240885.0
  MAP_PROJECTION_ROTATION = 0.0
  MAP_PROJECTION_TYPE = SINUSOIDAL
  MAP_RESOLUTION = 4741.71043093333
  MAP_SCALE = 0.0125
  MAXIMUM_LATITUDE = -50.8012
  MINIMUM_LATITUDE = -59.7972
  POSITIVE_LONGITUDE_DIRECTION = EAST
  REFERENCE_LATITUDE = "N/A"
  REFERENCE_LONGITUDE = "N/A"
  SAMPLE_FIRST_PIXEL = 1
  SAMPLE_LAST_PIXEL = 9040
  SAMPLE_PROJECTION_OFFSET = 5424.0
  SECOND_STANDARD_PARALLEL = "N/A"
  WESTERNMOST_LONGITUDE = 7.73471
END_OBJECT = IMAGE_MAP_PROJECTION
END
