PDS_VERSION_ID = PDS3
/* FILE DATA ELEMENTS */
RECORD_TYPE = UNDEFINED
/* POINTERS TO DATA OBJECTS */
^IMAGE = ("H4522_0000_P24.TIF")
/* IDENTIFICATION DATA ELEMENTS */
DATA_SET_ID = "MEX-M-HRSC-4-REFDR-MAPPROJECT-EXT1-V4.0"
DATA_SET_NAME = "MARS EXPRESS HRSC MAP PROJECTED REFDR EXTENSION1 V4.0"
DETECTOR_ID = MEX_HRSC_P2
EVENT_TYPE = "MARS-REGIONAL-MAPPING-Im-Fl-Pf"
INSTRUMENT_HOST_ID = MEX
INSTRUMENT_HOST_NAME = "MARS EXPRESS"
INSTRUMENT_ID = HRSC
INSTRUMENT_NAME = "HIGH RESOLUTION STEREO CAMERA"
MISSION_NAME = "MARS EXPRESS"
MISSION_PHASE_NAME = ME_Phase_8
PROCESSING_LEVEL_ID = 4
PRODUCT_CREATION_TIME = 2023-02-11T00:15:54.000Z
PRODUCT_ID = "H4522_0000_P24.TIF"
RELEASE_ID = 0007
REVISION_ID = 0000
/* QUALITY DATA ELEMENTS */
DATA_QUALITY_ID = 1
DATA_QUALITY_DESC = "Data calculated based on original SPICE kernels"
/* TIME DATA ELEMENTS */
SPACECRAFT_CLOCK_START_COUNT = "1/0132356069.07288"
SPACECRAFT_CLOCK_STOP_COUNT = "1/0132356289.40219"
START_TIME = 2007-07-12T21:35:26.291Z
STOP_TIME = 2007-07-12T21:37:55.008Z
/* ORBITAL DATA ELEMENTS */
ASCENDING_NODE_LONGITUDE = 133.71
MAXIMUM_RESOLUTION = 0.0301
FOOTPRINT_POINT_LATITUDE = (-59.6344,-59.667,-59.6944,-59.708, -59.732,-59.7327,-59.7853,-59.468, -59.2907,-59.1136,-58.8484,-58.6746, -58.4989,-58.3212,-58.0547,-57.8795, -57.6166,-57.3547,-57.1795,-57.0053, -56.7444,-56.57,-56.3963,-56.0499, -55.7045,-55.1872,-54.9262,-54.7513, -54.5749,-54.3994,-54.2206,-54.0392, -53.8552,-53.586,-53.4063,-53.2228, -52.948,-52.7652,-52.5826,-52.3032, -52.1169,-51.9315,-51.7456,-51.5572, -51.3686,-51.1762,-50.9863,-50.8909, -50.875,-50.8683,-50.8621,-50.8502, -50.8397,-50.8231,-50.8071,-50.8064, -50.8066,-50.9964,-51.1842,-51.3731, -51.5639,-51.8461,-52.0298,-52.2156, -52.4014,-52.5845,-52.7625,-53.0367, -53.2196,-53.4004,-53.5791,-53.759, -53.9384,-54.1178,-54.2952,-54.4702, -54.6452,-54.8207,-54.997,-55.1729, -55.5174,-55.776,-56.1213,-56.3782, -56.7239,-57.1585,-57.3356,-57.5102, -57.6848,-57.8591,-58.0344,-58.2093, -58.3846,-58.647,-58.9116,-59.0885, -59.2642,-59.5968,-59.6708,-59.6344)
FOOTPRINT_POINT_LONGITUDE = (7.7528,8.4622,9.12505,9.48031,10.169, 10.1927,10.2402,10.2891,10.3156,10.3418 ,10.3804,10.4078,10.4332,10.4568, 10.4912,10.5154,10.5507,10.5857,10.6081 ,10.6308,10.6642,10.6856,10.7071, 10.7495,10.791,10.8519,10.8845,10.905, 10.924,10.9434,10.9617,10.9798,10.9957, 11.0235,11.0414,11.0597,11.0869,11.1049 ,11.1225,11.1491,11.1667,11.1845, 11.2015,11.2197,11.2375,11.2524,11.2687 ,11.2772,11.2786,10.9585,10.6627, 10.1699,9.77523,9.23235,8.76284,8.73789 ,8.72896,8.71546,8.70233,8.68825, 8.67252,8.64849,8.63513,8.61987,8.60445 ,8.58912,8.57683,8.5519,8.53504,8.51825 ,8.50125,8.48305,8.46515,8.44717, 8.42918,8.41125,8.39316,8.37438,8.35485 ,8.33501,8.29499,8.26423,8.22227, 8.19232,8.14868,8.09043,8.06333,8.03863 ,8.01375,7.98887,7.96268,7.93666, 7.90999,7.87,7.82704,7.7974,7.76886, 7.71244,7.69966,7.7528)
ORBIT_NUMBER = 4522
ORBITAL_ECCENTRICITY = 0.57
ORBITAL_INCLINATION = 86.69
ORBITAL_SEMIMAJOR_AXIS = 8533.84
PERIAPSIS_ALTITUDE = 293.25
PERIAPSIS_ARGUMENT_ANGLE = 281.96
PERIAPSIS_TIME = 2007-07-12T21:30:29.000Z
SPACECRAFT_ORIENTATION = (0.0,-1.0,0.0)
^MEX_ORIENTATION_DESC = "MEX_ORIENTATION_DESC.TXT"
SPACECRAFT_POINTING_MODE = NADIR
^MEX_POINTING_DESC = "MEX_POINTING_DESC.TXT"
RIGHT_ASCENSION = -1e+32
DECLINATION = -1e+32
OFFSET_ANGLE = -1e+32
SPACECRAFT_SOLAR_DISTANCE = 2.08232e+08
TARGET_NAME = MARS
/* CAMERA DATA ELEMENTS */
DETECTOR_TEMPERATURE = 18.7783
FOCAL_PLANE_TEMPERATURE = 8.7872
INST_CMPRS_NAME = "DISCRETE COSINE TRANSFORMATION (DCT)"
INST_CMPRS_RATIO = 9.12167
INST_CMPRS_QUALITY = 0
INST_CMPRS_QUANTZ_TBL_ID = 0
INSTRUMENT_TEMPERATURE = 11.234
LENS_TEMPERATURE = 9.195
MACROPIXEL_SIZE = 2
MISSING_FRAMES = 0
PIXEL_SUBSAMPLING_FLAG = N
SIGNAL_CHAIN_ID = 3
/* RADIOMETRIC DATA ELEMENTS */
BANDWIDTH = 177.0
CENTER_FILTER_WAVELENGTH = 676.5
RADIANCE_OFFSET = 10.8488
RADIANCE_SCALING_FACTOR = 0.00932988
REFLECTANCE_SCALING_FACTOR = 0.0002145
MEX:REFLECTANCE_OFFSET = 0.249421
/* IMAGE OBJECT DEFINITIONS */
OBJECT = IMAGE
  INTERCHANGE_FORMAT = BINARY
  LINES = 21329
  LINE_SAMPLES = 4520
  SAMPLE_TYPE = UNSIGNED_INTEGER
  SAMPLE_BITS = 8
  BANDS = 1
  BAND_STORAGE_TYPE = BAND_SEQUENTIAL
  MAXIMUM = 254
  MEAN = 136.404
  MINIMUM = 1
  STANDARD_DEVIATION = 45.7189
END_OBJECT = IMAGE
/* MAP OBJECT DEFINITIONS */
OBJECT = IMAGE_MAP_PROJECTION
  ^DATA_SET_MAP_PROJECTION_CATALOG= "DSMAP.CAT"
  A_AXIS_RADIUS = 3396.0
  B_AXIS_RADIUS = 3396.0
  C_AXIS_RADIUS = 3396.0
  CENTER_LATITUDE = 0.0
  CENTER_LONGITUDE = 10.0
  COORDINATE_SYSTEM_NAME = PLANETOGRAPHIC
  COORDINATE_SYSTEM_TYPE = "BODY-FIXED ROTATING"
  EASTERNMOST_LONGITUDE = 11.2786
  FIRST_STANDARD_PARALLEL = "N/A"
  LINE_FIRST_PIXEL = 1
  LINE_LAST_PIXEL = 21329
  LINE_PROJECTION_OFFSET = -120442.75
  MAP_PROJECTION_ROTATION = 0.0
  MAP_PROJECTION_TYPE = SINUSOIDAL
  MAP_RESOLUTION = 2370.85521546667
  MAP_SCALE = 0.025
  MAXIMUM_LATITUDE = -50.8064
  MINIMUM_LATITUDE = -59.7853
  POSITIVE_LONGITUDE_DIRECTION = EAST
  REFERENCE_LATITUDE = "N/A"
  REFERENCE_LONGITUDE = "N/A"
  SAMPLE_FIRST_PIXEL = 1
  SAMPLE_LAST_PIXEL = 4520
  SAMPLE_PROJECTION_OFFSET = 2711.75
  SECOND_STANDARD_PARALLEL = "N/A"
  WESTERNMOST_LONGITUDE = 7.69966
END_OBJECT = IMAGE_MAP_PROJECTION
END
