PDS_VERSION_ID = PDS3
/* FILE DATA ELEMENTS */
RECORD_TYPE = UNDEFINED
/* POINTERS TO DATA OBJECTS */
^IMAGE = ("H4524_0000_P24.TIF")
/* IDENTIFICATION DATA ELEMENTS */
DATA_SET_ID = "MEX-M-HRSC-4-REFDR-MAPPROJECT-EXT1-V4.0"
DATA_SET_NAME = "MARS EXPRESS HRSC MAP PROJECTED REFDR EXTENSION1 V4.0"
DETECTOR_ID = MEX_HRSC_P2
EVENT_TYPE = "MARS-REGIONAL-MAPPING-Im-Eo"
INSTRUMENT_HOST_ID = MEX
INSTRUMENT_HOST_NAME = "MARS EXPRESS"
INSTRUMENT_ID = HRSC
INSTRUMENT_NAME = "HIGH RESOLUTION STEREO CAMERA"
MISSION_NAME = "MARS EXPRESS"
MISSION_PHASE_NAME = ME_Phase_8
PROCESSING_LEVEL_ID = 4
PRODUCT_CREATION_TIME = 2023-02-11T00:15:54.000Z
PRODUCT_ID = "H4524_0000_P24.TIF"
RELEASE_ID = 0007
REVISION_ID = 0000
/* QUALITY DATA ELEMENTS */
DATA_QUALITY_ID = 1
DATA_QUALITY_DESC = "Data calculated based on original SPICE kernels"
/* TIME DATA ELEMENTS */
SPACECRAFT_CLOCK_START_COUNT = "1/0132404513.07283"
SPACECRAFT_CLOCK_STOP_COUNT = "1/0132404793.62018"
START_TIME = 2007-07-13T11:02:55.764Z
STOP_TIME = 2007-07-13T11:06:14.551Z
/* ORBITAL DATA ELEMENTS */
ASCENDING_NODE_LONGITUDE = 133.67
MAXIMUM_RESOLUTION = 0.033
FOOTPRINT_POINT_LATITUDE = (-56.0563,-56.086,-56.1227,-56.1436, -56.1442,-56.1887,-55.5881,-55.1721, -54.8617,-54.4473,-54.2364,-54.0271, -53.8177,-53.6048,-53.3905,-53.1766, -52.963,-52.7456,-52.5276,-52.3116, -52.0919,-51.8693,-51.5368,-51.2023, -50.9767,-50.6385,-50.4106,-50.1805, -49.9512,-49.7199,-49.4861,-49.2533, -48.8994,-48.663,-48.3067,-48.0674, -47.8271,-47.5836,-47.3397,-47.0972, -46.8497,-46.4795,-46.1028,-45.8519, -45.5974,-45.3433,-44.9574,-44.8292, -44.7847,-44.7746,-44.7659,-44.7581, -44.7479,-44.7381,-44.7266,-44.7259, -44.7262,-44.9833,-45.241,-45.4948, -45.8759,-46.1254,-46.5001,-46.7465, -47.1156,-47.3583,-47.6014,-47.8418, -48.0805,-48.4376,-48.6727,-48.9082, -49.1446,-49.3745,-49.6069,-49.9518, -50.1809,-50.5241,-50.7489,-50.9744, -51.3115,-51.643,-51.8645,-52.0844, -52.3012,-52.6271,-52.8445,-53.164, -53.3786,-53.591,-53.8021,-54.0108, -54.22,-54.4289,-54.6366,-55.1501, -55.5606,-55.9631,-56.064,-56.0563)
FOOTPRINT_POINT_LONGITUDE = (171.688,172.399,173.419,174.109, 174.133,174.172,174.248,174.294,174.327 ,174.375,174.397,174.42,174.442,174.465 ,174.487,174.508,174.53,174.551,174.572 ,174.594,174.613,174.634,174.664, 174.694,174.714,174.743,174.763,174.782 ,174.801,174.819,174.838,174.856, 174.883,174.902,174.929,174.948,174.965 ,174.983,175.0,175.018,175.036,175.062, 175.088,175.104,175.121,175.138,175.163 ,175.171,175.174,174.327,174.009, 173.692,173.217,172.874,172.478,172.452 ,172.442,172.434,172.426,172.417, 172.403,172.394,172.38,172.37,172.354, 172.343,172.332,172.321,172.31,172.292, 172.28,172.268,172.253,172.241,172.227, 172.205,172.19,172.166,172.151,172.134, 172.109,172.083,172.066,172.048,172.031 ,172.003,171.984,171.956,171.935, 171.916,171.896,171.876,171.855,171.834 ,171.813,171.757,171.71,171.663,171.65, 171.688)
ORBIT_NUMBER = 4524
ORBITAL_ECCENTRICITY = 0.57
ORBITAL_INCLINATION = 86.69
ORBITAL_SEMIMAJOR_AXIS = 8534.09
PERIAPSIS_ALTITUDE = 293.52
PERIAPSIS_ARGUMENT_ANGLE = 281.63
PERIAPSIS_TIME = 2007-07-13T10:56:54.000Z
SPACECRAFT_ORIENTATION = (0.0,-1.0,0.0)
^MEX_ORIENTATION_DESC = "MEX_ORIENTATION_DESC.TXT"
SPACECRAFT_POINTING_MODE = NADIR
^MEX_POINTING_DESC = "MEX_POINTING_DESC.TXT"
RIGHT_ASCENSION = -1e+32
DECLINATION = -1e+32
OFFSET_ANGLE = -1e+32
SPACECRAFT_SOLAR_DISTANCE = 2.08277e+08
TARGET_NAME = MARS
/* CAMERA DATA ELEMENTS */
DETECTOR_TEMPERATURE = 18.5744
FOCAL_PLANE_TEMPERATURE = 8.7872
INST_CMPRS_NAME = "DISCRETE COSINE TRANSFORMATION (DCT)"
INST_CMPRS_RATIO = 8.45828
INST_CMPRS_QUALITY = 0
INST_CMPRS_QUANTZ_TBL_ID = 0
INSTRUMENT_TEMPERATURE = 11.234
LENS_TEMPERATURE = 8.9911
MACROPIXEL_SIZE = 2
MISSING_FRAMES = 0
PIXEL_SUBSAMPLING_FLAG = N
SIGNAL_CHAIN_ID = 3
/* RADIOMETRIC DATA ELEMENTS */
BANDWIDTH = 177.0
CENTER_FILTER_WAVELENGTH = 676.5
RADIANCE_OFFSET = 10.3601
RADIANCE_SCALING_FACTOR = 0.0241089
REFLECTANCE_SCALING_FACTOR = 0.000554523
MEX:REFLECTANCE_OFFSET = 0.238291
/* IMAGE OBJECT DEFINITIONS */
OBJECT = IMAGE
  INTERCHANGE_FORMAT = BINARY
  LINES = 27188
  LINE_SAMPLES = 5230
  SAMPLE_TYPE = UNSIGNED_INTEGER
  SAMPLE_BITS = 8
  BANDS = 1
  BAND_STORAGE_TYPE = BAND_SEQUENTIAL
  MAXIMUM = 255
  MEAN = 145.004
  MINIMUM = 1
  STANDARD_DEVIATION = 61.3214
END_OBJECT = IMAGE
/* MAP OBJECT DEFINITIONS */
OBJECT = IMAGE_MAP_PROJECTION
  ^DATA_SET_MAP_PROJECTION_CATALOG= "DSMAP.CAT"
  A_AXIS_RADIUS = 3396.0
  B_AXIS_RADIUS = 3396.0
  C_AXIS_RADIUS = 3396.0
  CENTER_LATITUDE = 0.0
  CENTER_LONGITUDE = 173.0
  COORDINATE_SYSTEM_NAME = PLANETOGRAPHIC
  COORDINATE_SYSTEM_TYPE = "BODY-FIXED ROTATING"
  EASTERNMOST_LONGITUDE = 175.174
  FIRST_STANDARD_PARALLEL = "N/A"
  LINE_FIRST_PIXEL = 1
  LINE_LAST_PIXEL = 27188
  LINE_PROJECTION_OFFSET = -106039.25
  MAP_PROJECTION_ROTATION = 0.0
  MAP_PROJECTION_TYPE = SINUSOIDAL
  MAP_RESOLUTION = 2370.85521546667
  MAP_SCALE = 0.025
  MAXIMUM_LATITUDE = -44.7259
  MINIMUM_LATITUDE = -56.1887
  POSITIVE_LONGITUDE_DIRECTION = EAST
  REFERENCE_LATITUDE = "N/A"
  REFERENCE_LONGITUDE = "N/A"
  SAMPLE_FIRST_PIXEL = 1
  SAMPLE_LAST_PIXEL = 5230
  SAMPLE_PROJECTION_OFFSET = 1730.25
  SECOND_STANDARD_PARALLEL = "N/A"
  WESTERNMOST_LONGITUDE = 171.65
END_OBJECT = IMAGE_MAP_PROJECTION
END
