PDS_VERSION_ID = PDS3
/* FILE DATA ELEMENTS */
RECORD_TYPE = UNDEFINED
/* POINTERS TO DATA OBJECTS */
^IMAGE = ("H4524_0000_S14.TIF")
/* IDENTIFICATION DATA ELEMENTS */
DATA_SET_ID = "MEX-M-HRSC-4-REFDR-MAPPROJECT-EXT1-V4.0"
DATA_SET_NAME = "MARS EXPRESS HRSC MAP PROJECTED REFDR EXTENSION1 V4.0"
DETECTOR_ID = MEX_HRSC_S1
EVENT_TYPE = "MARS-REGIONAL-MAPPING-Im-Eo"
INSTRUMENT_HOST_ID = MEX
INSTRUMENT_HOST_NAME = "MARS EXPRESS"
INSTRUMENT_ID = HRSC
INSTRUMENT_NAME = "HIGH RESOLUTION STEREO CAMERA"
MISSION_NAME = "MARS EXPRESS"
MISSION_PHASE_NAME = ME_Phase_8
PROCESSING_LEVEL_ID = 4
PRODUCT_CREATION_TIME = 2023-02-11T00:15:54.000Z
PRODUCT_ID = "H4524_0000_S14.TIF"
RELEASE_ID = 0007
REVISION_ID = 0000
/* QUALITY DATA ELEMENTS */
DATA_QUALITY_ID = 1
DATA_QUALITY_DESC = "Data calculated based on original SPICE kernels"
/* TIME DATA ELEMENTS */
SPACECRAFT_CLOCK_START_COUNT = "1/0132404513.07283"
SPACECRAFT_CLOCK_STOP_COUNT = "1/0132404793.62018"
START_TIME = 2007-07-13T11:01:57.162Z
STOP_TIME = 2007-07-13T11:04:50.905Z
/* ORBITAL DATA ELEMENTS */
ASCENDING_NODE_LONGITUDE = 133.67
MAXIMUM_RESOLUTION = 0.0312
FOOTPRINT_POINT_LATITUDE = (-56.1796,-56.2031,-56.236,-56.2699, -56.2705,-56.2064,-55.8791,-55.6592, -55.33,-55.0081,-54.7894,-54.4619, -54.1359,-53.9182,-53.7005,-53.4837, -53.2669,-53.0501,-52.7255,-52.5093, -52.2922,-51.8612,-51.4243,-51.2033, -50.9822,-50.6507,-50.4247,-50.199, -49.8604,-49.6352,-49.4035,-49.1726, -48.9414,-48.7113,-48.4747,-48.2373, -47.9989,-47.7626,-47.4012,-47.1596, -46.9162,-46.5469,-46.2997,-46.0533, -45.6759,-45.4245,-45.173,-44.9157, -44.7872,-44.7809,-44.7744,-44.7665, -44.7546,-44.7438,-44.7256,-44.7246, -44.7249,-45.1067,-45.4819,-45.7327, -45.9819,-46.2268,-46.5955,-46.841, -47.0816,-47.4434,-47.6848,-47.9208, -48.1581,-48.3949,-48.6318,-48.8635, -49.091,-49.3248,-49.5566,-49.7819, -50.1196,-50.3442,-50.6797,-50.8987, -51.1192,-51.3387,-51.6677,-52.0978, -52.6372,-53.0698,-53.3935,-53.6099, -53.8265,-54.0433,-54.2603,-54.4783, -54.6972,-54.9132,-55.2388,-55.4559, -55.6731,-55.9989,-56.1075,-56.1796)
FOOTPRINT_POINT_LONGITUDE = (171.777,172.255,173.015,173.995, 174.017,174.066,174.104,174.13,174.168, 174.201,174.225,174.26,174.294,174.316, 174.338,174.359,174.38,174.4,174.431, 174.45,174.47,174.508,174.545,174.563, 174.582,174.608,174.626,174.644,174.669 ,174.686,174.703,174.72,174.736,174.752 ,174.769,174.786,174.803,174.819, 174.842,174.857,174.874,174.897,174.912 ,174.927,174.949,174.964,174.978, 174.993,175.0,175.0,174.585,174.216, 173.571,173.248,172.652,172.629,172.62, 172.605,172.59,172.579,172.568,172.557, 172.54,172.528,172.516,172.498,172.485, 172.472,172.459,172.446,172.432,172.418 ,172.403,172.389,172.374,172.358, 172.334,172.318,172.293,172.275,172.258 ,172.24,172.213,172.176,172.128,172.088 ,172.056,172.035,172.013,171.99,171.968 ,171.945,171.922,171.897,171.859, 171.833,171.807,171.767,171.753, 171.777)
ORBIT_NUMBER = 4524
ORBITAL_ECCENTRICITY = 0.57
ORBITAL_INCLINATION = 86.69
ORBITAL_SEMIMAJOR_AXIS = 8534.09
PERIAPSIS_ALTITUDE = 293.52
PERIAPSIS_ARGUMENT_ANGLE = 281.63
PERIAPSIS_TIME = 2007-07-13T10:56:54.000Z
SPACECRAFT_ORIENTATION = (0.0,-1.0,0.0)
^MEX_ORIENTATION_DESC = "MEX_ORIENTATION_DESC.TXT"
SPACECRAFT_POINTING_MODE = NADIR
^MEX_POINTING_DESC = "MEX_POINTING_DESC.TXT"
RIGHT_ASCENSION = -1e+32
DECLINATION = -1e+32
OFFSET_ANGLE = -1e+32
SPACECRAFT_SOLAR_DISTANCE = 2.08277e+08
TARGET_NAME = MARS
/* CAMERA DATA ELEMENTS */
DETECTOR_TEMPERATURE = 17.7588
FOCAL_PLANE_TEMPERATURE = 8.7872
INST_CMPRS_NAME = "DISCRETE COSINE TRANSFORMATION (DCT)"
INST_CMPRS_RATIO = 11.5028
INST_CMPRS_QUALITY = 0
INST_CMPRS_QUANTZ_TBL_ID = 0
INSTRUMENT_TEMPERATURE = 11.234
LENS_TEMPERATURE = 8.9911
MACROPIXEL_SIZE = 2
MISSING_FRAMES = 0
PIXEL_SUBSAMPLING_FLAG = N
SIGNAL_CHAIN_ID = 1
/* RADIOMETRIC DATA ELEMENTS */
BANDWIDTH = 180.0
CENTER_FILTER_WAVELENGTH = 677.0
RADIANCE_OFFSET = 11.5232
RADIANCE_SCALING_FACTOR = 0.0242924
REFLECTANCE_SCALING_FACTOR = 0.000549787
MEX:REFLECTANCE_OFFSET = 0.260794
/* IMAGE OBJECT DEFINITIONS */
OBJECT = IMAGE
  INTERCHANGE_FORMAT = BINARY
  LINES = 27188
  LINE_SAMPLES = 5230
  SAMPLE_TYPE = UNSIGNED_INTEGER
  SAMPLE_BITS = 8
  BANDS = 1
  BAND_STORAGE_TYPE = BAND_SEQUENTIAL
  MAXIMUM = 255
  MEAN = 139.161
  MINIMUM = 1
  STANDARD_DEVIATION = 61.1127
END_OBJECT = IMAGE
/* MAP OBJECT DEFINITIONS */
OBJECT = IMAGE_MAP_PROJECTION
  ^DATA_SET_MAP_PROJECTION_CATALOG= "DSMAP.CAT"
  A_AXIS_RADIUS = 3396.0
  B_AXIS_RADIUS = 3396.0
  C_AXIS_RADIUS = 3396.0
  CENTER_LATITUDE = 0.0
  CENTER_LONGITUDE = 173.0
  COORDINATE_SYSTEM_NAME = PLANETOGRAPHIC
  COORDINATE_SYSTEM_TYPE = "BODY-FIXED ROTATING"
  EASTERNMOST_LONGITUDE = 175.0
  FIRST_STANDARD_PARALLEL = "N/A"
  LINE_FIRST_PIXEL = 1
  LINE_LAST_PIXEL = 27188
  LINE_PROJECTION_OFFSET = -106039.25
  MAP_PROJECTION_ROTATION = 0.0
  MAP_PROJECTION_TYPE = SINUSOIDAL
  MAP_RESOLUTION = 2370.85521546667
  MAP_SCALE = 0.025
  MAXIMUM_LATITUDE = -44.7246
  MINIMUM_LATITUDE = -56.2705
  POSITIVE_LONGITUDE_DIRECTION = EAST
  REFERENCE_LATITUDE = "N/A"
  REFERENCE_LONGITUDE = "N/A"
  SAMPLE_FIRST_PIXEL = 1
  SAMPLE_LAST_PIXEL = 5230
  SAMPLE_PROJECTION_OFFSET = 1730.25
  SECOND_STANDARD_PARALLEL = "N/A"
  WESTERNMOST_LONGITUDE = 171.753
END_OBJECT = IMAGE_MAP_PROJECTION
END
