PDS_VERSION_ID = PDS3
/* FILE DATA ELEMENTS */
RECORD_TYPE = UNDEFINED
/* POINTERS TO DATA OBJECTS */
^IMAGE = ("H4532_0000_S14.TIF")
/* IDENTIFICATION DATA ELEMENTS */
DATA_SET_ID = "MEX-M-HRSC-4-REFDR-MAPPROJECT-EXT1-V4.0"
DATA_SET_NAME = "MARS EXPRESS HRSC MAP PROJECTED REFDR EXTENSION1 V4.0"
DETECTOR_ID = MEX_HRSC_S1
EVENT_TYPE = "MARS-REGIONAL-MAPPING-Fl-Gl-La"
INSTRUMENT_HOST_ID = MEX
INSTRUMENT_HOST_NAME = "MARS EXPRESS"
INSTRUMENT_ID = HRSC
INSTRUMENT_NAME = "HIGH RESOLUTION STEREO CAMERA"
MISSION_NAME = "MARS EXPRESS"
MISSION_PHASE_NAME = ME_Phase_8
PROCESSING_LEVEL_ID = 4
PRODUCT_CREATION_TIME = 2023-02-11T00:15:54.000Z
PRODUCT_ID = "H4532_0000_S14.TIF"
RELEASE_ID = 0007
REVISION_ID = 0000
/* QUALITY DATA ELEMENTS */
DATA_QUALITY_ID = 1
DATA_QUALITY_DESC = "Data calculated based on original SPICE kernels"
/* TIME DATA ELEMENTS */
SPACECRAFT_CLOCK_START_COUNT = "1/0132597602.09071"
SPACECRAFT_CLOCK_STOP_COUNT = "1/0132597746.58718"
START_TIME = 2007-07-15T16:40:06.182Z
STOP_TIME = 2007-07-15T16:41:35.818Z
/* ORBITAL DATA ELEMENTS */
ASCENDING_NODE_LONGITUDE = 133.51
MAXIMUM_RESOLUTION = 0.025
FOOTPRINT_POINT_LATITUDE = (-84.4435,-84.6585,-84.8108,-84.9596, -85.1048,-85.2467,-85.3853,-85.3939, -85.3235,-85.2515,-85.1773,-85.0632, -84.9482,-84.8697,-84.79,-84.7088, -84.6264,-84.5422,-84.4142,-84.3275, -84.2397,-84.1506,-84.0602,-83.9692, -83.8308,-83.7375,-83.5959,-83.5006, -83.4044,-83.3073,-83.1602,-83.0612, -82.9118,-82.8113,-82.6592,-82.5573, -82.455,-82.3536,-82.1534,-82.002, -81.9006,-81.6967,-81.594,-81.4902, -81.3868,-81.232,-81.0246,-80.9204, -80.7639,-80.659,-80.6063,-80.5861, -80.5092,-80.4182,-80.3389,-80.245, -80.1174,-80.0326,-80.0265,-80.0246, -80.2729,-80.5188,-80.6179,-80.716, -80.9095,-81.0538,-81.2918,-81.4327, -81.6178,-81.8526,-81.9468,-82.0401, -82.1328,-82.2248,-82.3621,-82.4527, -82.5415,-82.6293,-82.7164,-82.8025, -82.8877,-83.0136,-83.0965,-83.1783, -83.2589,-83.3774,-83.4552,-83.5314, -83.6063,-83.6798,-83.7519,-83.8572, -83.9592,-84.0256,-84.0899,-84.1545, -84.2177,-84.2796,-84.3099,-84.4435)
FOOTPRINT_POINT_LONGITUDE = (52.711,53.7765,54.5924,55.4459,56.3373 ,57.2713,58.2492,58.3119,59.0608, 60.2377,61.3805,63.0226,64.5475,65.5256 ,66.4721,67.3902,68.2805,69.1461, 70.3928,71.1924,71.9681,72.7215,73.4535 ,74.1623,75.187,75.8448,76.7957,77.4068 ,78.0006,78.5778,79.4135,79.9513, 80.7293,81.2304,81.9572,82.4249,82.8797 ,83.3163,84.1389,84.7292,85.1105, 85.8452,86.1995,86.5461,86.8836,87.3741 ,88.002,88.3053,88.7473,89.0339,89.1748 ,89.2285,88.3683,87.4003,86.5962, 85.6857,84.5119,83.7677,83.7147,83.6945 ,82.8691,82.0008,81.6424,81.2758, 80.5171,79.9272,78.9007,78.2573,77.3652 ,76.1704,75.6651,75.1477,74.6182, 74.0762,73.2392,72.6645,72.0758,71.4731 ,70.8561,70.2243,69.5774,68.5779, 67.8916,67.1889,66.4694,65.3582,64.5952 ,63.8145,63.0157,62.1984,61.3625, 60.0729,58.7397,57.8256,56.8926,55.9159 ,54.9067,53.8742,53.3495,52.711)
ORBIT_NUMBER = 4532
ORBITAL_ECCENTRICITY = 0.57
ORBITAL_INCLINATION = 86.7
ORBITAL_SEMIMAJOR_AXIS = 8533.5
PERIAPSIS_ALTITUDE = 292.61
PERIAPSIS_ARGUMENT_ANGLE = 280.23
PERIAPSIS_TIME = 2007-07-15T16:42:26.000Z
SPACECRAFT_ORIENTATION = (0.0,-1.0,0.0)
^MEX_ORIENTATION_DESC = "MEX_ORIENTATION_DESC.TXT"
SPACECRAFT_POINTING_MODE = ACROSSTRACK
^MEX_POINTING_DESC = "MEX_POINTING_DESC.TXT"
RIGHT_ASCENSION = -1e+32
DECLINATION = -1e+32
OFFSET_ANGLE = 1.0
SPACECRAFT_SOLAR_DISTANCE = 2.08464e+08
TARGET_NAME = MARS
/* CAMERA DATA ELEMENTS */
DETECTOR_TEMPERATURE = 18.9822
FOCAL_PLANE_TEMPERATURE = 8.9911
INST_CMPRS_NAME = "DISCRETE COSINE TRANSFORMATION (DCT)"
INST_CMPRS_RATIO = 9.18294
INST_CMPRS_QUALITY = 0
INST_CMPRS_QUANTZ_TBL_ID = 0
INSTRUMENT_TEMPERATURE = 11.8457
LENS_TEMPERATURE = 9.6028
MACROPIXEL_SIZE = 2
MISSING_FRAMES = 0
PIXEL_SUBSAMPLING_FLAG = N
SIGNAL_CHAIN_ID = 1
/* RADIOMETRIC DATA ELEMENTS */
BANDWIDTH = 180.0
CENTER_FILTER_WAVELENGTH = 677.0
RADIANCE_OFFSET = 7.75747
RADIANCE_SCALING_FACTOR = 0.0148156
REFLECTANCE_SCALING_FACTOR = 0.000335909
MEX:REFLECTANCE_OFFSET = 0.175882
/* IMAGE OBJECT DEFINITIONS */
OBJECT = IMAGE
  INTERCHANGE_FORMAT = BINARY
  LINES = 12367
  LINE_SAMPLES = 10564
  SAMPLE_TYPE = UNSIGNED_INTEGER
  SAMPLE_BITS = 8
  BANDS = 1
  BAND_STORAGE_TYPE = BAND_SEQUENTIAL
  MAXIMUM = 255
  MEAN = 131.222
  MINIMUM = 1
  STANDARD_DEVIATION = 58.544
END_OBJECT = IMAGE
/* MAP OBJECT DEFINITIONS */
OBJECT = IMAGE_MAP_PROJECTION
  ^DATA_SET_MAP_PROJECTION_CATALOG= "DSMAP.CAT"
  A_AXIS_RADIUS = 3396.0
  B_AXIS_RADIUS = 3396.0
  C_AXIS_RADIUS = 3396.0
  CENTER_LATITUDE = 0.0
  CENTER_LONGITUDE = 76.0
  COORDINATE_SYSTEM_NAME = PLANETOGRAPHIC
  COORDINATE_SYSTEM_TYPE = "BODY-FIXED ROTATING"
  EASTERNMOST_LONGITUDE = 89.2285
  FIRST_STANDARD_PARALLEL = "N/A"
  LINE_FIRST_PIXEL = 1
  LINE_LAST_PIXEL = 12367
  LINE_PROJECTION_OFFSET = -189779.75
  MAP_PROJECTION_ROTATION = 0.0
  MAP_PROJECTION_TYPE = SINUSOIDAL
  MAP_RESOLUTION = 2370.85521546667
  MAP_SCALE = 0.025
  MAXIMUM_LATITUDE = -80.02460000000001
  MINIMUM_LATITUDE = -85.3939
  POSITIVE_LONGITUDE_DIRECTION = EAST
  REFERENCE_LATITUDE = "N/A"
  REFERENCE_LONGITUDE = "N/A"
  SAMPLE_FIRST_PIXEL = 1
  SAMPLE_LAST_PIXEL = 10564
  SAMPLE_PROJECTION_OFFSET = 5336.25
  SECOND_STANDARD_PARALLEL = "N/A"
  WESTERNMOST_LONGITUDE = 52.711
END_OBJECT = IMAGE_MAP_PROJECTION
END
