PDS_VERSION_ID = PDS3
/* FILE DATA ELEMENTS */
RECORD_TYPE = UNDEFINED
/* POINTERS TO DATA OBJECTS */
^IMAGE = ("H4534_0000_P24.TIF")
/* IDENTIFICATION DATA ELEMENTS */
DATA_SET_ID = "MEX-M-HRSC-4-REFDR-MAPPROJECT-EXT1-V4.0"
DATA_SET_NAME = "MARS EXPRESS HRSC MAP PROJECTED REFDR EXTENSION1 V4.0"
DETECTOR_ID = MEX_HRSC_P2
EVENT_TYPE = "MARS-LOCAL-MAPPING-Gl-Pf-La"
INSTRUMENT_HOST_ID = MEX
INSTRUMENT_HOST_NAME = "MARS EXPRESS"
INSTRUMENT_ID = HRSC
INSTRUMENT_NAME = "HIGH RESOLUTION STEREO CAMERA"
MISSION_NAME = "MARS EXPRESS"
MISSION_PHASE_NAME = ME_Phase_8
PROCESSING_LEVEL_ID = 4
PRODUCT_CREATION_TIME = 2023-02-11T00:15:54.000Z
PRODUCT_ID = "H4534_0000_P24.TIF"
RELEASE_ID = 0007
REVISION_ID = 0000
/* QUALITY DATA ELEMENTS */
DATA_QUALITY_ID = 1
DATA_QUALITY_DESC = "Data calculated based on original SPICE kernels"
/* TIME DATA ELEMENTS */
SPACECRAFT_CLOCK_START_COUNT = "1/0132645917.07299"
SPACECRAFT_CLOCK_STOP_COUNT = "1/0132646136.15236"
START_TIME = 2007-07-16T06:06:10.044Z
STOP_TIME = 2007-07-16T06:08:49.314Z
/* ORBITAL DATA ELEMENTS */
ASCENDING_NODE_LONGITUDE = 133.47
MAXIMUM_RESOLUTION = 0.0477
FOOTPRINT_POINT_LATITUDE = (-86.2565,-86.5138,-86.766,-87.0844, -87.0917,-87.0959,-87.316,-87.4484, -87.567,-87.6687,-87.7509,-87.8391, -87.8741,-87.885,-87.8585,-87.8128, -87.7452,-87.6612,-87.5046,-87.3824, -87.2504,-87.0329,-86.8806,-86.7226, -86.559,-86.222,-85.9585,-85.6866, -85.4075,-85.2187,-84.9318,-84.7398, -84.4494,-84.1567,-83.765,-83.5661, -83.3673,-83.1676,-82.9674,-82.5684, -82.3665,-82.1643,-81.8615,-81.6589, -81.3556,-81.1523,-81.0549,-81.0506, -80.951,-80.8287,-80.7305,-80.7271, -80.7266,-81.1142,-81.309,-81.5038, -81.6974,-81.8905,-82.0831,-82.2749, -82.4653,-82.7496,-83.0306,-83.2161, -83.4007,-83.5837,-83.7651,-83.9448, -84.1228,-84.2991,-84.5569,-84.7257, -84.8906,-85.0526,-85.2113,-85.3656, -85.5151,-85.66,-85.7993,-85.9325, -86.0592,-86.1781,-86.2911,-86.3963, -86.4911,-86.6117,-86.6766,-86.7487, -86.7791,-86.7948,-86.7955,-86.7686, -86.7327,-86.6831,-86.6194,-86.5404, -86.4487,-86.2892,-86.2308,-86.2565)
FOOTPRINT_POINT_LONGITUDE = (156.612,153.906,150.716,145.593, 145.455,143.742,149.018,153.019,157.427 ,162.217,167.269,175.435,181.109, 186.988,195.784,201.457,206.862,211.89, 218.709,222.766,226.438,231.258,234.014 ,236.509,238.77,242.702,245.208,247.396 ,249.315,250.468,252.032,252.984, 254.288,255.461,256.86,257.487,258.08, 258.636,259.161,260.137,260.578,260.997 ,261.591,261.961,262.487,262.807, 262.962,262.968,260.798,258.49,256.832, 256.778,256.758,255.862,255.377,254.869 ,254.337,253.778,253.191,252.573, 251.924,250.884,249.76,248.959,248.11, 247.211,246.259,245.249,244.175,243.03, 241.184,239.851,238.435,236.922,235.302 ,233.574,231.73,229.755,227.647,225.396 ,222.991,220.435,217.661,214.672, 211.511,206.465,202.911,197.345,193.52, 189.623,185.724,179.942,176.163,172.52, 168.935,165.397,162.024,157.303,155.823 ,156.612)
ORBIT_NUMBER = 4534
ORBITAL_ECCENTRICITY = 0.57
ORBITAL_INCLINATION = 86.69
ORBITAL_SEMIMAJOR_AXIS = 8532.26
PERIAPSIS_ALTITUDE = 292.99
PERIAPSIS_ARGUMENT_ANGLE = 279.9
PERIAPSIS_TIME = 2007-07-16T06:08:50.000Z
SPACECRAFT_ORIENTATION = (0.0,-1.0,0.0)
^MEX_ORIENTATION_DESC = "MEX_ORIENTATION_DESC.TXT"
SPACECRAFT_POINTING_MODE = ACROSSTRACK
^MEX_POINTING_DESC = "MEX_POINTING_DESC.TXT"
RIGHT_ASCENSION = -1e+32
DECLINATION = -1e+32
OFFSET_ANGLE = -0.6
SPACECRAFT_SOLAR_DISTANCE = 2.08512e+08
TARGET_NAME = MARS
/* CAMERA DATA ELEMENTS */
DETECTOR_TEMPERATURE = 18.3705
FOCAL_PLANE_TEMPERATURE = 8.5833
INST_CMPRS_NAME = "DISCRETE COSINE TRANSFORMATION (DCT)"
INST_CMPRS_RATIO = 12.3707
INST_CMPRS_QUALITY = 0
INST_CMPRS_QUANTZ_TBL_ID = 0
INSTRUMENT_TEMPERATURE = 11.0301
LENS_TEMPERATURE = 8.5833
MACROPIXEL_SIZE = 4
MISSING_FRAMES = 0
PIXEL_SUBSAMPLING_FLAG = N
SIGNAL_CHAIN_ID = 3
/* RADIOMETRIC DATA ELEMENTS */
BANDWIDTH = 177.0
CENTER_FILTER_WAVELENGTH = 676.5
RADIANCE_OFFSET = 5.74317
RADIANCE_SCALING_FACTOR = 0.0216755
REFLECTANCE_SCALING_FACTOR = 0.000499674
MEX:REFLECTANCE_OFFSET = 0.132394
/* IMAGE OBJECT DEFINITIONS */
OBJECT = IMAGE
  INTERCHANGE_FORMAT = BINARY
  LINES = 2798
  LINE_SAMPLES = 12745
  SAMPLE_TYPE = UNSIGNED_INTEGER
  SAMPLE_BITS = 8
  BANDS = 1
  BAND_STORAGE_TYPE = BAND_SEQUENTIAL
  MAXIMUM = 255
  MEAN = 84.2955
  MINIMUM = 1
  STANDARD_DEVIATION = 45.0052
END_OBJECT = IMAGE
/* MAP OBJECT DEFINITIONS */
OBJECT = IMAGE_MAP_PROJECTION
  ^DATA_SET_MAP_PROJECTION_CATALOG= "DSMAP.CAT"
  A_AXIS_RADIUS = 3396.0
  B_AXIS_RADIUS = 3396.0
  C_AXIS_RADIUS = 3396.0
  CENTER_LATITUDE = -90.0
  CENTER_LONGITUDE = 0.0
  COORDINATE_SYSTEM_NAME = PLANETOGRAPHIC
  COORDINATE_SYSTEM_TYPE = "BODY-FIXED ROTATING"
  EASTERNMOST_LONGITUDE = 262.968
  FIRST_STANDARD_PARALLEL = "N/A"
  LINE_FIRST_PIXEL = 1
  LINE_LAST_PIXEL = 2798
  LINE_PROJECTION_OFFSET = -1304.375
  MAP_PROJECTION_ROTATION = 0.0
  MAP_PROJECTION_TYPE = STEREOGRAPHIC
  MAP_RESOLUTION = 1185.42760773333
  MAP_SCALE = 0.05
  MAXIMUM_LATITUDE = -80.7266
  MINIMUM_LATITUDE = -87.88500000000001
  POSITIVE_LONGITUDE_DIRECTION = EAST
  REFERENCE_LATITUDE = "N/A"
  REFERENCE_LONGITUDE = "N/A"
  SAMPLE_FIRST_PIXEL = 1
  SAMPLE_LAST_PIXEL = 12745
  SAMPLE_PROJECTION_OFFSET = 10681.375
  SECOND_STANDARD_PARALLEL = "N/A"
  WESTERNMOST_LONGITUDE = 143.742
END_OBJECT = IMAGE_MAP_PROJECTION
END
