PDS_VERSION_ID = PDS3
/* FILE DATA ELEMENTS */
RECORD_TYPE = UNDEFINED
/* POINTERS TO DATA OBJECTS */
^IMAGE = ("H4537_0000_GR4.TIF")
/* IDENTIFICATION DATA ELEMENTS */
DATA_SET_ID = "MEX-M-HRSC-4-REFDR-MAPPROJECT-EXT1-V4.0"
DATA_SET_NAME = "MARS EXPRESS HRSC MAP PROJECTED REFDR EXTENSION1 V4.0"
DETECTOR_ID = MEX_HRSC_GREEN
EVENT_TYPE = "MARS-REGIONAL-MAPPING-Gl-Eo-La"
INSTRUMENT_HOST_ID = MEX
INSTRUMENT_HOST_NAME = "MARS EXPRESS"
INSTRUMENT_ID = HRSC
INSTRUMENT_NAME = "HIGH RESOLUTION STEREO CAMERA"
MISSION_NAME = "MARS EXPRESS"
MISSION_PHASE_NAME = ME_Phase_8
PROCESSING_LEVEL_ID = 4
PRODUCT_CREATION_TIME = 2023-02-11T00:15:54.000Z
PRODUCT_ID = "H4537_0000_GR4.TIF"
RELEASE_ID = 0007
REVISION_ID = 0000
/* QUALITY DATA ELEMENTS */
DATA_QUALITY_ID = 1
DATA_QUALITY_DESC = "Data calculated based on original SPICE kernels"
/* TIME DATA ELEMENTS */
SPACECRAFT_CLOCK_START_COUNT = "1/0132718573.07282"
SPACECRAFT_CLOCK_STOP_COUNT = "1/0132718746.40923"
START_TIME = 2007-07-17T02:16:40.019Z
STOP_TIME = 2007-07-17T02:18:38.067Z
/* ORBITAL DATA ELEMENTS */
ASCENDING_NODE_LONGITUDE = 133.41
MAXIMUM_RESOLUTION = 0.0464
FOOTPRINT_POINT_LATITUDE = (-85.6295,-85.8435,-86.0502,-86.3071, -86.313,-86.3357,-86.2092,-86.0805, -85.8837,-85.7502,-85.6151,-85.4784, -85.3405,-85.1313,-84.9906,-84.8487, -84.7057,-84.5621,-84.3453,-84.1267, -83.9801,-83.8327,-83.6854,-83.5371, -83.3883,-83.2391,-83.0144,-82.7889, -82.6382,-82.4871,-82.3357,-82.108, -81.9559,-81.8036,-81.6509,-81.4981, -81.2712,-81.1235,-80.9757,-80.8277, -80.6795,-80.5312,-80.3827,-80.2341, -80.0854,-79.9366,-79.7876,-79.6385, -79.4893,-79.34,-79.1158,-79.0411, -78.9932,-78.9422,-78.9084,-78.8356, -78.7562,-78.7536,-78.7535,-79.1182, -79.4815,-79.9158,-80.204,-80.4195, -80.777,-81.0627,-81.2097,-81.3566, -81.5029,-81.6487,-81.794,-82.0109, -82.1548,-82.3697,-82.5122,-82.7248, -82.8658,-83.0058,-83.1449,-83.2831, -83.4203,-83.557,-83.6924,-83.8266, -83.9597,-84.0914,-84.2218,-84.3507, -84.4781,-84.6039,-84.7279,-84.8499, -84.9696,-85.0875,-85.2032,-85.3163, -85.4268,-85.5343,-85.587,-85.6295)
FOOTPRINT_POINT_LONGITUDE = (293.468,296.152,299.165,303.698, 303.815,304.648,306.079,307.423,309.284 ,310.424,311.497,312.505,313.456,314.78 ,315.612,316.387,317.115,317.816, 318.806,319.711,320.278,320.802,321.349 ,321.837,322.303,322.746,323.373, 323.965,324.341,324.703,325.047,325.534 ,325.844,326.144,326.432,326.709, 327.105,327.354,327.594,327.822,328.048 ,328.264,328.474,328.677,328.874, 329.064,329.249,329.429,329.604,329.772 ,330.018,330.098,330.148,328.853, 328.069,326.532,325.037,324.991,324.975 ,324.408,323.801,323.012,322.446, 321.999,321.205,320.521,320.149,319.764 ,319.365,318.953,318.525,317.855, 317.387,316.651,316.136,315.326,314.757 ,314.167,313.552,312.912,312.246, 311.547,310.82,310.061,309.269,308.441, 307.575,306.669,305.721,304.728,303.688 ,302.599,301.46,300.262,299.005,297.687 ,296.304,294.854,294.102,293.468)
ORBIT_NUMBER = 4537
ORBITAL_ECCENTRICITY = 0.57
ORBITAL_INCLINATION = 86.7
ORBITAL_SEMIMAJOR_AXIS = 8531.1
PERIAPSIS_ALTITUDE = 293.36
PERIAPSIS_ARGUMENT_ANGLE = 279.38
PERIAPSIS_TIME = 2007-07-17T02:18:21.000Z
SPACECRAFT_ORIENTATION = (0.0,-1.0,0.0)
^MEX_ORIENTATION_DESC = "MEX_ORIENTATION_DESC.TXT"
SPACECRAFT_POINTING_MODE = ACROSSTRACK
^MEX_POINTING_DESC = "MEX_POINTING_DESC.TXT"
RIGHT_ASCENSION = -1e+32
DECLINATION = -1e+32
OFFSET_ANGLE = -0.5
SPACECRAFT_SOLAR_DISTANCE = 2.08585e+08
TARGET_NAME = MARS
/* CAMERA DATA ELEMENTS */
DETECTOR_TEMPERATURE = 18.3705
FOCAL_PLANE_TEMPERATURE = 8.7872
INST_CMPRS_NAME = "DISCRETE COSINE TRANSFORMATION (DCT)"
INST_CMPRS_RATIO = 12.982
INST_CMPRS_QUALITY = 0
INST_CMPRS_QUANTZ_TBL_ID = 0
INSTRUMENT_TEMPERATURE = 12.2535
LENS_TEMPERATURE = 9.195
MACROPIXEL_SIZE = 4
MISSING_FRAMES = 0
PIXEL_SUBSAMPLING_FLAG = N
SIGNAL_CHAIN_ID = 2
/* RADIOMETRIC DATA ELEMENTS */
BANDWIDTH = 88.0
CENTER_FILTER_WAVELENGTH = 538.0
RADIANCE_OFFSET = 2.9284
RADIANCE_SCALING_FACTOR = 0.0199557
REFLECTANCE_SCALING_FACTOR = 0.00074752
MEX:REFLECTANCE_OFFSET = 0.109695
/* IMAGE OBJECT DEFINITIONS */
OBJECT = IMAGE
  INTERCHANGE_FORMAT = BINARY
  LINES = 9005
  LINE_SAMPLES = 4691
  SAMPLE_TYPE = UNSIGNED_INTEGER
  SAMPLE_BITS = 8
  BANDS = 1
  BAND_STORAGE_TYPE = BAND_SEQUENTIAL
  MAXIMUM = 255
  MEAN = 140.581
  MINIMUM = 1
  STANDARD_DEVIATION = 57.1466
END_OBJECT = IMAGE
/* MAP OBJECT DEFINITIONS */
OBJECT = IMAGE_MAP_PROJECTION
  ^DATA_SET_MAP_PROJECTION_CATALOG= "DSMAP.CAT"
  A_AXIS_RADIUS = 3396.0
  B_AXIS_RADIUS = 3396.0
  C_AXIS_RADIUS = 3396.0
  CENTER_LATITUDE = 0.0
  CENTER_LONGITUDE = 320.0
  COORDINATE_SYSTEM_NAME = PLANETOGRAPHIC
  COORDINATE_SYSTEM_TYPE = "BODY-FIXED ROTATING"
  EASTERNMOST_LONGITUDE = 330.148
  FIRST_STANDARD_PARALLEL = "N/A"
  LINE_FIRST_PIXEL = 1
  LINE_LAST_PIXEL = 9005
  LINE_PROJECTION_OFFSET = -93343.125
  MAP_PROJECTION_ROTATION = 0.0
  MAP_PROJECTION_TYPE = SINUSOIDAL
  MAP_RESOLUTION = 1185.42760773333
  MAP_SCALE = 0.05
  MAXIMUM_LATITUDE = -78.7535
  MINIMUM_LATITUDE = -86.3357
  POSITIVE_LONGITUDE_DIRECTION = EAST
  REFERENCE_LATITUDE = "N/A"
  REFERENCE_LONGITUDE = "N/A"
  SAMPLE_FIRST_PIXEL = 1
  SAMPLE_LAST_PIXEL = 4691
  SAMPLE_PROJECTION_OFFSET = 2383.875
  SECOND_STANDARD_PARALLEL = "N/A"
  WESTERNMOST_LONGITUDE = 293.468
END_OBJECT = IMAGE_MAP_PROJECTION
END
