PDS_VERSION_ID = PDS3
/* FILE DATA ELEMENTS */
RECORD_TYPE = UNDEFINED
/* POINTERS TO DATA OBJECTS */
^IMAGE = ("H4540_0000_RE4.TIF")
/* IDENTIFICATION DATA ELEMENTS */
DATA_SET_ID = "MEX-M-HRSC-4-REFDR-MAPPROJECT-EXT1-V4.0"
DATA_SET_NAME = "MARS EXPRESS HRSC MAP PROJECTED REFDR EXTENSION1 V4.0"
DETECTOR_ID = MEX_HRSC_RED
EVENT_TYPE = "MARS-REGIONAL-MAPPING-Vo-Te-Gl"
INSTRUMENT_HOST_ID = MEX
INSTRUMENT_HOST_NAME = "MARS EXPRESS"
INSTRUMENT_ID = HRSC
INSTRUMENT_NAME = "HIGH RESOLUTION STEREO CAMERA"
MISSION_NAME = "MARS EXPRESS"
MISSION_PHASE_NAME = ME_Phase_8
PROCESSING_LEVEL_ID = 4
PRODUCT_CREATION_TIME = 2023-02-11T00:15:54.000Z
PRODUCT_ID = "H4540_0000_RE4.TIF"
RELEASE_ID = 0007
REVISION_ID = 0000
/* QUALITY DATA ELEMENTS */
DATA_QUALITY_ID = 1
DATA_QUALITY_DESC = "Data calculated based on original SPICE kernels"
/* TIME DATA ELEMENTS */
SPACECRAFT_CLOCK_START_COUNT = "1/0132791340.08262"
SPACECRAFT_CLOCK_STOP_COUNT = "1/0132791630.54615"
START_TIME = 2007-07-17T22:29:52.918Z
STOP_TIME = 2007-07-17T22:33:46.008Z
/* ORBITAL DATA ELEMENTS */
ASCENDING_NODE_LONGITUDE = 133.35
MAXIMUM_RESOLUTION = 0.0505
FOOTPRINT_POINT_LATITUDE = (-74.0981,-74.1821,-74.2394,-74.2911, -74.2926,-74.371,-73.8382,-73.4391, -73.0395,-72.7717,-72.5046,-72.1054, -71.5756,-71.3022,-71.0269,-70.7521, -70.4791,-70.0699,-69.7977,-69.5248, -69.2481,-68.9675,-68.6877,-68.405, -68.1227,-67.8467,-67.4193,-67.1329, -66.8448,-66.412,-66.1236,-65.6911, -65.4031,-65.1161,-64.6859,-64.4004, -64.1154,-63.6913,-63.4079,-63.0946, -62.7581,-62.4223,-62.0868,-61.755, -61.4222,-61.0903,-60.7587,-60.4277, -60.0976,-59.9326,-59.8931,-59.8613, -59.8217,-59.7953,-59.7941,-59.7947, -60.2877,-60.7818,-61.1122,-61.4436, -61.7755,-62.1077,-62.4416,-62.775, -63.2614,-63.5426,-63.8247,-64.107, -64.3898,-64.8157,-65.0999,-65.3873, -65.8166,-66.104,-66.5334,-66.8197, -67.1063,-67.5348,-67.8113,-68.0911, -68.3687,-68.7852,-69.0633,-69.3377, -69.742,-70.012,-70.2828,-70.5538, -70.8288,-71.1002,-71.5036,-72.0281, -72.5557,-72.8184,-73.0821,-73.3453, -73.608,-74.0021,-74.1329,-74.0981)
FOOTPRINT_POINT_LONGITUDE = (31.2186,32.6586,33.7473,34.8302,34.864 ,34.8261,35.2176,35.4937,35.7566, 35.9253,36.0882,36.3224,36.6172,36.7623 ,36.9039,37.041,37.1735,37.3649,37.4878 ,37.6073,37.7252,37.8415,37.9545, 38.0648,38.1719,38.2751,38.4279,38.5276 ,38.6249,38.766,38.8569,38.9887,39.0736 ,39.1563,39.2764,39.3538,39.4293,39.539 ,39.6099,39.6869,39.7671,39.845,39.9207 ,39.9944,40.066,40.1357,40.2036,40.2696 ,40.3339,40.3654,40.3729,39.3194, 38.2535,37.6234,37.597,37.5881,37.4856, 37.379,37.3047,37.2276,37.1482,37.0668, 36.9808,36.8941,36.7613,36.6815,36.5986 ,36.5137,36.4261,36.2882,36.1933, 36.0896,35.9338,35.8244,35.6591,35.5456 ,35.4288,35.2459,35.1278,34.9984, 34.8714,34.6744,34.5376,34.398,34.1841, 34.0352,33.88,33.7194,33.5418,33.3702, 33.1013,32.7359,32.3353,32.1289,31.9117 ,31.6889,31.4597,31.0997,30.9758, 31.2186)
ORBIT_NUMBER = 4540
ORBITAL_ECCENTRICITY = 0.57
ORBITAL_INCLINATION = 86.69
ORBITAL_SEMIMAJOR_AXIS = 8532.61
PERIAPSIS_ALTITUDE = 293.35
PERIAPSIS_ARGUMENT_ANGLE = 278.86
PERIAPSIS_TIME = 2007-07-17T22:27:54.000Z
SPACECRAFT_ORIENTATION = (0.0,-1.0,0.0)
^MEX_ORIENTATION_DESC = "MEX_ORIENTATION_DESC.TXT"
SPACECRAFT_POINTING_MODE = ACROSSTRACK
^MEX_POINTING_DESC = "MEX_POINTING_DESC.TXT"
RIGHT_ASCENSION = -1e+32
DECLINATION = -1e+32
OFFSET_ANGLE = 0.45
SPACECRAFT_SOLAR_DISTANCE = 2.0866e+08
TARGET_NAME = MARS
/* CAMERA DATA ELEMENTS */
DETECTOR_TEMPERATURE = 18.5744
FOCAL_PLANE_TEMPERATURE = 8.5833
INST_CMPRS_NAME = "DISCRETE COSINE TRANSFORMATION (DCT)"
INST_CMPRS_RATIO = 19.8424
INST_CMPRS_QUALITY = 0
INST_CMPRS_QUANTZ_TBL_ID = 0
INSTRUMENT_TEMPERATURE = 11.4379
LENS_TEMPERATURE = 8.7872
MACROPIXEL_SIZE = 4
MISSING_FRAMES = 0
PIXEL_SUBSAMPLING_FLAG = N
SIGNAL_CHAIN_ID = 2
/* RADIOMETRIC DATA ELEMENTS */
BANDWIDTH = 48.0
CENTER_FILTER_WAVELENGTH = 748.0
RADIANCE_OFFSET = 2.71454
RADIANCE_SCALING_FACTOR = 0.00319358
REFLECTANCE_SCALING_FACTOR = 0.000317308
MEX:REFLECTANCE_OFFSET = 0.269712
/* IMAGE OBJECT DEFINITIONS */
OBJECT = IMAGE
  INTERCHANGE_FORMAT = BINARY
  LINES = 17338
  LINE_SAMPLES = 3911
  SAMPLE_TYPE = UNSIGNED_INTEGER
  SAMPLE_BITS = 8
  BANDS = 1
  BAND_STORAGE_TYPE = BAND_SEQUENTIAL
  MAXIMUM = 255
  MEAN = 118.358
  MINIMUM = 1
  STANDARD_DEVIATION = 44.6713
END_OBJECT = IMAGE
/* MAP OBJECT DEFINITIONS */
OBJECT = IMAGE_MAP_PROJECTION
  ^DATA_SET_MAP_PROJECTION_CATALOG= "DSMAP.CAT"
  A_AXIS_RADIUS = 3396.0
  B_AXIS_RADIUS = 3396.0
  C_AXIS_RADIUS = 3396.0
  CENTER_LATITUDE = 0.0
  CENTER_LONGITUDE = 37.0
  COORDINATE_SYSTEM_NAME = PLANETOGRAPHIC
  COORDINATE_SYSTEM_TYPE = "BODY-FIXED ROTATING"
  EASTERNMOST_LONGITUDE = 40.3729
  FIRST_STANDARD_PARALLEL = "N/A"
  LINE_FIRST_PIXEL = 1
  LINE_LAST_PIXEL = 17338
  LINE_PROJECTION_OFFSET = -70861.625
  MAP_PROJECTION_ROTATION = 0.0
  MAP_PROJECTION_TYPE = SINUSOIDAL
  MAP_RESOLUTION = 1185.42760773333
  MAP_SCALE = 0.05
  MAXIMUM_LATITUDE = -59.7941
  MINIMUM_LATITUDE = -74.371
  POSITIVE_LONGITUDE_DIRECTION = EAST
  REFERENCE_LATITUDE = "N/A"
  REFERENCE_LONGITUDE = "N/A"
  SAMPLE_FIRST_PIXEL = 1
  SAMPLE_LAST_PIXEL = 3911
  SAMPLE_PROJECTION_OFFSET = 1948.375
  SECOND_STANDARD_PARALLEL = "N/A"
  WESTERNMOST_LONGITUDE = 30.9758
END_OBJECT = IMAGE_MAP_PROJECTION
END
