PDS_VERSION_ID = PDS3
/* FILE DATA ELEMENTS */
RECORD_TYPE = UNDEFINED
/* POINTERS TO DATA OBJECTS */
^IMAGE = ("H4541_0000_BL4.TIF")
/* IDENTIFICATION DATA ELEMENTS */
DATA_SET_ID = "MEX-M-HRSC-4-REFDR-MAPPROJECT-EXT1-V4.0"
DATA_SET_NAME = "MARS EXPRESS HRSC MAP PROJECTED REFDR EXTENSION1 V4.0"
DETECTOR_ID = MEX_HRSC_BLUE
EVENT_TYPE = "MARS-REGIONAL-MAPPING-Gl-La"
INSTRUMENT_HOST_ID = MEX
INSTRUMENT_HOST_NAME = "MARS EXPRESS"
INSTRUMENT_ID = HRSC
INSTRUMENT_NAME = "HIGH RESOLUTION STEREO CAMERA"
MISSION_NAME = "MARS EXPRESS"
MISSION_PHASE_NAME = ME_Phase_8
PROCESSING_LEVEL_ID = 4
PRODUCT_CREATION_TIME = 2023-02-11T00:15:54.000Z
PRODUCT_ID = "H4541_0000_BL4.TIF"
RELEASE_ID = 0007
REVISION_ID = 0000
/* QUALITY DATA ELEMENTS */
DATA_QUALITY_ID = 1
DATA_QUALITY_DESC = "Data calculated based on original SPICE kernels"
/* TIME DATA ELEMENTS */
SPACECRAFT_CLOCK_START_COUNT = "1/0132815468.08256"
SPACECRAFT_CLOCK_STOP_COUNT = "1/0132815616.40585"
START_TIME = 2007-07-18T05:11:42.345Z
STOP_TIME = 2007-07-18T05:13:15.518Z
/* ORBITAL DATA ELEMENTS */
ASCENDING_NODE_LONGITUDE = 133.33
MAXIMUM_RESOLUTION = 0.0933
FOOTPRINT_POINT_LATITUDE = (-78.7382,-78.7867,-78.8387,-78.9088, -78.9432,-79.0083,-79.0105,-79.0356, -78.8641,-78.6334,-78.4038,-78.1757, -77.9447,-77.658,-77.4792,-77.3596, -77.24,-77.1203,-77.0009,-76.8814, -76.7622,-76.6421,-76.5223,-76.3425, -76.1625,-76.0428,-75.9226,-75.8028, -75.623,-75.5031,-75.3831,-75.203, -75.083,-74.9629,-74.8429,-74.663, -74.543,-74.3628,-74.2427,-74.1227, -74.0026,-73.8825,-73.7625,-73.6425, -73.4624,-73.3423,-73.2222,-73.1022, -73.0422,-72.9831,-72.9605,-72.9249, -72.8991,-72.861,-72.8382,-72.7985, -72.7965,-72.7966,-72.9767,-73.1548, -73.2735,-73.3922,-73.5108,-73.6294, -73.748,-73.8666,-73.9852,-74.1038, -74.2816,-74.4592,-74.5776,-74.696, -74.8143,-74.9326,-75.0508,-75.1691, -75.3464,-75.4645,-75.5826,-75.7006, -75.8187,-75.9954,-76.1132,-76.231, -76.3487,-76.4663,-76.5839,-76.7015, -76.878,-76.9954,-77.1711,-77.2882, -77.4598,-77.7972,-78.0216,-78.2458, -78.4693,-78.6369,-78.6926,-78.7382)
FOOTPRINT_POINT_LONGITUDE = (289.096,289.833,290.663,291.856,292.48 ,293.74,293.785,293.937,294.167,294.452 ,294.732,295.01,295.264,295.579,295.758 ,295.879,295.998,296.114,296.23,296.343 ,296.455,296.562,296.668,296.823, 296.974,297.073,297.169,297.265,297.405 ,297.497,297.586,297.717,297.803, 297.887,297.971,298.093,298.173,298.29, 298.366,298.441,298.515,298.588,298.66, 298.731,298.835,298.903,298.969,299.035 ,299.068,299.1,298.605,297.873,297.376, 296.682,296.287,295.631,295.599,295.576 ,295.449,295.32,295.233,295.144,295.054 ,294.963,294.87,294.775,294.679,294.581 ,294.431,294.278,294.174,294.069, 293.961,293.852,293.741,293.627,293.453 ,293.335,293.214,293.092,292.966, 292.777,292.647,292.515,292.379,292.242 ,292.102,291.957,291.732,291.58,291.351 ,291.195,290.955,290.469,290.13,289.772 ,289.405,289.114,289.016,289.096)
ORBIT_NUMBER = 4541
ORBITAL_ECCENTRICITY = 0.57
ORBITAL_INCLINATION = 86.69
ORBITAL_SEMIMAJOR_AXIS = 8531.48
PERIAPSIS_ALTITUDE = 293.52
PERIAPSIS_ARGUMENT_ANGLE = 278.71
PERIAPSIS_TIME = 2007-07-18T05:11:09.000Z
SPACECRAFT_ORIENTATION = (0.0,-1.0,0.0)
^MEX_ORIENTATION_DESC = "MEX_ORIENTATION_DESC.TXT"
SPACECRAFT_POINTING_MODE = NADIR
^MEX_POINTING_DESC = "MEX_POINTING_DESC.TXT"
RIGHT_ASCENSION = -1e+32
DECLINATION = -1e+32
OFFSET_ANGLE = -1e+32
SPACECRAFT_SOLAR_DISTANCE = 2.08685e+08
TARGET_NAME = MARS
/* CAMERA DATA ELEMENTS */
DETECTOR_TEMPERATURE = 18.3705
FOCAL_PLANE_TEMPERATURE = 6.9521
INST_CMPRS_NAME = "DISCRETE COSINE TRANSFORMATION (DCT)"
INST_CMPRS_RATIO = 22.3358
INST_CMPRS_QUALITY = 0
INST_CMPRS_QUANTZ_TBL_ID = 0
INSTRUMENT_TEMPERATURE = 11.4379
LENS_TEMPERATURE = 9.195
MACROPIXEL_SIZE = 8
MISSING_FRAMES = 0
PIXEL_SUBSAMPLING_FLAG = N
SIGNAL_CHAIN_ID = 2
/* RADIOMETRIC DATA ELEMENTS */
BANDWIDTH = 76.0
CENTER_FILTER_WAVELENGTH = 444.0
RADIANCE_OFFSET = 1.07487
RADIANCE_SCALING_FACTOR = 0.00183142
REFLECTANCE_SCALING_FACTOR = 8.1946e-05
MEX:REFLECTANCE_OFFSET = 0.0480945
/* IMAGE OBJECT DEFINITIONS */
OBJECT = IMAGE
  INTERCHANGE_FORMAT = BINARY
  LINES = 3704
  LINE_SAMPLES = 1422
  SAMPLE_TYPE = UNSIGNED_INTEGER
  SAMPLE_BITS = 8
  BANDS = 1
  BAND_STORAGE_TYPE = BAND_SEQUENTIAL
  MAXIMUM = 255
  MEAN = 74.8744
  MINIMUM = 1
  STANDARD_DEVIATION = 24.574
END_OBJECT = IMAGE
/* MAP OBJECT DEFINITIONS */
OBJECT = IMAGE_MAP_PROJECTION
  ^DATA_SET_MAP_PROJECTION_CATALOG= "DSMAP.CAT"
  A_AXIS_RADIUS = 3396.0
  B_AXIS_RADIUS = 3396.0
  C_AXIS_RADIUS = 3396.0
  CENTER_LATITUDE = 0.0
  CENTER_LONGITUDE = 295.0
  COORDINATE_SYSTEM_NAME = PLANETOGRAPHIC
  COORDINATE_SYSTEM_TYPE = "BODY-FIXED ROTATING"
  EASTERNMOST_LONGITUDE = 299.1
  FIRST_STANDARD_PARALLEL = "N/A"
  LINE_FIRST_PIXEL = 1
  LINE_LAST_PIXEL = 3704
  LINE_PROJECTION_OFFSET = -43148.5625
  MAP_PROJECTION_ROTATION = 0.0
  MAP_PROJECTION_TYPE = SINUSOIDAL
  MAP_RESOLUTION = 592.713803866667
  MAP_SCALE = 0.1
  MAXIMUM_LATITUDE = -72.79649999999999
  MINIMUM_LATITUDE = -79.0356
  POSITIVE_LONGITUDE_DIRECTION = EAST
  REFERENCE_LATITUDE = "N/A"
  REFERENCE_LONGITUDE = "N/A"
  SAMPLE_FIRST_PIXEL = 1
  SAMPLE_LAST_PIXEL = 1422
  SAMPLE_PROJECTION_OFFSET = 703.6875
  SECOND_STANDARD_PARALLEL = "N/A"
  WESTERNMOST_LONGITUDE = 289.016
END_OBJECT = IMAGE_MAP_PROJECTION
END
