PDS_VERSION_ID = PDS3
/* FILE DATA ELEMENTS */
RECORD_TYPE = UNDEFINED
/* POINTERS TO DATA OBJECTS */
^IMAGE = ("H4542_0000_P24.TIF")
/* IDENTIFICATION DATA ELEMENTS */
DATA_SET_ID = "MEX-M-HRSC-4-REFDR-MAPPROJECT-EXT1-V4.0"
DATA_SET_NAME = "MARS EXPRESS HRSC MAP PROJECTED REFDR EXTENSION1 V4.0"
DETECTOR_ID = MEX_HRSC_P2
EVENT_TYPE = "MARS-REGIONAL-MAPPING-Gl-Pf-La"
INSTRUMENT_HOST_ID = MEX
INSTRUMENT_HOST_NAME = "MARS EXPRESS"
INSTRUMENT_ID = HRSC
INSTRUMENT_NAME = "HIGH RESOLUTION STEREO CAMERA"
MISSION_NAME = "MARS EXPRESS"
MISSION_PHASE_NAME = ME_Phase_8
PROCESSING_LEVEL_ID = 4
PRODUCT_CREATION_TIME = 2023-02-11T00:15:54.000Z
PRODUCT_ID = "H4542_0000_P24.TIF"
RELEASE_ID = 0007
REVISION_ID = 0000
/* QUALITY DATA ELEMENTS */
DATA_QUALITY_ID = 1
DATA_QUALITY_DESC = "Data calculated based on original SPICE kernels"
/* TIME DATA ELEMENTS */
SPACECRAFT_CLOCK_START_COUNT = "1/0132839523.08396"
SPACECRAFT_CLOCK_STOP_COUNT = "1/0132839711.39578"
START_TIME = 2007-07-18T11:52:52.193Z
STOP_TIME = 2007-07-18T11:55:04.773Z
/* ORBITAL DATA ELEMENTS */
ASCENDING_NODE_LONGITUDE = 133.31
MAXIMUM_RESOLUTION = 0.0475
FOOTPRINT_POINT_LATITUDE = (-85.6686,-85.8368,-86.1586,-86.5346, -86.5425,-86.5886,-86.4973,-86.3466, -86.2376,-86.1231,-86.0044,-85.8812, -85.7537,-85.6231,-85.4193,-85.2082, -85.0639,-84.9178,-84.6945,-84.5485, -84.3265,-84.1767,-84.0255,-83.8731, -83.7194,-83.5648,-83.4092,-83.2526, -83.0952,-82.937,-82.7781,-82.6185, -82.4583,-82.2974,-82.055,-81.8928, -81.7302,-81.5672,-81.4037,-81.2399, -81.0757,-80.9112,-80.7464,-80.5812, -80.4158,-80.2502,-80.0843,-79.9184, -79.6699,-79.5028,-79.1689,-79.0854, -79.0755,-79.0235,-78.8921,-78.779, -78.7758,-78.7754,-79.0992,-79.341, -79.5823,-79.9028,-80.0625,-80.2218, -80.3809,-80.539,-80.6967,-80.8539, -81.0107,-81.3208,-81.4753,-81.629, -81.7818,-81.9339,-82.085,-82.2352, -82.3843,-82.6059,-82.7522,-82.8971, -83.112,-83.2534,-83.3933,-83.5998, -83.735,-83.934,-84.064,-84.1959, -84.3257,-84.5148,-84.6964,-84.8698, -85.0339,-85.1882,-85.2851,-85.3768, -85.5039,-85.6174,-85.6521,-85.6686)
FOOTPRINT_POINT_LONGITUDE = (143.701,144.728,146.966,150.169, 150.245,149.503,152.103,155.759,158.037 ,160.183,162.194,164.084,165.863, 167.532,169.86,171.988,173.305,174.543, 176.269,177.303,178.754,179.658,180.517 ,181.332,182.108,182.846,183.549, 184.219,184.858,185.469,186.052,186.61, 187.144,187.656,188.383,188.844,189.286 ,189.711,190.12,190.513,190.891,191.255 ,191.607,191.945,192.272,192.587, 192.892,193.187,193.61,193.881,194.397, 194.521,194.536,193.533,191.254,189.52, 189.474,189.457,188.823,188.322,187.795 ,187.05,186.659,186.254,185.832,185.4, 184.952,184.487,184.003,182.998,182.463 ,181.907,181.33,180.731,180.107,179.459 ,178.785,177.722,176.976,176.2,174.972, 174.11,173.208,171.783,170.782,169.197, 168.078,166.868,165.59,163.562,161.395, 159.071,156.624,153.995,152.148,150.223 ,147.176,143.961,142.857,143.701)
ORBIT_NUMBER = 4542
ORBITAL_ECCENTRICITY = 0.57
ORBITAL_INCLINATION = 86.7
ORBITAL_SEMIMAJOR_AXIS = 8531.59
PERIAPSIS_ALTITUDE = 293.01
PERIAPSIS_ARGUMENT_ANGLE = 278.52
PERIAPSIS_TIME = 2007-07-18T11:54:18.000Z
SPACECRAFT_ORIENTATION = (0.0,-1.0,0.0)
^MEX_ORIENTATION_DESC = "MEX_ORIENTATION_DESC.TXT"
SPACECRAFT_POINTING_MODE = ACROSSTRACK
^MEX_POINTING_DESC = "MEX_POINTING_DESC.TXT"
RIGHT_ASCENSION = -1e+32
DECLINATION = -1e+32
OFFSET_ANGLE = 0.2
SPACECRAFT_SOLAR_DISTANCE = 2.08711e+08
TARGET_NAME = MARS
/* CAMERA DATA ELEMENTS */
DETECTOR_TEMPERATURE = 18.7783
FOCAL_PLANE_TEMPERATURE = 8.7872
INST_CMPRS_NAME = "DISCRETE COSINE TRANSFORMATION (DCT)"
INST_CMPRS_RATIO = 12.3663
INST_CMPRS_QUALITY = 0
INST_CMPRS_QUANTZ_TBL_ID = 0
INSTRUMENT_TEMPERATURE = 11.4379
LENS_TEMPERATURE = 8.9911
MACROPIXEL_SIZE = 4
MISSING_FRAMES = 0
PIXEL_SUBSAMPLING_FLAG = N
SIGNAL_CHAIN_ID = 3
/* RADIOMETRIC DATA ELEMENTS */
BANDWIDTH = 177.0
CENTER_FILTER_WAVELENGTH = 676.5
RADIANCE_OFFSET = 6.06388
RADIANCE_SCALING_FACTOR = 0.00818234
REFLECTANCE_SCALING_FACTOR = 0.000188983
MEX:REFLECTANCE_OFFSET = 0.140054
/* IMAGE OBJECT DEFINITIONS */
OBJECT = IMAGE
  INTERCHANGE_FORMAT = BINARY
  LINES = 9273
  LINE_SAMPLES = 6481
  SAMPLE_TYPE = UNSIGNED_INTEGER
  SAMPLE_BITS = 8
  BANDS = 1
  BAND_STORAGE_TYPE = BAND_SEQUENTIAL
  MAXIMUM = 255
  MEAN = 103.416
  MINIMUM = 2
  STANDARD_DEVIATION = 52.7882
END_OBJECT = IMAGE
/* MAP OBJECT DEFINITIONS */
OBJECT = IMAGE_MAP_PROJECTION
  ^DATA_SET_MAP_PROJECTION_CATALOG= "DSMAP.CAT"
  A_AXIS_RADIUS = 3396.0
  B_AXIS_RADIUS = 3396.0
  C_AXIS_RADIUS = 3396.0
  CENTER_LATITUDE = 0.0
  CENTER_LONGITUDE = 181.0
  COORDINATE_SYSTEM_NAME = PLANETOGRAPHIC
  COORDINATE_SYSTEM_TYPE = "BODY-FIXED ROTATING"
  EASTERNMOST_LONGITUDE = 194.536
  FIRST_STANDARD_PARALLEL = "N/A"
  LINE_FIRST_PIXEL = 1
  LINE_LAST_PIXEL = 9273
  LINE_PROJECTION_OFFSET = -93396.625
  MAP_PROJECTION_ROTATION = 0.0
  MAP_PROJECTION_TYPE = SINUSOIDAL
  MAP_RESOLUTION = 1185.42760773333
  MAP_SCALE = 0.05
  MAXIMUM_LATITUDE = -78.7754
  MINIMUM_LATITUDE = -86.5886
  POSITIVE_LONGITUDE_DIRECTION = EAST
  REFERENCE_LATITUDE = "N/A"
  REFERENCE_LONGITUDE = "N/A"
  SAMPLE_FIRST_PIXEL = 1
  SAMPLE_LAST_PIXEL = 6481
  SAMPLE_PROJECTION_OFFSET = 3455.625
  SECOND_STANDARD_PARALLEL = "N/A"
  WESTERNMOST_LONGITUDE = 142.857
END_OBJECT = IMAGE_MAP_PROJECTION
END
