PDS_VERSION_ID = PDS3
/* FILE DATA ELEMENTS */
RECORD_TYPE = UNDEFINED
/* POINTERS TO DATA OBJECTS */
^IMAGE = ("H4543_0000_P24.TIF")
/* IDENTIFICATION DATA ELEMENTS */
DATA_SET_ID = "MEX-M-HRSC-4-REFDR-MAPPROJECT-EXT1-V4.0"
DATA_SET_NAME = "MARS EXPRESS HRSC MAP PROJECTED REFDR EXTENSION1 V4.0"
DETECTOR_ID = MEX_HRSC_P2
EVENT_TYPE = "MARS-REGIONAL-MAPPING-Im-Gl-La"
INSTRUMENT_HOST_ID = MEX
INSTRUMENT_HOST_NAME = "MARS EXPRESS"
INSTRUMENT_ID = HRSC
INSTRUMENT_NAME = "HIGH RESOLUTION STEREO CAMERA"
MISSION_NAME = "MARS EXPRESS"
MISSION_PHASE_NAME = ME_Phase_8
PROCESSING_LEVEL_ID = 4
PRODUCT_CREATION_TIME = 2023-02-11T00:15:54.000Z
PRODUCT_ID = "H4543_0000_P24.TIF"
RELEASE_ID = 0007
REVISION_ID = 0000
/* QUALITY DATA ELEMENTS */
DATA_QUALITY_ID = 1
DATA_QUALITY_DESC = "Data calculated based on original SPICE kernels"
/* TIME DATA ELEMENTS */
SPACECRAFT_CLOCK_START_COUNT = "1/0132863818.09073"
SPACECRAFT_CLOCK_STOP_COUNT = "1/0132863955.42815"
START_TIME = 2007-07-18T18:37:44.927Z
STOP_TIME = 2007-07-18T18:39:08.528Z
/* ORBITAL DATA ELEMENTS */
ASCENDING_NODE_LONGITUDE = 133.29
MAXIMUM_RESOLUTION = 0.0478
FOOTPRINT_POINT_LATITUDE = (-81.0547,-81.1648,-81.2122,-81.2647, -81.3121,-81.3638,-81.4018,-81.4047, -81.4788,-81.3754,-81.2716,-81.1158, -81.0085,-80.9039,-80.7997,-80.6959, -80.5909,-80.4862,-80.2789,-80.124, -79.9139,-79.808,-79.7031,-79.5458, -79.2835,-79.1783,-79.0205,-78.8623, -78.7567,-78.6513,-78.5456,-78.3345, -78.2262,-78.1165,-77.9517,-77.842, -77.7323,-77.6225,-77.5127,-77.4032, -77.2933,-77.1818,-77.0693,-76.9592, -76.7938,-76.6837,-76.575,-76.4659, -76.3559,-76.1907,-76.1351,-76.1188, -76.0769,-76.0403,-76.0128,-75.9737, -75.9352,-75.8922,-75.8897,-75.8896, -76.1059,-76.2138,-76.3215,-76.4305, -76.5935,-76.7013,-76.8088,-76.9157, -77.0239,-77.1331,-77.2408,-77.3484, -77.4559,-77.5634,-77.6706,-77.8316, -77.9389,-78.1484,-78.3543,-78.5601, -78.7652,-78.8677,-78.9702,-79.0726, -79.1748,-79.2769,-79.4297,-79.532, -79.7349,-79.9375,-80.0387,-80.1905, -80.391,-80.4913,-80.6414,-80.7413, -80.8906,-81.0396,-81.0893,-81.0547)
FOOTPRINT_POINT_LONGITUDE = (87.3116,88.9509,89.7037,90.5736, 91.3976,92.3429,93.0738,93.1303,93.1934 ,93.4278,93.6565,93.9893,94.2023, 94.4122,94.6176,94.8187,95.0144,95.206, 95.5786,95.8481,96.1915,96.3572,96.5202 ,96.7586,97.1402,97.2873,97.5026, 97.7114,97.8472,97.9805,98.1111,98.3653 ,98.4918,98.6176,98.8018,98.9219, 99.0399,99.1555,99.2691,99.3809,99.4903 ,99.5963,99.6994,99.803,99.9548,100.054 ,100.153,100.25,100.344,100.482,100.527 ,100.541,99.6715,98.9629,98.4536, 97.7501,97.0889,96.3922,96.3536,96.34, 96.1029,95.982,95.8597,95.7303,95.5341, 95.403,95.271,95.1384,94.9984,94.8519, 94.7081,94.5623,94.4137,94.2622,94.1087 ,93.8716,93.7098,93.3845,93.0527, 92.7076,92.3503,92.1661,91.9776,91.7856 ,91.5907,91.3912,91.0851,90.8728, 90.4423,89.9927,89.7597,89.3993,88.9084 ,88.6528,88.259,87.9888,87.5733,87.1422 ,86.9938,87.3116)
ORBIT_NUMBER = 4543
ORBITAL_ECCENTRICITY = 0.57
ORBITAL_INCLINATION = 86.7
ORBITAL_SEMIMAJOR_AXIS = 8532.37
PERIAPSIS_ALTITUDE = 292.82
PERIAPSIS_ARGUMENT_ANGLE = 278.33
PERIAPSIS_TIME = 2007-07-18T18:37:32.000Z
SPACECRAFT_ORIENTATION = (0.0,-1.0,0.0)
^MEX_ORIENTATION_DESC = "MEX_ORIENTATION_DESC.TXT"
SPACECRAFT_POINTING_MODE = ACROSSTRACK
^MEX_POINTING_DESC = "MEX_POINTING_DESC.TXT"
RIGHT_ASCENSION = -1e+32
DECLINATION = -1e+32
OFFSET_ANGLE = 0.0
SPACECRAFT_SOLAR_DISTANCE = 2.08736e+08
TARGET_NAME = MARS
/* CAMERA DATA ELEMENTS */
DETECTOR_TEMPERATURE = 17.351
FOCAL_PLANE_TEMPERATURE = 8.7872
INST_CMPRS_NAME = "DISCRETE COSINE TRANSFORMATION (DCT)"
INST_CMPRS_RATIO = 12.8284
INST_CMPRS_QUALITY = 0
INST_CMPRS_QUANTZ_TBL_ID = 0
INSTRUMENT_TEMPERATURE = 11.234
LENS_TEMPERATURE = 8.9911
MACROPIXEL_SIZE = 4
MISSING_FRAMES = 0
PIXEL_SUBSAMPLING_FLAG = N
SIGNAL_CHAIN_ID = 3
/* RADIOMETRIC DATA ELEMENTS */
BANDWIDTH = 177.0
CENTER_FILTER_WAVELENGTH = 676.5
RADIANCE_OFFSET = 8.34836
RADIANCE_SCALING_FACTOR = 0.00763903
REFLECTANCE_SCALING_FACTOR = 0.000176477
MEX:REFLECTANCE_OFFSET = 0.192865
/* IMAGE OBJECT DEFINITIONS */
OBJECT = IMAGE
  INTERCHANGE_FORMAT = BINARY
  LINES = 6620
  LINE_SAMPLES = 3043
  SAMPLE_TYPE = UNSIGNED_INTEGER
  SAMPLE_BITS = 8
  BANDS = 1
  BAND_STORAGE_TYPE = BAND_SEQUENTIAL
  MAXIMUM = 255
  MEAN = 161.256
  MINIMUM = 1
  STANDARD_DEVIATION = 45.5729
END_OBJECT = IMAGE
/* MAP OBJECT DEFINITIONS */
OBJECT = IMAGE_MAP_PROJECTION
  ^DATA_SET_MAP_PROJECTION_CATALOG= "DSMAP.CAT"
  A_AXIS_RADIUS = 3396.0
  B_AXIS_RADIUS = 3396.0
  C_AXIS_RADIUS = 3396.0
  CENTER_LATITUDE = 0.0
  CENTER_LONGITUDE = 95.0
  COORDINATE_SYSTEM_NAME = PLANETOGRAPHIC
  COORDINATE_SYSTEM_TYPE = "BODY-FIXED ROTATING"
  EASTERNMOST_LONGITUDE = 100.541
  FIRST_STANDARD_PARALLEL = "N/A"
  LINE_FIRST_PIXEL = 1
  LINE_LAST_PIXEL = 6620
  LINE_PROJECTION_OFFSET = -89989.125
  MAP_PROJECTION_ROTATION = 0.0
  MAP_PROJECTION_TYPE = SINUSOIDAL
  MAP_RESOLUTION = 1185.42760773333
  MAP_SCALE = 0.05
  MAXIMUM_LATITUDE = -75.8896
  MINIMUM_LATITUDE = -81.47880000000001
  POSITIVE_LONGITUDE_DIRECTION = EAST
  REFERENCE_LATITUDE = "N/A"
  REFERENCE_LONGITUDE = "N/A"
  SAMPLE_FIRST_PIXEL = 1
  SAMPLE_LAST_PIXEL = 3043
  SAMPLE_PROJECTION_OFFSET = 1480.875
  SECOND_STANDARD_PARALLEL = "N/A"
  WESTERNMOST_LONGITUDE = 86.99379999999999
END_OBJECT = IMAGE_MAP_PROJECTION
END
