PDS_VERSION_ID = PDS3
/* FILE DATA ELEMENTS */
RECORD_TYPE = UNDEFINED
/* POINTERS TO DATA OBJECTS */
^IMAGE = ("H4544_0000_GR4.TIF")
/* IDENTIFICATION DATA ELEMENTS */
DATA_SET_ID = "MEX-M-HRSC-4-REFDR-MAPPROJECT-EXT1-V4.0"
DATA_SET_NAME = "MARS EXPRESS HRSC MAP PROJECTED REFDR EXTENSION1 V4.0"
DETECTOR_ID = MEX_HRSC_GREEN
EVENT_TYPE = "MARS-REGIONAL-MAPPING-Gl-Pf-La"
INSTRUMENT_HOST_ID = MEX
INSTRUMENT_HOST_NAME = "MARS EXPRESS"
INSTRUMENT_ID = HRSC
INSTRUMENT_NAME = "HIGH RESOLUTION STEREO CAMERA"
MISSION_NAME = "MARS EXPRESS"
MISSION_PHASE_NAME = ME_Phase_8
PROCESSING_LEVEL_ID = 4
PRODUCT_CREATION_TIME = 2023-02-11T00:15:54.000Z
PRODUCT_ID = "H4544_0000_GR4.TIF"
RELEASE_ID = 0007
REVISION_ID = 0000
/* QUALITY DATA ELEMENTS */
DATA_QUALITY_ID = 1
DATA_QUALITY_DESC = "Data calculated based on original SPICE kernels"
/* TIME DATA ELEMENTS */
SPACECRAFT_CLOCK_START_COUNT = "1/0132887984.08251"
SPACECRAFT_CLOCK_STOP_COUNT = "1/0132888100.14812"
START_TIME = 2007-07-19T01:20:09.697Z
STOP_TIME = 2007-07-19T01:21:11.725Z
/* ORBITAL DATA ELEMENTS */
ASCENDING_NODE_LONGITUDE = 133.27
MAXIMUM_RESOLUTION = 0.0464
FOOTPRINT_POINT_LATITUDE = (-82.6664,-82.7296,-82.7868,-82.8553, -82.9458,-83.0547,-83.1028,-83.1064, -83.1044,-82.9925,-82.8428,-82.6926, -82.5796,-82.504,-82.4284,-82.3526, -82.2387,-82.1626,-82.0864,-82.0101, -81.9337,-81.8189,-81.7423,-81.6656, -81.5888,-81.5118,-81.4349,-81.3578, -81.2806,-81.1647,-81.0486,-80.9712, -80.8936,-80.7772,-80.6217,-80.5049, -80.4269,-80.3489,-80.2709,-80.1928, -80.1146,-80.0364,-79.9581,-79.8798, -79.8014,-79.723,-79.6053,-79.5267, -79.4482,-79.3302,-79.2515,-79.2121, -79.1871,-79.1655,-79.1228,-79.0698, -79.031,-78.9904,-78.9364,-78.8929, -78.8897,-78.8894,-78.966,-79.1188, -79.2334,-79.3477,-79.4617,-79.5376, -79.6135,-79.6893,-79.7651,-79.8407, -79.9161,-79.9915,-80.0668,-80.1795, -80.292,-80.3669,-80.4416,-80.5163, -80.6281,-80.7396,-80.8138,-80.9618, -81.0724,-81.146,-81.2194,-81.3292, -81.4752,-81.5843,-81.7291,-81.8013, -81.945,-82.0522,-82.2299,-82.336, -82.4765,-82.5811,-82.6158,-82.6664)
FOOTPRINT_POINT_LONGITUDE = (343.032,343.88,344.679,345.682,347.089 ,348.933,349.809,349.877,350.176, 350.572,351.081,351.57,351.924,352.155, 352.381,352.603,352.926,353.139,353.346 ,353.549,353.749,354.041,354.23,354.417 ,354.599,354.779,354.956,355.129, 355.299,355.549,355.792,355.951,356.107 ,356.336,356.633,356.849,356.99,357.128 ,357.264,357.398,357.53,357.66,357.787, 357.913,358.037,358.159,358.339,358.456 ,358.572,358.742,358.854,358.909, 358.944,358.509,357.685,356.726,356.06, 355.398,354.555,353.904,353.858,353.842 ,353.701,353.412,353.191,352.965, 352.733,352.575,352.415,352.253,352.089 ,351.922,351.752,351.579,351.404, 351.135,350.861,350.674,350.485,350.292 ,349.998,349.696,349.49,349.069,348.743 ,348.522,348.296,347.951,347.477,347.11 ,346.605,346.347,345.814,345.402,344.69 ,344.246,343.635,343.16,342.998, 343.032)
ORBIT_NUMBER = 4544
ORBITAL_ECCENTRICITY = 0.57
ORBITAL_INCLINATION = 86.69
ORBITAL_SEMIMAJOR_AXIS = 8531.64
PERIAPSIS_ALTITUDE = 293.67
PERIAPSIS_ARGUMENT_ANGLE = 278.15
PERIAPSIS_TIME = 2007-07-19T01:20:41.000Z
SPACECRAFT_ORIENTATION = (0.0,-1.0,0.0)
^MEX_ORIENTATION_DESC = "MEX_ORIENTATION_DESC.TXT"
SPACECRAFT_POINTING_MODE = NADIR
^MEX_POINTING_DESC = "MEX_POINTING_DESC.TXT"
RIGHT_ASCENSION = -1e+32
DECLINATION = -1e+32
OFFSET_ANGLE = -1e+32
SPACECRAFT_SOLAR_DISTANCE = 2.08762e+08
TARGET_NAME = MARS
/* CAMERA DATA ELEMENTS */
DETECTOR_TEMPERATURE = 18.3705
FOCAL_PLANE_TEMPERATURE = 8.3794
INST_CMPRS_NAME = "DISCRETE COSINE TRANSFORMATION (DCT)"
INST_CMPRS_RATIO = 15.4642
INST_CMPRS_QUALITY = 0
INST_CMPRS_QUANTZ_TBL_ID = 0
INSTRUMENT_TEMPERATURE = 11.4379
LENS_TEMPERATURE = 8.7872
MACROPIXEL_SIZE = 4
MISSING_FRAMES = 0
PIXEL_SUBSAMPLING_FLAG = N
SIGNAL_CHAIN_ID = 2
/* RADIOMETRIC DATA ELEMENTS */
BANDWIDTH = 88.0
CENTER_FILTER_WAVELENGTH = 538.0
RADIANCE_OFFSET = 3.56335
RADIANCE_SCALING_FACTOR = 0.0103767
REFLECTANCE_SCALING_FACTOR = 0.000389359
MEX:REFLECTANCE_OFFSET = 0.133706
/* IMAGE OBJECT DEFINITIONS */
OBJECT = IMAGE
  INTERCHANGE_FORMAT = BINARY
  LINES = 4998
  LINE_SAMPLES = 2863
  SAMPLE_TYPE = UNSIGNED_INTEGER
  SAMPLE_BITS = 8
  BANDS = 1
  BAND_STORAGE_TYPE = BAND_SEQUENTIAL
  MAXIMUM = 255
  MEAN = 192.53
  MINIMUM = 1
  STANDARD_DEVIATION = 34.2566
END_OBJECT = IMAGE
/* MAP OBJECT DEFINITIONS */
OBJECT = IMAGE_MAP_PROJECTION
  ^DATA_SET_MAP_PROJECTION_CATALOG= "DSMAP.CAT"
  A_AXIS_RADIUS = 3396.0
  B_AXIS_RADIUS = 3396.0
  C_AXIS_RADIUS = 3396.0
  CENTER_LATITUDE = 0.0
  CENTER_LONGITUDE = 353.0
  COORDINATE_SYSTEM_NAME = PLANETOGRAPHIC
  COORDINATE_SYSTEM_TYPE = "BODY-FIXED ROTATING"
  EASTERNMOST_LONGITUDE = 358.944
  FIRST_STANDARD_PARALLEL = "N/A"
  LINE_FIRST_PIXEL = 1
  LINE_LAST_PIXEL = 4998
  LINE_PROJECTION_OFFSET = -93508.875
  MAP_PROJECTION_ROTATION = 0.0
  MAP_PROJECTION_TYPE = SINUSOIDAL
  MAP_RESOLUTION = 1185.42760773333
  MAP_SCALE = 0.05
  MAXIMUM_LATITUDE = -78.88939999999999
  MINIMUM_LATITUDE = -83.10639999999999
  POSITIVE_LONGITUDE_DIRECTION = EAST
  REFERENCE_LATITUDE = "N/A"
  REFERENCE_LONGITUDE = "N/A"
  SAMPLE_FIRST_PIXEL = 1
  SAMPLE_LAST_PIXEL = 2863
  SAMPLE_PROJECTION_OFFSET = 1529.875
  SECOND_STANDARD_PARALLEL = "N/A"
  WESTERNMOST_LONGITUDE = 342.998
END_OBJECT = IMAGE_MAP_PROJECTION
END
