PDS_VERSION_ID = PDS3
/* FILE DATA ELEMENTS */
RECORD_TYPE = UNDEFINED
/* POINTERS TO DATA OBJECTS */
^IMAGE = ("H4544_0000_RE4.TIF")
/* IDENTIFICATION DATA ELEMENTS */
DATA_SET_ID = "MEX-M-HRSC-4-REFDR-MAPPROJECT-EXT1-V4.0"
DATA_SET_NAME = "MARS EXPRESS HRSC MAP PROJECTED REFDR EXTENSION1 V4.0"
DETECTOR_ID = MEX_HRSC_RED
EVENT_TYPE = "MARS-REGIONAL-MAPPING-Gl-Pf-La"
INSTRUMENT_HOST_ID = MEX
INSTRUMENT_HOST_NAME = "MARS EXPRESS"
INSTRUMENT_ID = HRSC
INSTRUMENT_NAME = "HIGH RESOLUTION STEREO CAMERA"
MISSION_NAME = "MARS EXPRESS"
MISSION_PHASE_NAME = ME_Phase_8
PROCESSING_LEVEL_ID = 4
PRODUCT_CREATION_TIME = 2023-02-11T00:15:54.000Z
PRODUCT_ID = "H4544_0000_RE4.TIF"
RELEASE_ID = 0007
REVISION_ID = 0000
/* QUALITY DATA ELEMENTS */
DATA_QUALITY_ID = 1
DATA_QUALITY_DESC = "Data calculated based on original SPICE kernels"
/* TIME DATA ELEMENTS */
SPACECRAFT_CLOCK_START_COUNT = "1/0132887984.08251"
SPACECRAFT_CLOCK_STOP_COUNT = "1/0132888100.14812"
START_TIME = 2007-07-19T01:20:35.613Z
STOP_TIME = 2007-07-19T01:21:37.801Z
/* ORBITAL DATA ELEMENTS */
ASCENDING_NODE_LONGITUDE = 133.27
MAXIMUM_RESOLUTION = 0.0485
FOOTPRINT_POINT_LATITUDE = (-82.5583,-82.6069,-82.6758,-82.759, -82.8271,-82.8775,-82.9376,-82.9848, -82.9883,-83.0773,-83.0021,-82.9271, -82.8135,-82.7002,-82.6246,-82.5489, -82.4733,-82.3975,-82.3216,-82.2077, -82.0937,-82.0178,-81.9414,-81.8266, -81.7119,-81.6353,-81.5587,-81.4821, -81.4052,-81.3283,-81.2129,-81.136, -81.0589,-80.9818,-80.9047,-80.7889, -80.7117,-80.6344,-80.4797,-80.4022, -80.2857,-80.2081,-80.1303,-79.975, -79.8193,-79.6636,-79.547,-79.3896, -79.3088,-79.228,-79.1874,-79.1617, -79.1201,-79.0844,-79.0501,-79.0059, -78.9748,-78.9338,-78.9004,-78.8691, -78.8661,-78.8658,-78.9836,-79.0623, -79.1405,-79.2915,-79.4426,-79.6686, -79.7812,-79.8938,-80.0439,-80.1562, -80.231,-80.3429,-80.4918,-80.6031, -80.7511,-80.825,-80.9357,-81.0094, -81.0828,-81.1562,-81.2662,-81.3757, -81.4485,-81.5212,-81.5938,-81.7023, -81.7744,-81.8464,-81.9183,-81.99, -82.0616,-82.1687,-82.2753,-82.3461, -82.4519,-82.5574,-82.5928,-82.5583)
FOOTPRINT_POINT_LONGITUDE = (343.552,344.215,345.194,346.443, 347.526,348.366,349.418,350.287,350.355 ,350.327,350.593,350.854,351.234, 351.602,351.841,352.075,352.304,352.529 ,352.749,353.071,353.384,353.587, 353.787,354.079,354.363,354.547,354.729 ,354.907,355.082,355.253,355.505, 355.669,355.831,355.989,356.145,356.373 ,356.522,356.669,356.955,357.094, 357.299,357.433,357.564,357.821,358.07, 358.312,358.488,358.719,358.835,358.949 ,359.006,359.041,358.207,357.524, 356.893,356.122,355.594,354.927,354.407 ,353.937,353.889,353.872,353.657, 353.509,353.361,353.068,352.764,352.291 ,352.047,351.797,351.453,351.189, 351.008,350.733,350.356,350.065,349.667 ,349.462,349.148,348.935,348.718, 348.497,348.158,347.811,347.574,347.334 ,347.089,346.713,346.457,346.197, 345.931,345.66,345.383,344.958,344.522, 344.225,343.767,343.296,343.133, 343.552)
ORBIT_NUMBER = 4544
ORBITAL_ECCENTRICITY = 0.57
ORBITAL_INCLINATION = 86.69
ORBITAL_SEMIMAJOR_AXIS = 8531.64
PERIAPSIS_ALTITUDE = 293.67
PERIAPSIS_ARGUMENT_ANGLE = 278.15
PERIAPSIS_TIME = 2007-07-19T01:20:41.000Z
SPACECRAFT_ORIENTATION = (0.0,-1.0,0.0)
^MEX_ORIENTATION_DESC = "MEX_ORIENTATION_DESC.TXT"
SPACECRAFT_POINTING_MODE = NADIR
^MEX_POINTING_DESC = "MEX_POINTING_DESC.TXT"
RIGHT_ASCENSION = -1e+32
DECLINATION = -1e+32
OFFSET_ANGLE = -1e+32
SPACECRAFT_SOLAR_DISTANCE = 2.08762e+08
TARGET_NAME = MARS
/* CAMERA DATA ELEMENTS */
DETECTOR_TEMPERATURE = 17.7588
FOCAL_PLANE_TEMPERATURE = 8.3794
INST_CMPRS_NAME = "DISCRETE COSINE TRANSFORMATION (DCT)"
INST_CMPRS_RATIO = 48.6583
INST_CMPRS_QUALITY = 0
INST_CMPRS_QUANTZ_TBL_ID = 0
INSTRUMENT_TEMPERATURE = 11.4379
LENS_TEMPERATURE = 8.7872
MACROPIXEL_SIZE = 4
MISSING_FRAMES = 0
PIXEL_SUBSAMPLING_FLAG = N
SIGNAL_CHAIN_ID = 2
/* RADIOMETRIC DATA ELEMENTS */
BANDWIDTH = 48.0
CENTER_FILTER_WAVELENGTH = 748.0
RADIANCE_OFFSET = 2.74649
RADIANCE_SCALING_FACTOR = 0.000815301
REFLECTANCE_SCALING_FACTOR = 8.10861e-05
MEX:REFLECTANCE_OFFSET = 0.273153
/* IMAGE OBJECT DEFINITIONS */
OBJECT = IMAGE
  INTERCHANGE_FORMAT = BINARY
  LINES = 4998
  LINE_SAMPLES = 2863
  SAMPLE_TYPE = UNSIGNED_INTEGER
  SAMPLE_BITS = 8
  BANDS = 1
  BAND_STORAGE_TYPE = BAND_SEQUENTIAL
  MAXIMUM = 255
  MEAN = 254.744
  MINIMUM = 14
  STANDARD_DEVIATION = 6.18031
END_OBJECT = IMAGE
/* MAP OBJECT DEFINITIONS */
OBJECT = IMAGE_MAP_PROJECTION
  ^DATA_SET_MAP_PROJECTION_CATALOG= "DSMAP.CAT"
  A_AXIS_RADIUS = 3396.0
  B_AXIS_RADIUS = 3396.0
  C_AXIS_RADIUS = 3396.0
  CENTER_LATITUDE = 0.0
  CENTER_LONGITUDE = 353.0
  COORDINATE_SYSTEM_NAME = PLANETOGRAPHIC
  COORDINATE_SYSTEM_TYPE = "BODY-FIXED ROTATING"
  EASTERNMOST_LONGITUDE = 359.041
  FIRST_STANDARD_PARALLEL = "N/A"
  LINE_FIRST_PIXEL = 1
  LINE_LAST_PIXEL = 4998
  LINE_PROJECTION_OFFSET = -93508.875
  MAP_PROJECTION_ROTATION = 0.0
  MAP_PROJECTION_TYPE = SINUSOIDAL
  MAP_RESOLUTION = 1185.42760773333
  MAP_SCALE = 0.05
  MAXIMUM_LATITUDE = -78.86579999999999
  MINIMUM_LATITUDE = -83.07729999999999
  POSITIVE_LONGITUDE_DIRECTION = EAST
  REFERENCE_LATITUDE = "N/A"
  REFERENCE_LONGITUDE = "N/A"
  SAMPLE_FIRST_PIXEL = 1
  SAMPLE_LAST_PIXEL = 2863
  SAMPLE_PROJECTION_OFFSET = 1529.875
  SECOND_STANDARD_PARALLEL = "N/A"
  WESTERNMOST_LONGITUDE = 343.133
END_OBJECT = IMAGE_MAP_PROJECTION
END
