PDS_VERSION_ID = PDS3
/* FILE DATA ELEMENTS */
RECORD_TYPE = UNDEFINED
/* POINTERS TO DATA OBJECTS */
^IMAGE = ("H4547_0000_P14.TIF")
/* IDENTIFICATION DATA ELEMENTS */
DATA_SET_ID = "MEX-M-HRSC-4-REFDR-MAPPROJECT-EXT1-V4.0"
DATA_SET_NAME = "MARS EXPRESS HRSC MAP PROJECTED REFDR EXTENSION1 V4.0"
DETECTOR_ID = MEX_HRSC_P1
EVENT_TYPE = "MARS-REGIONAL-MAPPING-Gl-Eo-La"
INSTRUMENT_HOST_ID = MEX
INSTRUMENT_HOST_NAME = "MARS EXPRESS"
INSTRUMENT_ID = HRSC
INSTRUMENT_NAME = "HIGH RESOLUTION STEREO CAMERA"
MISSION_NAME = "MARS EXPRESS"
MISSION_PHASE_NAME = ME_Phase_8
PROCESSING_LEVEL_ID = 4
PRODUCT_CREATION_TIME = 2023-02-11T00:15:54.000Z
PRODUCT_ID = "H4547_0000_P14.TIF"
RELEASE_ID = 0007
REVISION_ID = 0000
/* QUALITY DATA ELEMENTS */
DATA_QUALITY_ID = 1
DATA_QUALITY_DESC = "Data calculated based on original SPICE kernels"
/* TIME DATA ELEMENTS */
SPACECRAFT_CLOCK_START_COUNT = "1/0132960456.08274"
SPACECRAFT_CLOCK_STOP_COUNT = "1/0132960667.25163"
START_TIME = 2007-07-19T21:27:49.907Z
STOP_TIME = 2007-07-19T21:30:26.288Z
/* ORBITAL DATA ELEMENTS */
ASCENDING_NODE_LONGITUDE = 133.21
MAXIMUM_RESOLUTION = 0.0238
FOOTPRINT_POINT_LATITUDE = (-86.5137,-86.8137,-87.1148,-87.4719, -87.4813,-87.5545,-87.6354,-87.7244, -87.7612,-87.7783,-87.7756,-87.7377, -87.6509,-87.5732,-87.48,-87.316, -87.1955,-87.0655,-86.9271,-86.7813, -86.5511,-86.391,-86.2263,-86.0577, -85.8855,-85.7101,-85.5321,-85.3517, -85.1689,-84.9837,-84.7035,-84.5148, -84.3246,-84.133,-83.94,-83.746, -83.5511,-83.3558,-83.1593,-82.9626, -82.6765,-82.4853,-82.2935,-82.0044, -81.811,-81.5205,-81.2292,-81.0346, -80.8391,-80.5438,-80.4458,-80.422, -80.3487,-80.2738,-80.165,-80.162, -80.1613,-80.351,-80.5402,-80.731, -80.9185,-81.2919,-81.6626,-81.9384, -82.3927,-82.7602,-83.0366,-83.2195, -83.4903,-83.6689,-83.9334,-84.1064, -84.2774,-84.5289,-84.6929,-84.8534, -85.01,-85.2392,-85.3864,-85.5287, -85.6655,-85.7971,-85.9221,-86.0399, -86.1502,-86.301,-86.3898,-86.4704, -86.5415,-86.6002,-86.6453,-86.6796, -86.6994,-86.7057,-86.6984,-86.6776, -86.6221,-86.5692,-86.5383,-86.5137)
FOOTPRINT_POINT_LONGITUDE = (330.824,329.102,326.996,323.804, 323.707,324.327,328.963,336.445,341.716 ,347.116,352.562,360.73,368.231,372.965 ,377.384,383.386,386.857,390.026, 392.918,395.617,399.137,401.227,403.144 ,404.9,406.514,408.002,409.365,410.624, 411.793,412.89,414.365,415.266,416.108, 416.899,417.645,418.345,419.0,419.609, 420.188,420.728,421.462,421.921,422.357 ,422.977,423.366,423.913,424.423, 424.744,425.056,425.491,425.632,425.665 ,423.71,421.984,419.82,419.766,419.746, 419.358,418.954,418.528,418.09,417.156, 416.136,415.309,413.8,412.42,411.271, 410.451,409.137,408.197,406.682,405.6, 404.451,402.595,401.26,399.845,398.343, 395.891,394.124,392.246,390.25,388.118, 385.857,383.462,380.929,376.841,373.947 ,370.854,367.553,364.151,360.741, 357.057,353.415,349.748,346.088,342.463 ,337.166,333.739,332.072,330.824)
ORBIT_NUMBER = 4547
ORBITAL_ECCENTRICITY = 0.57
ORBITAL_INCLINATION = 86.7
ORBITAL_SEMIMAJOR_AXIS = 8531.45
PERIAPSIS_ALTITUDE = 292.77
PERIAPSIS_ARGUMENT_ANGLE = 277.65
PERIAPSIS_TIME = 2007-07-19T21:30:18.000Z
SPACECRAFT_ORIENTATION = (0.0,-1.0,0.0)
^MEX_ORIENTATION_DESC = "MEX_ORIENTATION_DESC.TXT"
SPACECRAFT_POINTING_MODE = ACROSSTRACK
^MEX_POINTING_DESC = "MEX_POINTING_DESC.TXT"
RIGHT_ASCENSION = -1e+32
DECLINATION = -1e+32
OFFSET_ANGLE = -0.5
SPACECRAFT_SOLAR_DISTANCE = 2.0884e+08
TARGET_NAME = MARS
/* CAMERA DATA ELEMENTS */
DETECTOR_TEMPERATURE = 17.351
FOCAL_PLANE_TEMPERATURE = 9.195
INST_CMPRS_NAME = "DISCRETE COSINE TRANSFORMATION (DCT)"
INST_CMPRS_RATIO = 10.89
INST_CMPRS_QUALITY = 0
INST_CMPRS_QUANTZ_TBL_ID = 0
INSTRUMENT_TEMPERATURE = 11.8457
LENS_TEMPERATURE = 9.6028
MACROPIXEL_SIZE = 2
MISSING_FRAMES = 1
PIXEL_SUBSAMPLING_FLAG = N
SIGNAL_CHAIN_ID = 3
/* RADIOMETRIC DATA ELEMENTS */
BANDWIDTH = 174.0
CENTER_FILTER_WAVELENGTH = 675.0
RADIANCE_OFFSET = 7.69066
RADIANCE_SCALING_FACTOR = 0.0271435
REFLECTANCE_SCALING_FACTOR = 0.00063676
MEX:REFLECTANCE_OFFSET = 0.180415
/* IMAGE OBJECT DEFINITIONS */
OBJECT = IMAGE
  INTERCHANGE_FORMAT = BINARY
  LINES = 18083
  LINE_SAMPLES = 18287
  SAMPLE_TYPE = UNSIGNED_INTEGER
  SAMPLE_BITS = 8
  BANDS = 1
  BAND_STORAGE_TYPE = BAND_SEQUENTIAL
  MAXIMUM = 255
  MEAN = 108.775
  MINIMUM = 1
  STANDARD_DEVIATION = 79.6869
END_OBJECT = IMAGE
/* MAP OBJECT DEFINITIONS */
OBJECT = IMAGE_MAP_PROJECTION
  ^DATA_SET_MAP_PROJECTION_CATALOG= "DSMAP.CAT"
  A_AXIS_RADIUS = 3396.0
  B_AXIS_RADIUS = 3396.0
  C_AXIS_RADIUS = 3396.0
  CENTER_LATITUDE = 0.0
  CENTER_LONGITUDE = 46.0
  COORDINATE_SYSTEM_NAME = PLANETOGRAPHIC
  COORDINATE_SYSTEM_TYPE = "BODY-FIXED ROTATING"
  EASTERNMOST_LONGITUDE = 65.66500000000001
  FIRST_STANDARD_PARALLEL = "N/A"
  LINE_FIRST_PIXEL = 1
  LINE_LAST_PIXEL = 18083
  LINE_PROJECTION_OFFSET = -190006.25
  MAP_PROJECTION_ROTATION = 0.0
  MAP_PROJECTION_TYPE = SINUSOIDAL
  MAP_RESOLUTION = 2370.85521546667
  MAP_SCALE = 0.025
  MAXIMUM_LATITUDE = -80.1613
  MINIMUM_LATITUDE = -87.7783
  POSITIVE_LONGITUDE_DIRECTION = EAST
  REFERENCE_LATITUDE = "N/A"
  REFERENCE_LONGITUDE = "N/A"
  SAMPLE_FIRST_PIXEL = 1
  SAMPLE_LAST_PIXEL = 18287
  SAMPLE_PROJECTION_OFFSET = 10540.25
  SECOND_STANDARD_PARALLEL = "N/A"
  WESTERNMOST_LONGITUDE = -36.293
END_OBJECT = IMAGE_MAP_PROJECTION
END
