PDS_VERSION_ID = PDS3
/* FILE DATA ELEMENTS */
RECORD_TYPE = UNDEFINED
/* POINTERS TO DATA OBJECTS */
^IMAGE = ("H4548_0000_IR4.TIF")
/* IDENTIFICATION DATA ELEMENTS */
DATA_SET_ID = "MEX-M-HRSC-4-REFDR-MAPPROJECT-EXT1-V4.0"
DATA_SET_NAME = "MARS EXPRESS HRSC MAP PROJECTED REFDR EXTENSION1 V4.0"
DETECTOR_ID = MEX_HRSC_IR
EVENT_TYPE = "MARS-REGIONAL-MAPPING-Gl-Pf-Eo"
INSTRUMENT_HOST_ID = MEX
INSTRUMENT_HOST_NAME = "MARS EXPRESS"
INSTRUMENT_ID = HRSC
INSTRUMENT_NAME = "HIGH RESOLUTION STEREO CAMERA"
MISSION_NAME = "MARS EXPRESS"
MISSION_PHASE_NAME = ME_Phase_8
PROCESSING_LEVEL_ID = 4
PRODUCT_CREATION_TIME = 2023-02-11T00:15:54.000Z
PRODUCT_ID = "H4548_0000_IR4.TIF"
RELEASE_ID = 0007
REVISION_ID = 0000
/* QUALITY DATA ELEMENTS */
DATA_QUALITY_ID = 1
DATA_QUALITY_DESC = "Data calculated based on original SPICE kernels"
/* TIME DATA ELEMENTS */
SPACECRAFT_CLOCK_START_COUNT = "1/0132984781.07275"
SPACECRAFT_CLOCK_STOP_COUNT = "1/0132985020.65277"
START_TIME = 2007-07-20T04:13:09.594Z
STOP_TIME = 2007-07-20T04:16:09.651Z
/* ORBITAL DATA ELEMENTS */
ASCENDING_NODE_LONGITUDE = 133.19
MAXIMUM_RESOLUTION = 0.0969
FOOTPRINT_POINT_LATITUDE = (-81.7116,-81.8195,-81.9196,-82.0352, -82.0379,-81.9752,-81.6453,-81.3128, -81.0906,-80.7566,-80.4211,-80.1971, -79.9723,-79.6349,-79.4096,-79.1838, -78.8446,-78.6178,-78.391,-78.1638, -77.9362,-77.5822,-77.3458,-76.9903, -76.7531,-76.5164,-76.2784,-75.9224, -75.5652,-75.3272,-74.9697,-74.7318, -74.3733,-74.1343,-73.7766,-73.537, -73.1774,-72.9378,-72.6928,-72.4443, -72.1961,-71.8232,-71.5734,-71.325, -70.9531,-70.7048,-70.3294,-70.2052, -70.119,-70.1006,-70.0537,-69.9953, -69.9938,-69.9945,-70.242,-70.4892, -70.7349,-70.9839,-71.3525,-71.6012, -71.844,-72.0918,-72.3366,-72.5827, -72.8242,-73.0617,-73.3015,-73.5385, -73.774,-74.1288,-74.3651,-74.719, -74.9539,-75.1889,-75.4237,-75.7754, -76.0091,-76.3571,-76.5934,-76.9423, -77.1748,-77.4066,-77.6387,-77.8639, -78.0863,-78.3086,-78.5301,-78.7512, -78.9714,-79.1914,-79.4105,-79.7378, -80.0637,-80.4959,-80.7109,-80.9253, -81.2439,-81.4551,-81.5602,-81.7116)
FOOTPRINT_POINT_LONGITUDE = (316.357,318.193,320.094,322.627,322.69 ,323.244,323.946,324.602,325.011, 325.586,326.123,326.459,326.782,327.237 ,327.524,327.799,328.19,328.439,328.677 ,328.907,329.128,329.453,329.659, 329.955,330.144,330.323,330.5,330.749, 330.988,331.14,331.359,331.497,331.701, 331.831,332.016,332.137,332.313,332.425 ,332.534,332.644,332.749,332.902, 333.003,333.098,333.233,333.321,333.455 ,333.497,333.526,332.953,331.692, 330.394,330.364,330.344,330.233,330.119 ,330.002,329.881,329.693,329.562, 329.429,329.29,329.148,329.001,328.852, 328.701,328.545,328.384,328.219,327.96, 327.781,327.5,327.306,327.104,326.896, 326.57,326.343,325.988,325.738,325.348, 325.075,324.792,324.497,324.2,323.893, 323.575,323.244,322.899,322.54,322.166, 321.777,321.16,320.502,319.552,319.044, 318.51,317.662,317.06,316.748,316.357)
ORBIT_NUMBER = 4548
ORBITAL_ECCENTRICITY = 0.57
ORBITAL_INCLINATION = 86.7
ORBITAL_SEMIMAJOR_AXIS = 8530.32
PERIAPSIS_ALTITUDE = 293.57
PERIAPSIS_ARGUMENT_ANGLE = 277.48
PERIAPSIS_TIME = 2007-07-20T04:13:28.000Z
SPACECRAFT_ORIENTATION = (0.0,-1.0,0.0)
^MEX_ORIENTATION_DESC = "MEX_ORIENTATION_DESC.TXT"
SPACECRAFT_POINTING_MODE = ACROSSTRACK
^MEX_POINTING_DESC = "MEX_POINTING_DESC.TXT"
RIGHT_ASCENSION = -1e+32
DECLINATION = -1e+32
OFFSET_ANGLE = -0.32
SPACECRAFT_SOLAR_DISTANCE = 2.08866e+08
TARGET_NAME = MARS
/* CAMERA DATA ELEMENTS */
DETECTOR_TEMPERATURE = 17.351
FOCAL_PLANE_TEMPERATURE = 8.5833
INST_CMPRS_NAME = "DISCRETE COSINE TRANSFORMATION (DCT)"
INST_CMPRS_RATIO = 25.4631
INST_CMPRS_QUALITY = 0
INST_CMPRS_QUANTZ_TBL_ID = 0
INSTRUMENT_TEMPERATURE = 11.4379
LENS_TEMPERATURE = 8.7872
MACROPIXEL_SIZE = 8
MISSING_FRAMES = 0
PIXEL_SUBSAMPLING_FLAG = N
SIGNAL_CHAIN_ID = 2
/* RADIOMETRIC DATA ELEMENTS */
BANDWIDTH = 81.0
CENTER_FILTER_WAVELENGTH = 955.5
RADIANCE_OFFSET = 2.18973
RADIANCE_SCALING_FACTOR = 0.00749425
REFLECTANCE_SCALING_FACTOR = 0.000705329
MEX:REFLECTANCE_OFFSET = 0.206088
/* IMAGE OBJECT DEFINITIONS */
OBJECT = IMAGE
  INTERCHANGE_FORMAT = BINARY
  LINES = 7116
  LINE_SAMPLES = 2113
  SAMPLE_TYPE = UNSIGNED_INTEGER
  SAMPLE_BITS = 8
  BANDS = 1
  BAND_STORAGE_TYPE = BAND_SEQUENTIAL
  MAXIMUM = 255
  MEAN = 101.33
  MINIMUM = 3
  STANDARD_DEVIATION = 51.2488
END_OBJECT = IMAGE
/* MAP OBJECT DEFINITIONS */
OBJECT = IMAGE_MAP_PROJECTION
  ^DATA_SET_MAP_PROJECTION_CATALOG= "DSMAP.CAT"
  A_AXIS_RADIUS = 3396.0
  B_AXIS_RADIUS = 3396.0
  C_AXIS_RADIUS = 3396.0
  CENTER_LATITUDE = 0.0
  CENTER_LONGITUDE = 328.0
  COORDINATE_SYSTEM_NAME = PLANETOGRAPHIC
  COORDINATE_SYSTEM_TYPE = "BODY-FIXED ROTATING"
  EASTERNMOST_LONGITUDE = 333.526
  FIRST_STANDARD_PARALLEL = "N/A"
  LINE_FIRST_PIXEL = 1
  LINE_LAST_PIXEL = 7116
  LINE_PROJECTION_OFFSET = -41469.5625
  MAP_PROJECTION_ROTATION = 0.0
  MAP_PROJECTION_TYPE = SINUSOIDAL
  MAP_RESOLUTION = 592.713803866667
  MAP_SCALE = 0.1
  MAXIMUM_LATITUDE = -69.99379999999999
  MINIMUM_LATITUDE = -82.03789999999999
  POSITIVE_LONGITUDE_DIRECTION = EAST
  REFERENCE_LATITUDE = "N/A"
  REFERENCE_LONGITUDE = "N/A"
  SAMPLE_FIRST_PIXEL = 1
  SAMPLE_LAST_PIXEL = 2113
  SAMPLE_PROJECTION_OFFSET = 986.4375
  SECOND_STANDARD_PARALLEL = "N/A"
  WESTERNMOST_LONGITUDE = 316.357
END_OBJECT = IMAGE_MAP_PROJECTION
END
