PDS_VERSION_ID = PDS3
/* FILE DATA ELEMENTS */
RECORD_TYPE = UNDEFINED
/* POINTERS TO DATA OBJECTS */
^IMAGE = ("H4552_0000_RE4.TIF")
/* IDENTIFICATION DATA ELEMENTS */
DATA_SET_ID = "MEX-M-HRSC-4-REFDR-MAPPROJECT-EXT1-V4.0"
DATA_SET_NAME = "MARS EXPRESS HRSC MAP PROJECTED REFDR EXTENSION1 V4.0"
DETECTOR_ID = MEX_HRSC_RED
EVENT_TYPE = "MARS-REGIONAL-MAPPING-Gl-Pf-La"
INSTRUMENT_HOST_ID = MEX
INSTRUMENT_HOST_NAME = "MARS EXPRESS"
INSTRUMENT_ID = HRSC
INSTRUMENT_NAME = "HIGH RESOLUTION STEREO CAMERA"
MISSION_NAME = "MARS EXPRESS"
MISSION_PHASE_NAME = ME_Phase_8
PROCESSING_LEVEL_ID = 4
PRODUCT_CREATION_TIME = 2023-02-11T00:15:54.000Z
PRODUCT_ID = "H4552_0000_RE4.TIF"
RELEASE_ID = 0007
REVISION_ID = 0000
/* QUALITY DATA ELEMENTS */
DATA_QUALITY_ID = 1
DATA_QUALITY_DESC = "Data calculated based on original SPICE kernels"
/* TIME DATA ELEMENTS */
SPACECRAFT_CLOCK_START_COUNT = "1/0133081538.09062"
SPACECRAFT_CLOCK_STOP_COUNT = "1/0133081704.23897"
START_TIME = 2007-07-21T07:06:30.626Z
STOP_TIME = 2007-07-21T07:08:21.532Z
/* ORBITAL DATA ELEMENTS */
ASCENDING_NODE_LONGITUDE = 133.11
MAXIMUM_RESOLUTION = 0.0488
FOOTPRINT_POINT_LATITUDE = (-83.0164,-83.0805,-83.1431,-83.2041, -83.2633,-83.3206,-83.4093,-83.4126, -83.5194,-83.3786,-83.1674,-82.8856, -82.6729,-82.531,-82.3192,-82.1781, -81.9628,-81.7489,-81.606,-81.4634, -81.1819,-81.0387,-80.8268,-80.5446, -80.4006,-80.1846,-79.903,-79.6875, -79.5433,-79.3999,-79.1838,-79.0373, -78.8199,-78.6761,-78.4561,-78.3092, -78.1619,-78.0112,-77.7888,-77.6444, -77.495,-77.3463,-77.1997,-76.9797, -76.7585,-76.5417,-76.3913,-76.318, -76.3164,-76.285,-76.2411,-76.2069, -76.1757,-76.1183,-76.0812,-76.0787, -76.0787,-76.2249,-76.4438,-76.5907, -76.7349,-76.9506,-77.0943,-77.2389, -77.3839,-77.5305,-77.6763,-77.8209, -77.9698,-78.1137,-78.2604,-78.4027, -78.5478,-78.7656,-79.0449,-79.2545, -79.3943,-79.5338,-79.6737,-79.8127, -79.9515,-80.1592,-80.2974,-80.4385, -80.648,-80.9245,-81.1997,-81.402, -81.6124,-81.7519,-81.8876,-82.0885, -82.2246,-82.3614,-82.4967,-82.6321, -82.8347,-83.0361,-83.1031,-83.0164)
FOOTPRINT_POINT_LONGITUDE = (284.351,285.425,286.533,287.68,288.862 ,290.083,292.157,292.24,292.854,293.179 ,293.643,294.22,294.617,294.87,295.237, 295.471,295.789,296.097,296.293,296.483 ,296.864,297.033,297.291,297.619, 297.762,297.969,298.258,298.446,298.564 ,298.682,298.849,298.946,299.11,299.236 ,299.402,299.508,299.61,299.695,299.833 ,299.936,300.018,300.101,300.188, 300.316,300.434,300.563,300.625,300.662 ,300.663,299.94,299.008,298.316,297.72, 296.72,296.11,296.07,296.056,295.943, 295.769,295.65,295.526,295.335,295.203, 295.069,294.932,294.792,294.648,294.499 ,294.349,294.192,294.033,293.867, 293.698,293.445,293.091,292.813,292.621 ,292.424,292.221,292.012,291.797, 291.461,291.23,290.992,290.621,290.097, 289.538,289.093,288.628,288.305,287.969 ,287.442,287.076,286.696,286.301, 285.892,285.248,284.566,284.33,284.351)
ORBIT_NUMBER = 4552
ORBITAL_ECCENTRICITY = 0.57
ORBITAL_INCLINATION = 86.69
ORBITAL_SEMIMAJOR_AXIS = 8530.86
PERIAPSIS_ALTITUDE = 293.73
PERIAPSIS_ARGUMENT_ANGLE = 276.8
PERIAPSIS_TIME = 2007-07-21T07:06:16.000Z
SPACECRAFT_ORIENTATION = (0.0,-1.0,0.0)
^MEX_ORIENTATION_DESC = "MEX_ORIENTATION_DESC.TXT"
SPACECRAFT_POINTING_MODE = ACROSSTRACK
^MEX_POINTING_DESC = "MEX_POINTING_DESC.TXT"
RIGHT_ASCENSION = -1e+32
DECLINATION = -1e+32
OFFSET_ANGLE = -1.0
SPACECRAFT_SOLAR_DISTANCE = 2.08972e+08
TARGET_NAME = MARS
/* CAMERA DATA ELEMENTS */
DETECTOR_TEMPERATURE = 18.7783
FOCAL_PLANE_TEMPERATURE = 10.0106
INST_CMPRS_NAME = "DISCRETE COSINE TRANSFORMATION (DCT)"
INST_CMPRS_RATIO = 48.9174
INST_CMPRS_QUALITY = 0
INST_CMPRS_QUANTZ_TBL_ID = 0
INSTRUMENT_TEMPERATURE = 11.234
LENS_TEMPERATURE = 8.9911
MACROPIXEL_SIZE = 4
MISSING_FRAMES = 0
PIXEL_SUBSAMPLING_FLAG = N
SIGNAL_CHAIN_ID = 2
/* RADIOMETRIC DATA ELEMENTS */
BANDWIDTH = 48.0
CENTER_FILTER_WAVELENGTH = 748.0
RADIANCE_OFFSET = 1.92691
RADIANCE_SCALING_FACTOR = 8.71906e-05
REFLECTANCE_SCALING_FACTOR = 8.68908e-06
MEX:REFLECTANCE_OFFSET = 0.192029
/* IMAGE OBJECT DEFINITIONS */
OBJECT = IMAGE
  INTERCHANGE_FORMAT = BINARY
  LINES = 8760
  LINE_SAMPLES = 3119
  SAMPLE_TYPE = UNSIGNED_INTEGER
  SAMPLE_BITS = 8
  BANDS = 1
  BAND_STORAGE_TYPE = BAND_SEQUENTIAL
  MAXIMUM = 255
  MEAN = 254.995
  MINIMUM = 85
  STANDARD_DEVIATION = 0.843362
END_OBJECT = IMAGE
/* MAP OBJECT DEFINITIONS */
OBJECT = IMAGE_MAP_PROJECTION
  ^DATA_SET_MAP_PROJECTION_CATALOG= "DSMAP.CAT"
  A_AXIS_RADIUS = 3396.0
  B_AXIS_RADIUS = 3396.0
  C_AXIS_RADIUS = 3396.0
  CENTER_LATITUDE = 0.0
  CENTER_LONGITUDE = 295.0
  COORDINATE_SYSTEM_NAME = PLANETOGRAPHIC
  COORDINATE_SYSTEM_TYPE = "BODY-FIXED ROTATING"
  EASTERNMOST_LONGITUDE = 300.663
  FIRST_STANDARD_PARALLEL = "N/A"
  LINE_FIRST_PIXEL = 1
  LINE_LAST_PIXEL = 8760
  LINE_PROJECTION_OFFSET = -90232.875
  MAP_PROJECTION_ROTATION = 0.0
  MAP_PROJECTION_TYPE = SINUSOIDAL
  MAP_RESOLUTION = 1185.42760773333
  MAP_SCALE = 0.05
  MAXIMUM_LATITUDE = -76.0787
  MINIMUM_LATITUDE = -83.5194
  POSITIVE_LONGITUDE_DIRECTION = EAST
  REFERENCE_LATITUDE = "N/A"
  REFERENCE_LONGITUDE = "N/A"
  SAMPLE_FIRST_PIXEL = 1
  SAMPLE_LAST_PIXEL = 3119
  SAMPLE_PROJECTION_OFFSET = 1539.375
  SECOND_STANDARD_PARALLEL = "N/A"
  WESTERNMOST_LONGITUDE = 284.33
END_OBJECT = IMAGE_MAP_PROJECTION
END
