PDS_VERSION_ID = PDS3
/* FILE DATA ELEMENTS */
RECORD_TYPE = UNDEFINED
/* POINTERS TO DATA OBJECTS */
^IMAGE = ("H4553_0000_GR4.TIF")
/* IDENTIFICATION DATA ELEMENTS */
DATA_SET_ID = "MEX-M-HRSC-4-REFDR-MAPPROJECT-EXT1-V4.0"
DATA_SET_NAME = "MARS EXPRESS HRSC MAP PROJECTED REFDR EXTENSION1 V4.0"
DETECTOR_ID = MEX_HRSC_GREEN
EVENT_TYPE = "MARS-REGIONAL-MAPPING-Im-Fl-Eo"
INSTRUMENT_HOST_ID = MEX
INSTRUMENT_HOST_NAME = "MARS EXPRESS"
INSTRUMENT_ID = HRSC
INSTRUMENT_NAME = "HIGH RESOLUTION STEREO CAMERA"
MISSION_NAME = "MARS EXPRESS"
MISSION_PHASE_NAME = ME_Phase_8
PROCESSING_LEVEL_ID = 4
PRODUCT_CREATION_TIME = 2023-02-11T00:15:54.000Z
PRODUCT_ID = "H4553_0000_GR4.TIF"
RELEASE_ID = 0007
REVISION_ID = 0000
/* QUALITY DATA ELEMENTS */
DATA_QUALITY_ID = 1
DATA_QUALITY_DESC = "Data calculated based on original SPICE kernels"
/* TIME DATA ELEMENTS */
SPACECRAFT_CLOCK_START_COUNT = "1/0133105990.09042"
SPACECRAFT_CLOCK_STOP_COUNT = "1/0133106242.55583"
START_TIME = 2007-07-21T13:53:39.469Z
STOP_TIME = 2007-07-21T13:56:30.535Z
/* ORBITAL DATA ELEMENTS */
ASCENDING_NODE_LONGITUDE = 133.09
MAXIMUM_RESOLUTION = 0.111
FOOTPRINT_POINT_LATITUDE = (-65.9754,-66.0364,-66.074,-66.1095, -66.1106,-66.0976,-65.8154,-65.6275, -65.4396,-65.2518,-65.0641,-64.8765, -64.5018,-64.1274,-63.7536,-63.3803, -63.1671,-62.9446,-62.7223,-62.5003, -62.2783,-61.9454,-61.7236,-61.5025, -61.2826,-61.0619,-60.8413,-60.511, -60.181,-59.9606,-59.741,-59.5215, -59.3024,-59.0834,-58.8648,-58.6424, -58.4183,-58.0825,-57.859,-57.6319, -57.4029,-57.174,-56.9454,-56.7139, -56.4801,-56.2464,-56.0132,-55.6571, -55.4187,-55.2997,-55.2586,-55.2415, -55.2164,-55.1997,-55.1847,-55.1602, -55.159,-55.1604,-55.3978,-55.6356, -55.9889,-56.2212,-56.454,-56.8026, -57.0309,-57.2586,-57.4867,-57.7141, -58.0484,-58.2716,-58.4947,-58.7173, -58.9353,-59.2616,-59.4807,-59.8095, -60.0289,-60.2477,-60.4671,-60.6867, -60.9066,-61.1264,-61.3465,-61.5668, -61.7869,-62.0075,-62.3386,-62.5596, -62.7809,-63.0024,-63.4068,-63.7782, -64.2444,-64.617,-64.9902,-65.3639, -65.5508,-65.8315,-65.925,-65.9754)
FOOTPRINT_POINT_LONGITUDE = (199.527,200.655,201.445,202.291, 202.317,202.401,202.473,202.52,202.567, 202.612,202.657,202.702,202.787,202.871 ,202.951,203.028,203.071,203.116, 203.159,203.202,203.244,203.308,203.35, 203.388,203.421,203.459,203.496,203.549 ,203.602,203.639,203.673,203.707,203.74 ,203.772,203.803,203.835,203.866, 203.912,203.942,203.972,204.002,204.032 ,204.061,204.09,204.119,204.147,204.175 ,204.217,204.245,204.258,204.263,203.66 ,202.928,202.499,202.146,201.617, 201.592,201.575,201.549,201.522,201.482 ,201.453,201.424,201.38,201.352,201.321 ,201.29,201.258,201.21,201.177,201.142, 201.108,201.074,201.017,200.983,200.929 ,200.892,200.851,200.811,200.77,200.729 ,200.685,200.641,200.596,200.549, 200.502,200.429,200.379,200.328,200.277 ,200.18,200.085,199.966,199.863,199.758 ,199.648,199.592,199.505,199.476, 199.527)
ORBIT_NUMBER = 4553
ORBITAL_ECCENTRICITY = 0.57
ORBITAL_INCLINATION = 86.7
ORBITAL_SEMIMAJOR_AXIS = 8530.98
PERIAPSIS_ALTITUDE = 293.26
PERIAPSIS_ARGUMENT_ANGLE = 276.62
PERIAPSIS_TIME = 2007-07-21T13:49:25.000Z
SPACECRAFT_ORIENTATION = (0.0,-1.0,0.0)
^MEX_ORIENTATION_DESC = "MEX_ORIENTATION_DESC.TXT"
SPACECRAFT_POINTING_MODE = NADIR
^MEX_POINTING_DESC = "MEX_POINTING_DESC.TXT"
RIGHT_ASCENSION = -1e+32
DECLINATION = -1e+32
OFFSET_ANGLE = -1e+32
SPACECRAFT_SOLAR_DISTANCE = 2.08999e+08
TARGET_NAME = MARS
/* CAMERA DATA ELEMENTS */
DETECTOR_TEMPERATURE = 18.3705
FOCAL_PLANE_TEMPERATURE = 8.7872
INST_CMPRS_NAME = "DISCRETE COSINE TRANSFORMATION (DCT)"
INST_CMPRS_RATIO = 23.0908
INST_CMPRS_QUALITY = 0
INST_CMPRS_QUANTZ_TBL_ID = 0
INSTRUMENT_TEMPERATURE = 11.4379
LENS_TEMPERATURE = 8.9911
MACROPIXEL_SIZE = 8
MISSING_FRAMES = 0
PIXEL_SUBSAMPLING_FLAG = N
SIGNAL_CHAIN_ID = 2
/* RADIOMETRIC DATA ELEMENTS */
BANDWIDTH = 88.0
CENTER_FILTER_WAVELENGTH = 538.0
RADIANCE_OFFSET = 3.39822
RADIANCE_SCALING_FACTOR = 0.0027477
REFLECTANCE_SCALING_FACTOR = 0.000103336
MEX:REFLECTANCE_OFFSET = 0.127801
/* IMAGE OBJECT DEFINITIONS */
OBJECT = IMAGE
  INTERCHANGE_FORMAT = BINARY
  LINES = 6488
  LINE_SAMPLES = 1397
  SAMPLE_TYPE = UNSIGNED_INTEGER
  SAMPLE_BITS = 8
  BANDS = 1
  BAND_STORAGE_TYPE = BAND_SEQUENTIAL
  MAXIMUM = 255
  MEAN = 122.152
  MINIMUM = 1
  STANDARD_DEVIATION = 44.6278
END_OBJECT = IMAGE
/* MAP OBJECT DEFINITIONS */
OBJECT = IMAGE_MAP_PROJECTION
  ^DATA_SET_MAP_PROJECTION_CATALOG= "DSMAP.CAT"
  A_AXIS_RADIUS = 3396.0
  B_AXIS_RADIUS = 3396.0
  C_AXIS_RADIUS = 3396.0
  CENTER_LATITUDE = 0.0
  CENTER_LONGITUDE = 202.0
  COORDINATE_SYSTEM_NAME = PLANETOGRAPHIC
  COORDINATE_SYSTEM_TYPE = "BODY-FIXED ROTATING"
  EASTERNMOST_LONGITUDE = 204.263
  FIRST_STANDARD_PARALLEL = "N/A"
  LINE_FIRST_PIXEL = 1
  LINE_LAST_PIXEL = 6488
  LINE_PROJECTION_OFFSET = -32695.9375
  MAP_PROJECTION_ROTATION = 0.0
  MAP_PROJECTION_TYPE = SINUSOIDAL
  MAP_RESOLUTION = 592.713803866667
  MAP_SCALE = 0.1
  MAXIMUM_LATITUDE = -55.159
  MINIMUM_LATITUDE = -66.11060000000001
  POSITIVE_LONGITUDE_DIRECTION = EAST
  REFERENCE_LATITUDE = "N/A"
  REFERENCE_LONGITUDE = "N/A"
  SAMPLE_FIRST_PIXEL = 1
  SAMPLE_LAST_PIXEL = 1397
  SAMPLE_PROJECTION_OFFSET = 615.0625
  SECOND_STANDARD_PARALLEL = "N/A"
  WESTERNMOST_LONGITUDE = 199.476
END_OBJECT = IMAGE_MAP_PROJECTION
END
