PDS_VERSION_ID = PDS3
/* FILE DATA ELEMENTS */
RECORD_TYPE = UNDEFINED
/* POINTERS TO DATA OBJECTS */
^IMAGE = ("H4553_0000_S24.TIF")
/* IDENTIFICATION DATA ELEMENTS */
DATA_SET_ID = "MEX-M-HRSC-4-REFDR-MAPPROJECT-EXT1-V4.0"
DATA_SET_NAME = "MARS EXPRESS HRSC MAP PROJECTED REFDR EXTENSION1 V4.0"
DETECTOR_ID = MEX_HRSC_S2
EVENT_TYPE = "MARS-REGIONAL-MAPPING-Im-Fl-Eo"
INSTRUMENT_HOST_ID = MEX
INSTRUMENT_HOST_NAME = "MARS EXPRESS"
INSTRUMENT_ID = HRSC
INSTRUMENT_NAME = "HIGH RESOLUTION STEREO CAMERA"
MISSION_NAME = "MARS EXPRESS"
MISSION_PHASE_NAME = ME_Phase_8
PROCESSING_LEVEL_ID = 4
PRODUCT_CREATION_TIME = 2023-02-11T00:15:54.000Z
PRODUCT_ID = "H4553_0000_S24.TIF"
RELEASE_ID = 0007
REVISION_ID = 0000
/* QUALITY DATA ELEMENTS */
DATA_QUALITY_ID = 1
DATA_QUALITY_DESC = "Data calculated based on original SPICE kernels"
/* TIME DATA ELEMENTS */
SPACECRAFT_CLOCK_START_COUNT = "1/0133105990.09042"
SPACECRAFT_CLOCK_STOP_COUNT = "1/0133106242.55583"
START_TIME = 2007-07-21T13:54:18.156Z
STOP_TIME = 2007-07-21T13:57:24.922Z
/* ORBITAL DATA ELEMENTS */
ASCENDING_NODE_LONGITUDE = 133.09
MAXIMUM_RESOLUTION = 0.0312
FOOTPRINT_POINT_LATITUDE = (-65.8685,-65.9261,-65.9632,-66.0047, -66.0058,-66.1032,-65.7267,-65.5138, -65.3011,-65.0889,-64.8771,-64.6654, -64.4542,-64.1377,-63.9268,-63.611, -63.4005,-63.0873,-62.8778,-62.6699, -62.3581,-62.0455,-61.6397,-61.419, -61.2067,-60.9948,-60.6768,-60.4609, -60.2455,-60.0343,-59.8206,-59.4929, -59.2736,-59.0553,-58.834,-58.6093, -58.3871,-58.1652,-57.9391,-57.7122, -57.3723,-57.1423,-56.9132,-56.6846, -56.453,-56.2201,-55.9873,-55.7519, -55.3967,-55.2785,-55.2563,-55.2362, -55.2163,-55.2008,-55.1798,-55.1617, -55.1605,-55.1606,-55.5132,-55.8656, -56.2141,-56.4479,-56.6774,-56.9024, -57.1318,-57.3599,-57.585,-57.8118, -58.0362,-58.2574,-58.4802,-58.8134, -59.0318,-59.3618,-59.5753,-59.7901, -60.1101,-60.3259,-60.5402,-60.7493, -60.959,-61.1704,-61.4871,-61.9007, -62.1101,-62.4195,-62.8351,-63.0429, -63.3538,-63.562,-63.7737,-64.1908, -64.4021,-64.7184,-64.9294,-65.1397, -65.352,-65.852,-65.941,-65.8685)
FOOTPRINT_POINT_LONGITUDE = (199.484,200.616,201.432,202.455, 202.484,202.543,202.64,202.694,202.746, 202.798,202.849,202.898,202.947,203.018 ,203.064,203.132,203.175,203.241, 203.282,203.324,203.385,203.444,203.524 ,203.557,203.595,203.631,203.685,203.72 ,203.756,203.793,203.828,203.879, 203.913,203.946,203.979,204.011,204.044 ,204.076,204.108,204.139,204.185, 204.216,204.247,204.277,204.307,204.337 ,204.366,204.395,204.439,204.453, 204.455,203.669,203.0,202.535,201.954, 201.489,201.46,201.449,201.412,201.374, 201.334,201.306,201.278,201.252,201.223 ,201.193,201.163,201.131,201.1,201.068, 201.035,200.985,200.951,200.896,200.864 ,200.829,200.775,200.736,200.697, 200.659,200.62,200.579,200.516,200.43, 200.384,200.318,200.224,200.176,200.104 ,200.054,199.999,199.894,199.837,199.75 ,199.691,199.632,199.569,199.418,199.39 ,199.484)
ORBIT_NUMBER = 4553
ORBITAL_ECCENTRICITY = 0.57
ORBITAL_INCLINATION = 86.7
ORBITAL_SEMIMAJOR_AXIS = 8530.98
PERIAPSIS_ALTITUDE = 293.26
PERIAPSIS_ARGUMENT_ANGLE = 276.62
PERIAPSIS_TIME = 2007-07-21T13:49:25.000Z
SPACECRAFT_ORIENTATION = (0.0,-1.0,0.0)
^MEX_ORIENTATION_DESC = "MEX_ORIENTATION_DESC.TXT"
SPACECRAFT_POINTING_MODE = NADIR
^MEX_POINTING_DESC = "MEX_POINTING_DESC.TXT"
RIGHT_ASCENSION = -1e+32
DECLINATION = -1e+32
OFFSET_ANGLE = -1e+32
SPACECRAFT_SOLAR_DISTANCE = 2.08999e+08
TARGET_NAME = MARS
/* CAMERA DATA ELEMENTS */
DETECTOR_TEMPERATURE = 18.7783
FOCAL_PLANE_TEMPERATURE = 8.7872
INST_CMPRS_NAME = "DISCRETE COSINE TRANSFORMATION (DCT)"
INST_CMPRS_RATIO = 10.7936
INST_CMPRS_QUALITY = 0
INST_CMPRS_QUANTZ_TBL_ID = 0
INSTRUMENT_TEMPERATURE = 11.4379
LENS_TEMPERATURE = 8.9911
MACROPIXEL_SIZE = 2
MISSING_FRAMES = 0
PIXEL_SUBSAMPLING_FLAG = N
SIGNAL_CHAIN_ID = 1
/* RADIOMETRIC DATA ELEMENTS */
BANDWIDTH = 178.0
CENTER_FILTER_WAVELENGTH = 679.0
RADIANCE_OFFSET = 9.79061
RADIANCE_SCALING_FACTOR = 0.013551
REFLECTANCE_SCALING_FACTOR = 0.000313468
MEX:REFLECTANCE_OFFSET = 0.226481
/* IMAGE OBJECT DEFINITIONS */
OBJECT = IMAGE
  INTERCHANGE_FORMAT = BINARY
  LINES = 25952
  LINE_SAMPLES = 5585
  SAMPLE_TYPE = UNSIGNED_INTEGER
  SAMPLE_BITS = 8
  BANDS = 1
  BAND_STORAGE_TYPE = BAND_SEQUENTIAL
  MAXIMUM = 255
  MEAN = 125.052
  MINIMUM = 1
  STANDARD_DEVIATION = 46.519
END_OBJECT = IMAGE
/* MAP OBJECT DEFINITIONS */
OBJECT = IMAGE_MAP_PROJECTION
  ^DATA_SET_MAP_PROJECTION_CATALOG= "DSMAP.CAT"
  A_AXIS_RADIUS = 3396.0
  B_AXIS_RADIUS = 3396.0
  C_AXIS_RADIUS = 3396.0
  CENTER_LATITUDE = 0.0
  CENTER_LONGITUDE = 202.0
  COORDINATE_SYSTEM_NAME = PLANETOGRAPHIC
  COORDINATE_SYSTEM_TYPE = "BODY-FIXED ROTATING"
  EASTERNMOST_LONGITUDE = 204.455
  FIRST_STANDARD_PARALLEL = "N/A"
  LINE_FIRST_PIXEL = 1
  LINE_LAST_PIXEL = 25952
  LINE_PROJECTION_OFFSET = -130782.25
  MAP_PROJECTION_ROTATION = 0.0
  MAP_PROJECTION_TYPE = SINUSOIDAL
  MAP_RESOLUTION = 2370.85521546667
  MAP_SCALE = 0.025
  MAXIMUM_LATITUDE = -55.1605
  MINIMUM_LATITUDE = -66.1032
  POSITIVE_LONGITUDE_DIRECTION = EAST
  REFERENCE_LATITUDE = "N/A"
  REFERENCE_LONGITUDE = "N/A"
  SAMPLE_FIRST_PIXEL = 1
  SAMPLE_LAST_PIXEL = 5585
  SAMPLE_PROJECTION_OFFSET = 2461.75
  SECOND_STANDARD_PARALLEL = "N/A"
  WESTERNMOST_LONGITUDE = 199.39
END_OBJECT = IMAGE_MAP_PROJECTION
END
