PDS_VERSION_ID = PDS3
/* FILE DATA ELEMENTS */
RECORD_TYPE = UNDEFINED
/* POINTERS TO DATA OBJECTS */
^IMAGE = ("H4554_0009_RE4.TIF")
/* IDENTIFICATION DATA ELEMENTS */
DATA_SET_ID = "MEX-M-HRSC-4-REFDR-MAPPROJECT-EXT1-V4.0"
DATA_SET_NAME = "MARS EXPRESS HRSC MAP PROJECTED REFDR EXTENSION1 V4.0"
DETECTOR_ID = MEX_HRSC_RED
EVENT_TYPE = "MARS-REGIONAL-MAPPING-Gl-La"
INSTRUMENT_HOST_ID = MEX
INSTRUMENT_HOST_NAME = "MARS EXPRESS"
INSTRUMENT_ID = HRSC
INSTRUMENT_NAME = "HIGH RESOLUTION STEREO CAMERA"
MISSION_NAME = "MARS EXPRESS"
MISSION_PHASE_NAME = ME_Phase_8
PROCESSING_LEVEL_ID = 4
PRODUCT_CREATION_TIME = 2023-02-11T00:15:54.000Z
PRODUCT_ID = "H4554_0009_RE4.TIF"
RELEASE_ID = 0007
REVISION_ID = 0000
/* QUALITY DATA ELEMENTS */
DATA_QUALITY_ID = 1
DATA_QUALITY_DESC = "Data calculated based on original SPICE kernels"
/* TIME DATA ELEMENTS */
SPACECRAFT_CLOCK_START_COUNT = "1/0133129953.07294"
SPACECRAFT_CLOCK_STOP_COUNT = "1/0133130110.48768"
START_TIME = 2007-07-21T20:33:24.463Z
STOP_TIME = 2007-07-21T20:35:07.910Z
/* ORBITAL DATA ELEMENTS */
ASCENDING_NODE_LONGITUDE = 133.07
MAXIMUM_RESOLUTION = 0.0488
FOOTPRINT_POINT_LATITUDE = (-80.9604,-81.058,-81.1153,-81.1704, -81.2233,-81.2741,-81.3229,-81.3259, -81.4098,-81.1652,-80.9813,-80.855, -80.6632,-80.535,-80.4066,-80.2783, -80.1495,-80.0207,-79.8924,-79.7636, -79.6351,-79.5061,-79.377,-79.248, -79.1186,-78.9247,-78.7952,-78.6654, -78.5358,-78.4059,-78.2113,-78.0813, -77.8863,-77.6267,-77.367,-77.2362, -77.1049,-76.9085,-76.7769,-76.5808, -76.3851,-76.2506,-76.1149,-75.9797, -75.8491,-75.715,-75.5119,-75.3732, -75.2323,-75.0982,-74.9623,-74.8952, -74.8754,-74.8334,-74.8037,-74.767, -74.7383,-74.6638,-74.6614,-74.6613, -74.7932,-74.9258,-75.058,-75.1904, -75.3242,-75.4569,-75.5888,-75.725, -75.9231,-76.0553,-76.2523,-76.5077, -76.7652,-76.956,-77.2108,-77.4646, -77.5915,-77.7815,-77.908,-78.0347, -78.2241,-78.4136,-78.5394,-78.6651, -78.8538,-78.9796,-79.1673,-79.2922, -79.4167,-79.541,-79.7884,-79.9134, -80.0987,-80.2219,-80.3447,-80.4673, -80.5891,-80.9403,-80.9986,-80.9604)
FOOTPRINT_POINT_LONGITUDE = (84.3314,85.7158,86.5767,87.4442, 88.3171,89.1966,90.0839,90.1396,90.0255 ,90.6331,91.0667,91.3538,91.7734, 92.0436,92.3064,92.562,92.811,93.0533, 93.2886,93.5183,93.7417,93.9599,94.1725 ,94.3798,94.5823,94.8765,95.067,95.2531 ,95.4347,95.6122,95.8708,96.0384, 96.2827,96.5958,96.8956,97.0411,97.1838 ,97.3919,97.5273,97.7247,97.9176, 98.0464,98.1728,98.2966,98.4167,98.5353 ,98.7094,98.8234,98.9355,99.0441, 99.1509,99.2035,99.2187,98.2782,97.6742 ,96.9957,96.4647,95.2158,95.178,95.1646 ,95.0365,94.9032,94.7689,94.6307, 94.4846,94.3392,94.1946,94.029,93.7994, 93.6423,93.3992,93.0726,92.7216,92.4587 ,92.0919,91.7121,91.5157,91.2129, 91.0058,90.7926,90.4656,90.1249,89.8931 ,89.6556,89.2861,89.0305,88.6404, 88.3728,88.0993,87.8188,87.241,86.9282, 86.4566,86.1322,85.7997,85.4577,85.1082 ,84.0389,83.8518,84.3314)
ORBIT_NUMBER = 4554
ORBITAL_ECCENTRICITY = 0.57
ORBITAL_INCLINATION = 86.7
ORBITAL_SEMIMAJOR_AXIS = 8531.44
PERIAPSIS_ALTITUDE = 293.03
PERIAPSIS_ARGUMENT_ANGLE = 276.43
PERIAPSIS_TIME = 2007-07-21T20:32:39.000Z
SPACECRAFT_ORIENTATION = (0.0,-1.0,0.0)
^MEX_ORIENTATION_DESC = "MEX_ORIENTATION_DESC.TXT"
SPACECRAFT_POINTING_MODE = ACROSSTRACK
^MEX_POINTING_DESC = "MEX_POINTING_DESC.TXT"
RIGHT_ASCENSION = -1e+32
DECLINATION = -1e+32
OFFSET_ANGLE = 0.3
SPACECRAFT_SOLAR_DISTANCE = 2.09027e+08
TARGET_NAME = MARS
/* CAMERA DATA ELEMENTS */
DETECTOR_TEMPERATURE = 19.1861
FOCAL_PLANE_TEMPERATURE = 11.234
INST_CMPRS_NAME = "DISCRETE COSINE TRANSFORMATION (DCT)"
INST_CMPRS_RATIO = 18.5552
INST_CMPRS_QUALITY = 0
INST_CMPRS_QUANTZ_TBL_ID = 0
INSTRUMENT_TEMPERATURE = 12.4574
LENS_TEMPERATURE = 9.8067
MACROPIXEL_SIZE = 4
MISSING_FRAMES = 0
PIXEL_SUBSAMPLING_FLAG = N
SIGNAL_CHAIN_ID = 2
/* RADIOMETRIC DATA ELEMENTS */
BANDWIDTH = 48.0
CENTER_FILTER_WAVELENGTH = 748.0
RADIANCE_OFFSET = 1.98366
RADIANCE_SCALING_FACTOR = 0.00215166
REFLECTANCE_SCALING_FACTOR = 0.000214538
MEX:REFLECTANCE_OFFSET = 0.197787
/* IMAGE OBJECT DEFINITIONS */
OBJECT = IMAGE
  INTERCHANGE_FORMAT = BINARY
  LINES = 8021
  LINE_SAMPLES = 3601
  SAMPLE_TYPE = UNSIGNED_INTEGER
  SAMPLE_BITS = 8
  BANDS = 1
  BAND_STORAGE_TYPE = BAND_SEQUENTIAL
  MAXIMUM = 255
  MEAN = 121.822
  MINIMUM = 5
  STANDARD_DEVIATION = 38.3386
END_OBJECT = IMAGE
/* MAP OBJECT DEFINITIONS */
OBJECT = IMAGE_MAP_PROJECTION
  ^DATA_SET_MAP_PROJECTION_CATALOG= "DSMAP.CAT"
  A_AXIS_RADIUS = 3396.0
  B_AXIS_RADIUS = 3396.0
  C_AXIS_RADIUS = 3396.0
  CENTER_LATITUDE = 0.0
  CENTER_LONGITUDE = 93.0
  COORDINATE_SYSTEM_NAME = PLANETOGRAPHIC
  COORDINATE_SYSTEM_TYPE = "BODY-FIXED ROTATING"
  EASTERNMOST_LONGITUDE = 99.2187
  FIRST_STANDARD_PARALLEL = "N/A"
  LINE_FIRST_PIXEL = 1
  LINE_LAST_PIXEL = 8021
  LINE_PROJECTION_OFFSET = -88516.375
  MAP_PROJECTION_ROTATION = 0.0
  MAP_PROJECTION_TYPE = SINUSOIDAL
  MAP_RESOLUTION = 1185.42760773333
  MAP_SCALE = 0.05
  MAXIMUM_LATITUDE = -74.6613
  MINIMUM_LATITUDE = -81.4098
  POSITIVE_LONGITUDE_DIRECTION = EAST
  REFERENCE_LATITUDE = "N/A"
  REFERENCE_LONGITUDE = "N/A"
  SAMPLE_FIRST_PIXEL = 1
  SAMPLE_LAST_PIXEL = 3601
  SAMPLE_PROJECTION_OFFSET = 1702.375
  SECOND_STANDARD_PARALLEL = "N/A"
  WESTERNMOST_LONGITUDE = 83.8518
END_OBJECT = IMAGE_MAP_PROJECTION
END
