PDS_VERSION_ID = PDS3
/* FILE DATA ELEMENTS */
RECORD_TYPE = UNDEFINED
/* POINTERS TO DATA OBJECTS */
^IMAGE = ("H4558_0000_S14.TIF")
/* IDENTIFICATION DATA ELEMENTS */
DATA_SET_ID = "MEX-M-HRSC-4-REFDR-MAPPROJECT-EXT1-V4.0"
DATA_SET_NAME = "MARS EXPRESS HRSC MAP PROJECTED REFDR EXTENSION1 V4.0"
DETECTOR_ID = MEX_HRSC_S1
EVENT_TYPE = "MARS-REGIONAL-MAPPING-Im-Gl-Eo"
INSTRUMENT_HOST_ID = MEX
INSTRUMENT_HOST_NAME = "MARS EXPRESS"
INSTRUMENT_ID = HRSC
INSTRUMENT_NAME = "HIGH RESOLUTION STEREO CAMERA"
MISSION_NAME = "MARS EXPRESS"
MISSION_PHASE_NAME = ME_Phase_8
PROCESSING_LEVEL_ID = 4
PRODUCT_CREATION_TIME = 2023-02-11T00:15:54.000Z
PRODUCT_ID = "H4558_0000_S14.TIF"
RELEASE_ID = 0007
REVISION_ID = 0000
/* QUALITY DATA ELEMENTS */
DATA_QUALITY_ID = 1
DATA_QUALITY_DESC = "Data calculated based on original SPICE kernels"
/* TIME DATA ELEMENTS */
SPACECRAFT_CLOCK_START_COUNT = "1/0133226768.08271"
SPACECRAFT_CLOCK_STOP_COUNT = "1/0133226962.09281"
START_TIME = 2007-07-22T23:26:12.183Z
STOP_TIME = 2007-07-22T23:28:24.521Z
/* ORBITAL DATA ELEMENTS */
ASCENDING_NODE_LONGITUDE = 132.98
MAXIMUM_RESOLUTION = 0.0247
FOOTPRINT_POINT_LATITUDE = (-79.0391,-79.1165,-79.1869,-79.2604, -79.2622,-79.1757,-78.9204,-78.6645, -78.4938,-78.2378,-78.0663,-77.8958, -77.7247,-77.4677,-77.2197,-76.961, -76.7887,-76.6148,-76.3553,-76.1827, -75.8422,-75.6701,-75.4941,-75.2326, -75.06,-74.8013,-74.6279,-74.3753, -74.1981,-74.0184,-73.7485,-73.5678, -73.3863,-73.2063,-73.0265,-72.8463, -72.6649,-72.3946,-72.2144,-72.035, -71.8545,-71.5827,-71.4014,-71.2161, -71.0294,-70.843,-70.6565,-70.4707, -70.3771,-70.3658,-70.3496,-70.3256, -70.2983,-70.2486,-70.2471,-70.247, -70.4336,-70.7116,-70.8979,-71.082, -71.2669,-71.5354,-71.7146,-71.8948, -72.0745,-72.3409,-72.5192,-72.6991, -72.9677,-73.1471,-73.3257,-73.5014, -73.7682,-73.946,-74.1211,-74.2922, -74.4635,-74.6349,-74.8062,-74.9771, -75.2315,-75.4016,-75.5723,-75.7478, -76.0857,-76.2554,-76.5093,-76.6789, -76.8485,-77.0176,-77.1858,-77.4369, -77.7668,-77.9345,-78.2672,-78.4344, -78.6013,-78.8513,-78.9338,-79.0391)
FOOTPRINT_POINT_LONGITUDE = (60.1113,61.6262,63.1816,65.0808, 65.1316,65.5601,65.8445,66.1168,66.2913 ,66.5418,66.7052,66.8596,67.0117, 67.2317,67.4089,67.6169,67.75,67.8846, 68.075,68.1959,68.4128,68.523,68.6421, 68.8074,68.9088,69.0554,69.1528,69.2736 ,69.3708,69.4632,69.5986,69.6882, 69.7773,69.8609,69.9417,70.0219,70.103, 70.217,70.2908,70.361,70.4324,70.5387, 70.608,70.6747,70.7411,70.8055,70.8687, 70.9292,70.9603,70.9649,70.3431,69.6327 ,68.8626,67.6931,67.6618,67.6504, 67.5674,67.44,67.3525,67.2636,67.1725, 67.0366,66.9434,66.8477,66.75,66.6004, 66.4976,66.3917,66.2287,66.1166,66.0022 ,65.8865,65.7059,65.5819,65.4563,65.331 ,65.2025,65.0707,64.9357,64.7976, 64.5851,64.4386,64.2879,64.1298,63.8104 ,63.6438,63.3856,63.2073,63.0239, 62.8359,62.6433,62.3451,61.9319,61.713, 61.2582,61.0192,60.7728,60.3889,60.2577 ,60.1113)
ORBIT_NUMBER = 4558
ORBITAL_ECCENTRICITY = 0.57
ORBITAL_INCLINATION = 86.7
ORBITAL_SEMIMAJOR_AXIS = 8530.68
PERIAPSIS_ALTITUDE = 293.03
PERIAPSIS_ARGUMENT_ANGLE = 275.75
PERIAPSIS_TIME = 2007-07-22T23:25:26.000Z
SPACECRAFT_ORIENTATION = (0.0,-1.0,0.0)
^MEX_ORIENTATION_DESC = "MEX_ORIENTATION_DESC.TXT"
SPACECRAFT_POINTING_MODE = ACROSSTRACK
^MEX_POINTING_DESC = "MEX_POINTING_DESC.TXT"
RIGHT_ASCENSION = -1e+32
DECLINATION = -1e+32
OFFSET_ANGLE = -0.4
SPACECRAFT_SOLAR_DISTANCE = 2.09136e+08
TARGET_NAME = MARS
/* CAMERA DATA ELEMENTS */
DETECTOR_TEMPERATURE = 17.7588
FOCAL_PLANE_TEMPERATURE = 8.9911
INST_CMPRS_NAME = "DISCRETE COSINE TRANSFORMATION (DCT)"
INST_CMPRS_RATIO = 10.8297
INST_CMPRS_QUALITY = 0
INST_CMPRS_QUANTZ_TBL_ID = 0
INSTRUMENT_TEMPERATURE = 11.4379
LENS_TEMPERATURE = 9.6028
MACROPIXEL_SIZE = 2
MISSING_FRAMES = 0
PIXEL_SUBSAMPLING_FLAG = N
SIGNAL_CHAIN_ID = 1
/* RADIOMETRIC DATA ELEMENTS */
BANDWIDTH = 180.0
CENTER_FILTER_WAVELENGTH = 677.0
RADIANCE_OFFSET = 8.66419
RADIANCE_SCALING_FACTOR = 0.00948201
REFLECTANCE_SCALING_FACTOR = 0.000216373
MEX:REFLECTANCE_OFFSET = 0.197711
/* IMAGE OBJECT DEFINITIONS */
OBJECT = IMAGE
  INTERCHANGE_FORMAT = BINARY
  LINES = 21234
  LINE_SAMPLES = 6258
  SAMPLE_TYPE = UNSIGNED_INTEGER
  SAMPLE_BITS = 8
  BANDS = 1
  BAND_STORAGE_TYPE = BAND_SEQUENTIAL
  MAXIMUM = 254
  MEAN = 148.177
  MINIMUM = 1
  STANDARD_DEVIATION = 39.4203
END_OBJECT = IMAGE
/* MAP OBJECT DEFINITIONS */
OBJECT = IMAGE_MAP_PROJECTION
  ^DATA_SET_MAP_PROJECTION_CATALOG= "DSMAP.CAT"
  A_AXIS_RADIUS = 3396.0
  B_AXIS_RADIUS = 3396.0
  C_AXIS_RADIUS = 3396.0
  CENTER_LATITUDE = 0.0
  CENTER_LONGITUDE = 67.0
  COORDINATE_SYSTEM_NAME = PLANETOGRAPHIC
  COORDINATE_SYSTEM_TYPE = "BODY-FIXED ROTATING"
  EASTERNMOST_LONGITUDE = 70.9649
  FIRST_STANDARD_PARALLEL = "N/A"
  LINE_FIRST_PIXEL = 1
  LINE_LAST_PIXEL = 21234
  LINE_PROJECTION_OFFSET = -166469.25
  MAP_PROJECTION_ROTATION = 0.0
  MAP_PROJECTION_TYPE = SINUSOIDAL
  MAP_RESOLUTION = 2370.85521546667
  MAP_SCALE = 0.025
  MAXIMUM_LATITUDE = -70.247
  MINIMUM_LATITUDE = -79.26220000000001
  POSITIVE_LONGITUDE_DIRECTION = EAST
  REFERENCE_LATITUDE = "N/A"
  REFERENCE_LONGITUDE = "N/A"
  SAMPLE_FIRST_PIXEL = 1
  SAMPLE_LAST_PIXEL = 6258
  SAMPLE_PROJECTION_OFFSET = 3076.25
  SECOND_STANDARD_PARALLEL = "N/A"
  WESTERNMOST_LONGITUDE = 60.1113
END_OBJECT = IMAGE_MAP_PROJECTION
END
