PDS_VERSION_ID = PDS3
/* FILE DATA ELEMENTS */
RECORD_TYPE = UNDEFINED
/* POINTERS TO DATA OBJECTS */
^IMAGE = ("H4566_0001_BL4.TIF")
/* IDENTIFICATION DATA ELEMENTS */
DATA_SET_ID = "MEX-M-HRSC-4-REFDR-MAPPROJECT-EXT1-V4.0"
DATA_SET_NAME = "MARS EXPRESS HRSC MAP PROJECTED REFDR EXTENSION1 V4.0"
DETECTOR_ID = MEX_HRSC_BLUE
EVENT_TYPE = "MARS-REGIONAL-MAPPING-Fl-Pf"
INSTRUMENT_HOST_ID = MEX
INSTRUMENT_HOST_NAME = "MARS EXPRESS"
INSTRUMENT_ID = HRSC
INSTRUMENT_NAME = "HIGH RESOLUTION STEREO CAMERA"
MISSION_NAME = "MARS EXPRESS"
MISSION_PHASE_NAME = ME_Phase_8
PROCESSING_LEVEL_ID = 4
PRODUCT_CREATION_TIME = 2023-02-11T00:15:54.000Z
PRODUCT_ID = "H4566_0001_BL4.TIF"
RELEASE_ID = 0007
REVISION_ID = 0000
/* QUALITY DATA ELEMENTS */
DATA_QUALITY_ID = 1
DATA_QUALITY_DESC = "Data calculated based on original SPICE kernels"
/* TIME DATA ELEMENTS */
SPACECRAFT_CLOCK_START_COUNT = "1/0133420564.08232"
SPACECRAFT_CLOCK_STOP_COUNT = "1/0133420790.14504"
START_TIME = 2007-07-25T05:16:49.384Z
STOP_TIME = 2007-07-25T05:19:07.446Z
/* ORBITAL DATA ELEMENTS */
ASCENDING_NODE_LONGITUDE = 132.83
MAXIMUM_RESOLUTION = 0.0637
FOOTPRINT_POINT_LATITUDE = (-62.7611,-62.7813,-62.8058,-62.831, -62.8497,-62.8744,-62.889,-62.8899, -62.9065,-62.4492,-62.1451,-61.7571, -61.446,-61.1354,-60.8176,-60.6587, -60.4999,-60.1829,-60.0206,-59.8584, -59.6962,-59.5344,-59.3727,-59.2089, -59.0433,-58.8781,-58.6308,-58.4658, -58.2971,-58.1281,-57.9596,-57.791, -57.6234,-57.452,-57.2802,-57.1093, -56.9385,-56.7662,-56.5917,-56.4173, -56.243,-56.0689,-55.8911,-55.6247, -55.4474,-55.2689,-55.0882,-54.9079, -54.7275,-54.6375,-54.565,-54.5512, -54.5362,-54.5275,-54.515,-54.4887, -54.4646,-54.4634,-54.4641,-54.6444, -54.8238,-55.0037,-55.2732,-55.4498, -55.6264,-55.8034,-55.9801,-56.1536, -56.4143,-56.5882,-56.7611,-56.9317, -57.1027,-57.2735,-57.5298,-57.6971, -57.8647,-58.0325,-58.2002,-58.3676, -58.5318,-58.6963,-58.8608,-59.0255, -59.1901,-59.3511,-59.5931,-59.7545, -59.9161,-60.0773,-60.393,-60.7094, -61.0254,-61.3349,-61.7221,-62.0308, -62.3339,-62.6372,-62.7132,-62.7611)
FOOTPRINT_POINT_LONGITUDE = (2.6348,3.01395,3.50192,4.04514,4.47995 ,5.10633,5.51581,5.5431,5.60148,5.69087 ,5.74893,5.82068,5.87681,5.93155, 5.98523,6.01187,6.03814,6.0901,6.11603, 6.14156,6.16672,6.19185,6.21673,6.24115 ,6.2655,6.28997,6.32645,6.34966,6.37238 ,6.39452,6.41716,6.43882,6.46224, 6.48577,6.50762,6.53094,6.55377,6.57594 ,6.59831,6.62005,6.6414,6.66227,6.68307 ,6.71422,6.7345,6.75453,6.77524,6.79564 ,6.81508,6.82502,6.83294,6.28087, 5.75587,5.47973,5.12036,4.45817,3.90651 ,3.87892,3.86961,3.85178,3.8342,3.81549 ,3.786,3.76658,3.74734,3.72721,3.70651, 3.6862,3.65465,3.63359,3.61326,3.59107, 3.56773,3.54549,3.51065,3.48766,3.46438 ,3.44018,3.4168,3.39173,3.36714,3.34214 ,3.31703,3.29133,3.26525,3.23954,3.1993 ,3.17256,3.14483,3.11686,3.06159, 3.00399,2.94338,2.8828,2.80625,2.74049, 2.67492,2.60782,2.59069,2.6348)
ORBIT_NUMBER = 4566
ORBITAL_ECCENTRICITY = 0.57
ORBITAL_INCLINATION = 86.69
ORBITAL_SEMIMAJOR_AXIS = 8530.34
PERIAPSIS_ALTITUDE = 294.16
PERIAPSIS_ARGUMENT_ANGLE = 274.35
PERIAPSIS_TIME = 2007-07-25T05:10:57.000Z
SPACECRAFT_ORIENTATION = (0.0,-1.0,0.0)
^MEX_ORIENTATION_DESC = "MEX_ORIENTATION_DESC.TXT"
SPACECRAFT_POINTING_MODE = NADIR
^MEX_POINTING_DESC = "MEX_POINTING_DESC.TXT"
RIGHT_ASCENSION = -1e+32
DECLINATION = -1e+32
OFFSET_ANGLE = -1e+32
SPACECRAFT_SOLAR_DISTANCE = 2.09363e+08
TARGET_NAME = MARS
/* CAMERA DATA ELEMENTS */
DETECTOR_TEMPERATURE = 19.1861
FOCAL_PLANE_TEMPERATURE = 9.195
INST_CMPRS_NAME = "DISCRETE COSINE TRANSFORMATION (DCT)"
INST_CMPRS_RATIO = 10.2325
INST_CMPRS_QUALITY = 0
INST_CMPRS_QUANTZ_TBL_ID = 0
INSTRUMENT_TEMPERATURE = 12.8652
LENS_TEMPERATURE = 9.195
MACROPIXEL_SIZE = 4
MISSING_FRAMES = 0
PIXEL_SUBSAMPLING_FLAG = N
SIGNAL_CHAIN_ID = 2
/* RADIOMETRIC DATA ELEMENTS */
BANDWIDTH = 76.0
CENTER_FILTER_WAVELENGTH = 444.0
RADIANCE_OFFSET = 1.26713
RADIANCE_SCALING_FACTOR = 0.000754474
REFLECTANCE_SCALING_FACTOR = 3.39783e-05
MEX:REFLECTANCE_OFFSET = 0.057066
/* IMAGE OBJECT DEFINITIONS */
OBJECT = IMAGE
  INTERCHANGE_FORMAT = BINARY
  LINES = 10002
  LINE_SAMPLES = 2564
  SAMPLE_TYPE = UNSIGNED_INTEGER
  SAMPLE_BITS = 8
  BANDS = 1
  BAND_STORAGE_TYPE = BAND_SEQUENTIAL
  MAXIMUM = 252
  MEAN = 140.145
  MINIMUM = 1
  STANDARD_DEVIATION = 32.3706
END_OBJECT = IMAGE
/* MAP OBJECT DEFINITIONS */
OBJECT = IMAGE_MAP_PROJECTION
  ^DATA_SET_MAP_PROJECTION_CATALOG= "DSMAP.CAT"
  A_AXIS_RADIUS = 3396.0
  B_AXIS_RADIUS = 3396.0
  C_AXIS_RADIUS = 3396.0
  CENTER_LATITUDE = 0.0
  CENTER_LONGITUDE = 5.0
  COORDINATE_SYSTEM_NAME = PLANETOGRAPHIC
  COORDINATE_SYSTEM_TYPE = "BODY-FIXED ROTATING"
  EASTERNMOST_LONGITUDE = 6.83294
  FIRST_STANDARD_PARALLEL = "N/A"
  LINE_FIRST_PIXEL = 1
  LINE_LAST_PIXEL = 10002
  LINE_PROJECTION_OFFSET = -64579.625
  MAP_PROJECTION_ROTATION = 0.0
  MAP_PROJECTION_TYPE = SINUSOIDAL
  MAP_RESOLUTION = 1185.42760773333
  MAP_SCALE = 0.05
  MAXIMUM_LATITUDE = -54.4634
  MINIMUM_LATITUDE = -62.9065
  POSITIVE_LONGITUDE_DIRECTION = EAST
  REFERENCE_LATITUDE = "N/A"
  REFERENCE_LONGITUDE = "N/A"
  SAMPLE_FIRST_PIXEL = 1
  SAMPLE_LAST_PIXEL = 2564
  SAMPLE_PROJECTION_OFFSET = 1306.125
  SECOND_STANDARD_PARALLEL = "N/A"
  WESTERNMOST_LONGITUDE = 2.59069
END_OBJECT = IMAGE_MAP_PROJECTION
END
