PDS_VERSION_ID = PDS3
/* FILE DATA ELEMENTS */
RECORD_TYPE = UNDEFINED
/* POINTERS TO DATA OBJECTS */
^IMAGE = ("H4566_0001_S24.TIF")
/* IDENTIFICATION DATA ELEMENTS */
DATA_SET_ID = "MEX-M-HRSC-4-REFDR-MAPPROJECT-EXT1-V4.0"
DATA_SET_NAME = "MARS EXPRESS HRSC MAP PROJECTED REFDR EXTENSION1 V4.0"
DETECTOR_ID = MEX_HRSC_S2
EVENT_TYPE = "MARS-REGIONAL-MAPPING-Fl-Pf"
INSTRUMENT_HOST_ID = MEX
INSTRUMENT_HOST_NAME = "MARS EXPRESS"
INSTRUMENT_ID = HRSC
INSTRUMENT_NAME = "HIGH RESOLUTION STEREO CAMERA"
MISSION_NAME = "MARS EXPRESS"
MISSION_PHASE_NAME = ME_Phase_8
PROCESSING_LEVEL_ID = 4
PRODUCT_CREATION_TIME = 2023-02-11T00:15:54.000Z
PRODUCT_ID = "H4566_0001_S24.TIF"
RELEASE_ID = 0007
REVISION_ID = 0000
/* QUALITY DATA ELEMENTS */
DATA_QUALITY_ID = 1
DATA_QUALITY_DESC = "Data calculated based on original SPICE kernels"
/* TIME DATA ELEMENTS */
SPACECRAFT_CLOCK_START_COUNT = "1/0133420564.08232"
SPACECRAFT_CLOCK_STOP_COUNT = "1/0133420790.14504"
START_TIME = 2007-07-25T05:17:22.660Z
STOP_TIME = 2007-07-25T05:19:52.295Z
/* ORBITAL DATA ELEMENTS */
ASCENDING_NODE_LONGITUDE = 132.83
MAXIMUM_RESOLUTION = 0.0358
FOOTPRINT_POINT_LATITUDE = (-62.6828,-62.7166,-62.7385,-62.7541, -62.7738,-62.7922,-62.8123,-62.8133, -62.9007,-62.6708,-62.2871,-61.8988, -61.432,-61.0347,-60.638,-60.4765, -60.2342,-60.0728,-59.912,-59.6665, -59.5023,-59.3385,-59.1747,-59.0091, -58.8422,-58.6766,-58.5091,-58.3401, -58.1674,-57.9976,-57.828,-57.6597, -57.4015,-57.2302,-57.0618,-56.8025, -56.6292,-56.4559,-56.2806,-56.1036, -55.9263,-55.7491,-55.5693,-55.3899, -55.2124,-55.0331,-54.8504,-54.6684, -54.5777,-54.563,-54.5573,-54.5408, -54.5307,-54.5171,-54.5053,-54.4898, -54.4791,-54.4651,-54.4637,-54.4638, -54.6435,-54.8233,-55.0047,-55.1851, -55.3624,-55.5407,-55.7175,-55.893, -56.0701,-56.3337,-56.5064,-56.6778, -56.8513,-57.1116,-57.2825,-57.454, -57.7085,-57.8764,-58.047,-58.2137, -58.4636,-58.6295,-58.7951,-59.0431, -59.2057,-59.3685,-59.5323,-59.6956, -59.8565,-60.0973,-60.498,-60.8135, -61.1309,-61.444,-61.6741,-61.9858, -62.2193,-62.6763,-62.7526,-62.6828)
FOOTPRINT_POINT_LONGITUDE = (2.57728,3.26846,3.75001,4.11158, 4.59366,5.07665,5.65198,5.68231,5.73526 ,5.7816,5.85599,5.93118,6.01755,6.08854 ,6.15691,6.18444,6.22504,6.25154, 6.27793,6.31722,6.34322,6.36894,6.39423 ,6.41955,6.44481,6.47024,6.49428, 6.51777,6.5408,6.56474,6.58833,6.61257, 6.64808,6.67152,6.69592,6.73139,6.7546, 6.77732,6.79997,6.82228,6.84401,6.86544 ,6.88726,6.90881,6.93079,6.9528,6.9736, 6.99424,7.00454,7.00628,6.7238,6.09382, 5.68554,5.18273,4.83704,4.46103,4.17871 ,3.80182,3.77054,3.75919,3.7424,3.72532 ,3.70707,3.68776,3.66989,3.65119,3.6326 ,3.61334,3.59287,3.56244,3.5424,3.52311 ,3.50215,3.46784,3.44598,3.42356, 3.38987,3.36726,3.34244,3.32034,3.28409 ,3.25966,3.23518,3.19755,3.17243, 3.14693,3.12038,3.09391,3.06713,3.02617 ,2.95706,2.89965,2.8393,2.77892,2.73477 ,2.67052,2.61993,2.5206,2.50353, 2.57728)
ORBIT_NUMBER = 4566
ORBITAL_ECCENTRICITY = 0.57
ORBITAL_INCLINATION = 86.69
ORBITAL_SEMIMAJOR_AXIS = 8530.34
PERIAPSIS_ALTITUDE = 294.16
PERIAPSIS_ARGUMENT_ANGLE = 274.35
PERIAPSIS_TIME = 2007-07-25T05:10:57.000Z
SPACECRAFT_ORIENTATION = (0.0,-1.0,0.0)
^MEX_ORIENTATION_DESC = "MEX_ORIENTATION_DESC.TXT"
SPACECRAFT_POINTING_MODE = NADIR
^MEX_POINTING_DESC = "MEX_POINTING_DESC.TXT"
RIGHT_ASCENSION = -1e+32
DECLINATION = -1e+32
OFFSET_ANGLE = -1e+32
SPACECRAFT_SOLAR_DISTANCE = 2.09363e+08
TARGET_NAME = MARS
/* CAMERA DATA ELEMENTS */
DETECTOR_TEMPERATURE = 20.0017
FOCAL_PLANE_TEMPERATURE = 9.195
INST_CMPRS_NAME = "DISCRETE COSINE TRANSFORMATION (DCT)"
INST_CMPRS_RATIO = 11.463
INST_CMPRS_QUALITY = 0
INST_CMPRS_QUANTZ_TBL_ID = 0
INSTRUMENT_TEMPERATURE = 12.8652
LENS_TEMPERATURE = 9.195
MACROPIXEL_SIZE = 2
MISSING_FRAMES = 0
PIXEL_SUBSAMPLING_FLAG = N
SIGNAL_CHAIN_ID = 1
/* RADIOMETRIC DATA ELEMENTS */
BANDWIDTH = 178.0
CENTER_FILTER_WAVELENGTH = 679.0
RADIANCE_OFFSET = 9.97662
RADIANCE_SCALING_FACTOR = 0.0115853
REFLECTANCE_SCALING_FACTOR = 0.000268929
MEX:REFLECTANCE_OFFSET = 0.231587
/* IMAGE OBJECT DEFINITIONS */
OBJECT = IMAGE
  INTERCHANGE_FORMAT = BINARY
  LINES = 20003
  LINE_SAMPLES = 5127
  SAMPLE_TYPE = UNSIGNED_INTEGER
  SAMPLE_BITS = 8
  BANDS = 1
  BAND_STORAGE_TYPE = BAND_SEQUENTIAL
  MAXIMUM = 254
  MEAN = 150.934
  MINIMUM = 1
  STANDARD_DEVIATION = 42.5233
END_OBJECT = IMAGE
/* MAP OBJECT DEFINITIONS */
OBJECT = IMAGE_MAP_PROJECTION
  ^DATA_SET_MAP_PROJECTION_CATALOG= "DSMAP.CAT"
  A_AXIS_RADIUS = 3396.0
  B_AXIS_RADIUS = 3396.0
  C_AXIS_RADIUS = 3396.0
  CENTER_LATITUDE = 0.0
  CENTER_LONGITUDE = 5.0
  COORDINATE_SYSTEM_NAME = PLANETOGRAPHIC
  COORDINATE_SYSTEM_TYPE = "BODY-FIXED ROTATING"
  EASTERNMOST_LONGITUDE = 7.00628
  FIRST_STANDARD_PARALLEL = "N/A"
  LINE_FIRST_PIXEL = 1
  LINE_LAST_PIXEL = 20003
  LINE_PROJECTION_OFFSET = -129158.75
  MAP_PROJECTION_ROTATION = 0.0
  MAP_PROJECTION_TYPE = SINUSOIDAL
  MAP_RESOLUTION = 2370.85521546667
  MAP_SCALE = 0.025
  MAXIMUM_LATITUDE = -54.4637
  MINIMUM_LATITUDE = -62.9007
  POSITIVE_LONGITUDE_DIRECTION = EAST
  REFERENCE_LATITUDE = "N/A"
  REFERENCE_LONGITUDE = "N/A"
  SAMPLE_FIRST_PIXEL = 1
  SAMPLE_LAST_PIXEL = 5127
  SAMPLE_PROJECTION_OFFSET = 2612.75
  SECOND_STANDARD_PARALLEL = "N/A"
  WESTERNMOST_LONGITUDE = 2.50353
END_OBJECT = IMAGE_MAP_PROJECTION
END
