PDS_VERSION_ID = PDS3
/* FILE DATA ELEMENTS */
RECORD_TYPE = UNDEFINED
/* POINTERS TO DATA OBJECTS */
^IMAGE = ("H4571_0000_BL4.TIF")
/* IDENTIFICATION DATA ELEMENTS */
DATA_SET_ID = "MEX-M-HRSC-4-REFDR-MAPPROJECT-EXT1-V4.0"
DATA_SET_NAME = "MARS EXPRESS HRSC MAP PROJECTED REFDR EXTENSION1 V4.0"
DETECTOR_ID = MEX_HRSC_BLUE
EVENT_TYPE = "MARS-LOCAL-VARIABLE-Gl-Eo-La"
INSTRUMENT_HOST_ID = MEX
INSTRUMENT_HOST_NAME = "MARS EXPRESS"
INSTRUMENT_ID = HRSC
INSTRUMENT_NAME = "HIGH RESOLUTION STEREO CAMERA"
MISSION_NAME = "MARS EXPRESS"
MISSION_PHASE_NAME = ME_Phase_8
PROCESSING_LEVEL_ID = 4
PRODUCT_CREATION_TIME = 2023-02-11T00:15:54.000Z
PRODUCT_ID = "H4571_0000_BL4.TIF"
RELEASE_ID = 0007
REVISION_ID = 0000
/* QUALITY DATA ELEMENTS */
DATA_QUALITY_ID = 1
DATA_QUALITY_DESC = "Data calculated based on original SPICE kernels"
/* TIME DATA ELEMENTS */
SPACECRAFT_CLOCK_START_COUNT = "1/0133541124.08241"
SPACECRAFT_CLOCK_STOP_COUNT = "1/0133541285.50007"
START_TIME = 2007-07-26T14:45:58.924Z
STOP_TIME = 2007-07-26T14:47:46.028Z
/* ORBITAL DATA ELEMENTS */
ASCENDING_NODE_LONGITUDE = 132.73
MAXIMUM_RESOLUTION = 0.0231
FOOTPRINT_POINT_LATITUDE = (-86.1856,-86.3518,-86.5731,-86.7204, -86.8674,-87.1245,-87.1337,-87.1596, -87.1839,-87.2062,-87.2113,-87.2092, -87.2001,-87.1836,-87.146,-87.1124, -87.0495,-86.9994,-86.9437,-86.8178, -86.7096,-86.6316,-86.5492,-86.4632, -86.3741,-86.2815,-86.1857,-86.0368, -85.8824,-85.7767,-85.6689,-85.5591, -85.4473,-85.334,-85.2193,-85.1034, -84.9266,-84.8073,-84.6868,-84.5653, -84.443,-84.3198,-84.1956,-84.0705, -83.9448,-83.8184,-83.6913,-83.5637, -83.4355,-83.3068,-83.1776,-82.9178, -82.8526,-82.8288,-82.7671,-82.6816, -82.6177,-82.5197,-82.3879,-82.383, -82.3816,-82.7477,-82.9283,-83.1662, -83.3423,-83.5737,-83.8007,-84.0775, -84.2927,-84.398,-84.5017,-84.6036, -84.7036,-84.8017,-84.8977,-84.9915, -85.083,-85.172,-85.2584,-85.342, -85.4619,-85.5378,-85.6105,-85.7458, -85.8072,-85.8923,-85.9919,-86.0346, -86.0726,-86.1057,-86.1339,-86.1569, -86.1812,-86.191,-86.1957,-86.1926, -86.1836,-86.1691,-86.1596,-86.1856)
FOOTPRINT_POINT_LONGITUDE = (142.877,142.512,141.969,141.567, 141.126,140.245,140.211,139.777,142.724 ,147.218,150.131,153.049,155.953, 158.832,163.069,165.823,169.823,172.389 ,174.866,179.536,182.788,184.835, 186.786,188.645,190.415,192.097,193.696 ,195.946,198.03,199.334,200.573,201.751 ,202.871,203.937,204.952,205.92,207.287 ,208.145,208.965,209.748,210.497, 211.214,211.899,212.555,213.183,213.786 ,214.365,214.92,215.454,215.967,216.461 ,217.394,217.616,217.696,216.542, 215.056,214.016,212.523,210.679,210.615 ,210.59,208.936,208.044,206.781,205.774 ,204.344,202.806,200.717,198.9,197.939, 196.941,195.905,194.828,193.71,192.549, 191.344,190.093,188.795,187.447,186.05, 183.857,182.329,180.75,177.446,175.705, 173.009,169.268,167.324,165.339,163.319 ,161.266,159.184,156.018,153.889, 150.685,148.551,146.36,144.165,143.075, 142.877)
ORBIT_NUMBER = 4571
ORBITAL_ECCENTRICITY = 0.57
ORBITAL_INCLINATION = 86.7
ORBITAL_SEMIMAJOR_AXIS = 8529.78
PERIAPSIS_ALTITUDE = 293.26
PERIAPSIS_ARGUMENT_ANGLE = 273.49
PERIAPSIS_TIME = 2007-07-26T14:46:55.000Z
SPACECRAFT_ORIENTATION = (0.0,-1.0,0.0)
^MEX_ORIENTATION_DESC = "MEX_ORIENTATION_DESC.TXT"
SPACECRAFT_POINTING_MODE = NADIR
^MEX_POINTING_DESC = "MEX_POINTING_DESC.TXT"
RIGHT_ASCENSION = -1e+32
DECLINATION = -1e+32
OFFSET_ANGLE = -1e+32
SPACECRAFT_SOLAR_DISTANCE = 2.09509e+08
TARGET_NAME = MARS
/* CAMERA DATA ELEMENTS */
DETECTOR_TEMPERATURE = 17.9627
FOCAL_PLANE_TEMPERATURE = 8.5833
INST_CMPRS_NAME = "DISCRETE COSINE TRANSFORMATION (DCT)"
INST_CMPRS_RATIO = 2.93022
INST_CMPRS_QUALITY = 0
INST_CMPRS_QUANTZ_TBL_ID = 0
INSTRUMENT_TEMPERATURE = 11.234
LENS_TEMPERATURE = 8.7872
MACROPIXEL_SIZE = 2
MISSING_FRAMES = 0
PIXEL_SUBSAMPLING_FLAG = N
SIGNAL_CHAIN_ID = 2
/* RADIOMETRIC DATA ELEMENTS */
BANDWIDTH = 76.0
CENTER_FILTER_WAVELENGTH = 444.0
RADIANCE_OFFSET = 0.640073
RADIANCE_SCALING_FACTOR = 0.00236068
REFLECTANCE_SCALING_FACTOR = 0.000106463
MEX:REFLECTANCE_OFFSET = 0.0288663
/* IMAGE OBJECT DEFINITIONS */
OBJECT = IMAGE
  INTERCHANGE_FORMAT = BINARY
  LINES = 10428
  LINE_SAMPLES = 15926
  SAMPLE_TYPE = UNSIGNED_INTEGER
  SAMPLE_BITS = 8
  BANDS = 1
  BAND_STORAGE_TYPE = BAND_SEQUENTIAL
  MAXIMUM = 254
  MEAN = 139.266
  MINIMUM = 1
  STANDARD_DEVIATION = 20.8933
END_OBJECT = IMAGE
/* MAP OBJECT DEFINITIONS */
OBJECT = IMAGE_MAP_PROJECTION
  ^DATA_SET_MAP_PROJECTION_CATALOG= "DSMAP.CAT"
  A_AXIS_RADIUS = 3396.0
  B_AXIS_RADIUS = 3396.0
  C_AXIS_RADIUS = 3396.0
  CENTER_LATITUDE = -90.0
  CENTER_LONGITUDE = 0.0
  COORDINATE_SYSTEM_NAME = PLANETOGRAPHIC
  COORDINATE_SYSTEM_TYPE = "BODY-FIXED ROTATING"
  EASTERNMOST_LONGITUDE = 217.696
  FIRST_STANDARD_PARALLEL = "N/A"
  LINE_FIRST_PIXEL = 1
  LINE_LAST_PIXEL = 10428
  LINE_PROJECTION_OFFSET = -5129.25
  MAP_PROJECTION_ROTATION = 0.0
  MAP_PROJECTION_TYPE = STEREOGRAPHIC
  MAP_RESOLUTION = 2370.85521546667
  MAP_SCALE = 0.025
  MAXIMUM_LATITUDE = -82.38160000000001
  MINIMUM_LATITUDE = -87.21129999999999
  POSITIVE_LONGITUDE_DIRECTION = EAST
  REFERENCE_LATITUDE = "N/A"
  REFERENCE_LONGITUDE = "N/A"
  SAMPLE_FIRST_PIXEL = 1
  SAMPLE_LAST_PIXEL = 15926
  SAMPLE_PROJECTION_OFFSET = 10387.25
  SECOND_STANDARD_PARALLEL = "N/A"
  WESTERNMOST_LONGITUDE = 139.777
END_OBJECT = IMAGE_MAP_PROJECTION
END
