PDS_VERSION_ID = PDS3
/* FILE DATA ELEMENTS */
RECORD_TYPE = UNDEFINED
/* POINTERS TO DATA OBJECTS */
^IMAGE = ("H4574_0000_IR4.TIF")
/* IDENTIFICATION DATA ELEMENTS */
DATA_SET_ID = "MEX-M-HRSC-4-REFDR-MAPPROJECT-EXT1-V4.0"
DATA_SET_NAME = "MARS EXPRESS HRSC MAP PROJECTED REFDR EXTENSION1 V4.0"
DETECTOR_ID = MEX_HRSC_IR
EVENT_TYPE = "MARS-REGIONAL-STEREO-Gl-Pf-La"
INSTRUMENT_HOST_ID = MEX
INSTRUMENT_HOST_NAME = "MARS EXPRESS"
INSTRUMENT_ID = HRSC
INSTRUMENT_NAME = "HIGH RESOLUTION STEREO CAMERA"
MISSION_NAME = "MARS EXPRESS"
MISSION_PHASE_NAME = ME_Phase_8
PROCESSING_LEVEL_ID = 4
PRODUCT_CREATION_TIME = 2023-02-11T00:15:54.000Z
PRODUCT_ID = "H4574_0000_IR4.TIF"
RELEASE_ID = 0007
REVISION_ID = 0000
/* QUALITY DATA ELEMENTS */
DATA_QUALITY_ID = 1
DATA_QUALITY_DESC = "Data calculated based on original SPICE kernels"
/* TIME DATA ELEMENTS */
SPACECRAFT_CLOCK_START_COUNT = "1/0133613818.09047"
SPACECRAFT_CLOCK_STOP_COUNT = "1/0133614056.56824"
START_TIME = 2007-07-27T10:57:06.564Z
STOP_TIME = 2007-07-27T11:00:01.404Z
/* ORBITAL DATA ELEMENTS */
ASCENDING_NODE_LONGITUDE = 132.67
MAXIMUM_RESOLUTION = 0.0486
FOOTPRINT_POINT_LATITUDE = (-82.1081,-82.3416,-82.506,-82.659, -82.6636,-82.5889,-82.3909,-82.1908, -81.9894,-81.5841,-81.3762,-80.9659, -80.7564,-80.5472,-80.3376,-80.1273, -79.9162,-79.704,-79.4921,-79.2776, -79.0608,-78.8488,-78.6309,-78.4168, -78.0842,-77.8607,-77.5276,-77.3048, -76.9652,-76.7383,-76.5129,-76.286, -76.0621,-75.7191,-75.4896,-75.2642, -75.0322,-74.7956,-74.559,-74.3217, -74.0859,-73.8488,-73.493,-73.2562, -73.0192,-72.6573,-72.4116,-72.1662, -71.9204,-71.5519,-71.4287,-71.4101, -71.3472,-71.2836,-71.2207,-71.1295, -71.1264,-71.1262,-71.4913,-71.8559, -72.0985,-72.3415,-72.5833,-72.8172, -73.0496,-73.2827,-73.5193,-73.7531, -74.1029,-74.4512,-74.684,-74.9136, -75.1379,-75.474,-75.8079,-76.1405, -76.4738,-76.694,-76.9101,-77.1291, -77.3463,-77.566,-77.7827,-77.9986, -78.2062,-78.619,-78.9262,-79.135, -79.4469,-79.7494,-79.9509,-80.2496, -80.5496,-80.8437,-81.1375,-81.4258, -81.7088,-81.8952,-81.9881,-82.1081)
FOOTPRINT_POINT_LONGITUDE = (270.794,273.15,274.995,276.882,276.942 ,277.157,277.96,278.723,279.448,280.79, 281.42,282.578,283.123,283.642,284.138, 284.613,285.067,285.504,285.922,286.324 ,286.713,287.082,287.441,287.783, 288.287,288.611,289.072,289.365,289.789 ,290.06,290.32,290.572,290.815,291.166, 291.391,291.608,291.823,292.034,292.238 ,292.437,292.628,292.814,293.083, 293.256,293.424,293.67,293.831,293.988, 294.14,294.36,294.431,294.442,293.56, 292.735,291.971,290.932,290.899,290.887 ,290.628,290.358,290.17,289.978,289.783 ,289.585,289.378,289.167,288.956, 288.733,288.386,288.021,287.769,287.509 ,287.25,286.846,286.42,285.971,285.502, 285.173,284.826,284.473,284.105,283.73, 283.336,282.938,282.529,281.666,280.974 ,280.498,279.75,278.944,278.38,277.489, 276.546,275.536,274.463,273.313,272.081 ,271.212,270.763,270.794)
ORBIT_NUMBER = 4574
ORBITAL_ECCENTRICITY = 0.57
ORBITAL_INCLINATION = 86.69
ORBITAL_SEMIMAJOR_AXIS = 8530.27
PERIAPSIS_ALTITUDE = 294.23
PERIAPSIS_ARGUMENT_ANGLE = 273.0
PERIAPSIS_TIME = 2007-07-27T10:56:34.000Z
SPACECRAFT_ORIENTATION = (0.0,-1.0,0.0)
^MEX_ORIENTATION_DESC = "MEX_ORIENTATION_DESC.TXT"
SPACECRAFT_POINTING_MODE = ACROSSTRACK
^MEX_POINTING_DESC = "MEX_POINTING_DESC.TXT"
RIGHT_ASCENSION = -1e+32
DECLINATION = -1e+32
OFFSET_ANGLE = 0.7
SPACECRAFT_SOLAR_DISTANCE = 2.09599e+08
TARGET_NAME = MARS
/* CAMERA DATA ELEMENTS */
DETECTOR_TEMPERATURE = 17.1471
FOCAL_PLANE_TEMPERATURE = 8.7872
INST_CMPRS_NAME = "DISCRETE COSINE TRANSFORMATION (DCT)"
INST_CMPRS_RATIO = 11.0361
INST_CMPRS_QUALITY = 0
INST_CMPRS_QUANTZ_TBL_ID = 0
INSTRUMENT_TEMPERATURE = 50.9945
LENS_TEMPERATURE = 9.195
MACROPIXEL_SIZE = 4
MISSING_FRAMES = 0
PIXEL_SUBSAMPLING_FLAG = N
SIGNAL_CHAIN_ID = 2
/* RADIOMETRIC DATA ELEMENTS */
BANDWIDTH = 81.0
CENTER_FILTER_WAVELENGTH = 955.5
RADIANCE_OFFSET = 1.63659
RADIANCE_SCALING_FACTOR = 0.00662012
REFLECTANCE_SCALING_FACTOR = 0.000627439
MEX:REFLECTANCE_OFFSET = 0.155111
/* IMAGE OBJECT DEFINITIONS */
OBJECT = IMAGE
  INTERCHANGE_FORMAT = BINARY
  LINES = 13531
  LINE_SAMPLES = 5542
  SAMPLE_TYPE = UNSIGNED_INTEGER
  SAMPLE_BITS = 8
  BANDS = 1
  BAND_STORAGE_TYPE = BAND_SEQUENTIAL
  MAXIMUM = 255
  MEAN = 82.6541
  MINIMUM = 1
  STANDARD_DEVIATION = 36.5799
END_OBJECT = IMAGE
/* MAP OBJECT DEFINITIONS */
OBJECT = IMAGE_MAP_PROJECTION
  ^DATA_SET_MAP_PROJECTION_CATALOG= "DSMAP.CAT"
  A_AXIS_RADIUS = 3396.0
  B_AXIS_RADIUS = 3396.0
  C_AXIS_RADIUS = 3396.0
  CENTER_LATITUDE = 0.0
  CENTER_LONGITUDE = 287.0
  COORDINATE_SYSTEM_NAME = PLANETOGRAPHIC
  COORDINATE_SYSTEM_TYPE = "BODY-FIXED ROTATING"
  EASTERNMOST_LONGITUDE = 294.442
  FIRST_STANDARD_PARALLEL = "N/A"
  LINE_FIRST_PIXEL = 1
  LINE_LAST_PIXEL = 13531
  LINE_PROJECTION_OFFSET = -84323.875
  MAP_PROJECTION_ROTATION = 0.0
  MAP_PROJECTION_TYPE = SINUSOIDAL
  MAP_RESOLUTION = 1185.42760773333
  MAP_SCALE = 0.05
  MAXIMUM_LATITUDE = -71.1262
  MINIMUM_LATITUDE = -82.6636
  POSITIVE_LONGITUDE_DIRECTION = EAST
  REFERENCE_LATITUDE = "N/A"
  REFERENCE_LONGITUDE = "N/A"
  SAMPLE_FIRST_PIXEL = 1
  SAMPLE_LAST_PIXEL = 5542
  SAMPLE_PROJECTION_OFFSET = 2690.625
  SECOND_STANDARD_PARALLEL = "N/A"
  WESTERNMOST_LONGITUDE = 270.763
END_OBJECT = IMAGE_MAP_PROJECTION
END
