PDS_VERSION_ID = PDS3
/* FILE DATA ELEMENTS */
RECORD_TYPE = UNDEFINED
/* POINTERS TO DATA OBJECTS */
^IMAGE = ("H4579_0001_GR4.TIF")
/* IDENTIFICATION DATA ELEMENTS */
DATA_SET_ID = "MEX-M-HRSC-4-REFDR-MAPPROJECT-EXT1-V4.0"
DATA_SET_NAME = "MARS EXPRESS HRSC MAP PROJECTED REFDR EXTENSION1 V4.0"
DETECTOR_ID = MEX_HRSC_GREEN
EVENT_TYPE = "MARS-REGIONAL-MAPPING-Im-Eo"
INSTRUMENT_HOST_ID = MEX
INSTRUMENT_HOST_NAME = "MARS EXPRESS"
INSTRUMENT_ID = HRSC
INSTRUMENT_NAME = "HIGH RESOLUTION STEREO CAMERA"
MISSION_NAME = "MARS EXPRESS"
MISSION_PHASE_NAME = ME_Phase_8
PROCESSING_LEVEL_ID = 4
PRODUCT_CREATION_TIME = 2023-02-11T00:15:54.000Z
PRODUCT_ID = "H4579_0001_GR4.TIF"
RELEASE_ID = 0007
REVISION_ID = 0000
/* QUALITY DATA ELEMENTS */
DATA_QUALITY_ID = 1
DATA_QUALITY_DESC = "Data calculated based on original SPICE kernels"
/* TIME DATA ELEMENTS */
SPACECRAFT_CLOCK_START_COUNT = "1/0133735353.07292"
SPACECRAFT_CLOCK_STOP_COUNT = "1/0133735702.21870"
START_TIME = 2007-07-28T20:43:28.301Z
STOP_TIME = 2007-07-28T20:46:06.843Z
/* ORBITAL DATA ELEMENTS */
ASCENDING_NODE_LONGITUDE = 132.56
MAXIMUM_RESOLUTION = 0.1033
FOOTPRINT_POINT_LATITUDE = (-46.1702,-46.1775,-46.1919,-46.1991, -46.2061,-46.211,-46.2138,-46.2144, -46.2144,-46.2052,-46.0274,-45.8499, -45.6727,-45.4958,-45.3193,-45.143, -44.879,-44.7033,-44.5278,-44.3522, -44.1771,-44.0024,-43.828,-43.6529, -43.4782,-43.3045,-43.1311,-42.958, -42.7852,-42.6131,-42.4414,-42.2694, -42.0977,-41.9263,-41.7551,-41.5843, -41.242,-40.9034,-40.6492,-40.2266, -39.8898,-39.5541,-39.2196,-38.8862, -38.554,-38.0565,-37.7283,-37.6458, -37.6226,-37.6295,-37.6323,-37.6355, -37.6367,-37.6366,-37.6359,-37.6343, -37.6321,-37.6294,-37.626,-37.622, -37.6214,-37.6225,-37.9498,-38.2781, -38.6077,-38.9382,-39.2699,-39.6028, -40.0206,-40.356,-40.6083,-40.9455, -41.284,-41.6233,-41.9638,-42.1347, -42.306,-42.4772,-42.6487,-42.8206, -42.9926,-43.1649,-43.3377,-43.5106, -43.6838,-43.8573,-44.1181,-44.2922, -44.4667,-44.6415,-44.8166,-44.992, -45.1675,-45.3433,-45.5194,-45.6957, -45.8724,-46.0492,-46.1378,-46.1702)
FOOTPRINT_POINT_LONGITUDE = (167.552,167.818,168.441,168.829, 169.308,169.788,170.272,170.729,170.759 ,170.802,170.81,170.817,170.825,170.832 ,170.839,170.846,170.856,170.862, 170.869,170.878,170.885,170.892,170.899 ,170.909,170.919,170.926,170.932, 170.939,170.945,170.949,170.953,170.959 ,170.965,170.97,170.976,170.981,170.997 ,171.003,171.011,171.025,171.036, 171.046,171.055,171.065,171.074,171.091 ,171.095,171.098,171.1,170.657,170.352, 169.878,169.473,169.17,168.901,168.599, 168.331,168.063,167.796,167.529,167.496 ,167.484,167.493,167.5,167.507,167.514, 167.52,167.526,167.534,167.538,167.542, 167.546,167.55,167.552,167.555,167.556, 167.558,167.558,167.559,167.56,167.56, 167.56,167.56,167.56,167.56,167.56, 167.559,167.559,167.558,167.557,167.556 ,167.555,167.553,167.552,167.55,167.548 ,167.546,167.544,167.543,167.552)
ORBIT_NUMBER = 4579
ORBITAL_ECCENTRICITY = 0.57
ORBITAL_INCLINATION = 86.69
ORBITAL_SEMIMAJOR_AXIS = 8530.89
PERIAPSIS_ALTITUDE = 294.84
PERIAPSIS_ARGUMENT_ANGLE = 272.12
PERIAPSIS_TIME = 2007-07-28T20:32:33.000Z
SPACECRAFT_ORIENTATION = (0.0,-1.0,0.0)
^MEX_ORIENTATION_DESC = "MEX_ORIENTATION_DESC.TXT"
SPACECRAFT_POINTING_MODE = ACROSSTRACK
^MEX_POINTING_DESC = "MEX_POINTING_DESC.TXT"
RIGHT_ASCENSION = -1e+32
DECLINATION = -1e+32
OFFSET_ANGLE = -0.6
SPACECRAFT_SOLAR_DISTANCE = 2.09751e+08
TARGET_NAME = MARS
/* CAMERA DATA ELEMENTS */
DETECTOR_TEMPERATURE = 19.5939
FOCAL_PLANE_TEMPERATURE = 10.0106
INST_CMPRS_NAME = "DISCRETE COSINE TRANSFORMATION (DCT)"
INST_CMPRS_RATIO = 15.8799
INST_CMPRS_QUALITY = 0
INST_CMPRS_QUANTZ_TBL_ID = 0
INSTRUMENT_TEMPERATURE = 13.0691
LENS_TEMPERATURE = 9.195
MACROPIXEL_SIZE = 4
MISSING_FRAMES = 0
PIXEL_SUBSAMPLING_FLAG = N
SIGNAL_CHAIN_ID = 2
/* RADIOMETRIC DATA ELEMENTS */
BANDWIDTH = 88.0
CENTER_FILTER_WAVELENGTH = 538.0
RADIANCE_OFFSET = 3.88883
RADIANCE_SCALING_FACTOR = 0.00222958
REFLECTANCE_SCALING_FACTOR = 8.44542e-05
MEX:REFLECTANCE_OFFSET = 0.147305
/* IMAGE OBJECT DEFINITIONS */
OBJECT = IMAGE
  INTERCHANGE_FORMAT = BINARY
  LINES = 5089
  LINE_SAMPLES = 1746
  SAMPLE_TYPE = UNSIGNED_INTEGER
  SAMPLE_BITS = 8
  BANDS = 1
  BAND_STORAGE_TYPE = BAND_SEQUENTIAL
  MAXIMUM = 255
  MEAN = 136.855
  MINIMUM = 2
  STANDARD_DEVIATION = 35.7917
END_OBJECT = IMAGE
/* MAP OBJECT DEFINITIONS */
OBJECT = IMAGE_MAP_PROJECTION
  ^DATA_SET_MAP_PROJECTION_CATALOG= "DSMAP.CAT"
  A_AXIS_RADIUS = 3396.0
  B_AXIS_RADIUS = 3396.0
  C_AXIS_RADIUS = 3396.0
  CENTER_LATITUDE = 0.0
  CENTER_LONGITUDE = 169.0
  COORDINATE_SYSTEM_NAME = PLANETOGRAPHIC
  COORDINATE_SYSTEM_TYPE = "BODY-FIXED ROTATING"
  EASTERNMOST_LONGITUDE = 171.1
  FIRST_STANDARD_PARALLEL = "N/A"
  LINE_FIRST_PIXEL = 1
  LINE_LAST_PIXEL = 5089
  LINE_PROJECTION_OFFSET = -22296.375
  MAP_PROJECTION_ROTATION = 0.0
  MAP_PROJECTION_TYPE = SINUSOIDAL
  MAP_RESOLUTION = 592.713803866667
  MAP_SCALE = 0.1
  MAXIMUM_LATITUDE = -37.6214
  MINIMUM_LATITUDE = -46.2144
  POSITIVE_LONGITUDE_DIRECTION = EAST
  REFERENCE_LATITUDE = "N/A"
  REFERENCE_LONGITUDE = "N/A"
  SAMPLE_FIRST_PIXEL = 1
  SAMPLE_LAST_PIXEL = 1746
  SAMPLE_PROJECTION_OFFSET = 731.625
  SECOND_STANDARD_PARALLEL = "N/A"
  WESTERNMOST_LONGITUDE = 167.484
END_OBJECT = IMAGE_MAP_PROJECTION
END
