PDS_VERSION_ID = PDS3
/* FILE DATA ELEMENTS */
RECORD_TYPE = UNDEFINED
/* POINTERS TO DATA OBJECTS */
^IMAGE = ("H4580_0000_GR4.TIF")
/* IDENTIFICATION DATA ELEMENTS */
DATA_SET_ID = "MEX-M-HRSC-4-REFDR-MAPPROJECT-EXT1-V4.0"
DATA_SET_NAME = "MARS EXPRESS HRSC MAP PROJECTED REFDR EXTENSION1 V4.0"
DETECTOR_ID = MEX_HRSC_GREEN
EVENT_TYPE = "MARS-REGIONAL-MAPPING-Im-Gl"
INSTRUMENT_HOST_ID = MEX
INSTRUMENT_HOST_NAME = "MARS EXPRESS"
INSTRUMENT_ID = HRSC
INSTRUMENT_NAME = "HIGH RESOLUTION STEREO CAMERA"
MISSION_NAME = "MARS EXPRESS"
MISSION_PHASE_NAME = ME_Phase_8
PROCESSING_LEVEL_ID = 4
PRODUCT_CREATION_TIME = 2023-02-11T00:15:54.000Z
PRODUCT_ID = "H4580_0000_GR4.TIF"
RELEASE_ID = 0007
REVISION_ID = 0000
/* QUALITY DATA ELEMENTS */
DATA_QUALITY_ID = 1
DATA_QUALITY_DESC = "Data calculated based on original SPICE kernels"
/* TIME DATA ELEMENTS */
SPACECRAFT_CLOCK_START_COUNT = "1/0133759027.08402"
SPACECRAFT_CLOCK_STOP_COUNT = "1/0133759238.14694"
START_TIME = 2007-07-29T03:17:32.999Z
STOP_TIME = 2007-07-29T03:20:01.024Z
/* ORBITAL DATA ELEMENTS */
ASCENDING_NODE_LONGITUDE = 132.54
MAXIMUM_RESOLUTION = 0.0962
FOOTPRINT_POINT_LATITUDE = (-79.9148,-80.06,-80.1517,-80.2231, -80.2256,-80.2201,-79.785,-79.436, -79.2555,-79.0742,-78.8018,-78.5293, -78.3474,-78.1654,-77.9833,-77.801, -77.4373,-77.2549,-77.0724,-76.8899, -76.7072,-76.424,-76.2348,-76.0457, -75.8566,-75.6669,-75.4777,-75.2883, -75.099,-74.8152,-74.6259,-74.3353, -74.1395,-73.9441,-73.7485,-73.5528, -73.3574,-73.1618,-72.9662,-72.7706, -72.4698,-72.268,-71.9654,-71.7636, -71.562,-71.3605,-71.1588,-70.8571, -70.7565,-70.6576,-70.6048,-70.5564, -70.5159,-70.4809,-70.4789,-70.4792, -70.6787,-70.8783,-71.0779,-71.2776, -71.4775,-71.6776,-71.878,-72.1775, -72.3775,-72.5752,-72.8658,-73.0596, -73.253,-73.4466,-73.6406,-73.93, -74.1234,-74.3168,-74.5038,-74.7842, -75.0654,-75.3448,-75.5311,-75.7175, -75.9038,-76.09,-76.2761,-76.5513, -76.9099,-77.0891,-77.268,-77.4467, -77.625,-77.8914,-78.0691,-78.247, -78.4247,-78.6023,-78.8677,-79.1314, -79.4709,-79.7245,-79.8088,-79.9148)
FOOTPRINT_POINT_LONGITUDE = (54.2418,56.5287,58.1598,59.5635, 59.6159,59.8627,60.5586,61.0729,61.3249 ,61.57,61.9239,62.2556,62.4708,62.6784, 62.8793,63.0751,63.4285,63.6071,63.7809 ,63.9487,64.1143,64.359,64.5164,64.6681 ,64.8146,64.9657,65.1061,65.2446, 65.3769,65.5692,65.6944,65.8807,66.0009 ,66.1144,66.229,66.3407,66.447,66.5536, 66.6595,66.7617,66.914,67.0124,67.1549, 67.2495,67.3398,67.4274,67.5165,67.6401 ,67.6812,67.7212,66.5074,65.5332, 64.7978,64.1999,64.1666,64.1437,64.0412 ,63.9367,63.8296,63.7199,63.6079, 63.4937,63.3776,63.1934,63.0679,62.9407 ,62.7486,62.6164,62.4797,62.34,62.1982, 61.9719,61.8183,61.6605,61.5041,61.2617 ,61.0129,60.7471,60.5639,60.3766, 60.1841,59.9859,59.7818,59.4694,59.04, 58.8161,58.5846,58.3465,58.1,57.7127, 57.4459,57.1726,56.8905,56.6001,56.144, 55.665,55.0128,54.4937,54.3146,54.2418)
ORBIT_NUMBER = 4580
ORBITAL_ECCENTRICITY = 0.57
ORBITAL_INCLINATION = 86.7
ORBITAL_SEMIMAJOR_AXIS = 8529.75
PERIAPSIS_ALTITUDE = 293.57
PERIAPSIS_ARGUMENT_ANGLE = 271.95
PERIAPSIS_TIME = 2007-07-29T03:15:45.000Z
SPACECRAFT_ORIENTATION = (0.0,-1.0,0.0)
^MEX_ORIENTATION_DESC = "MEX_ORIENTATION_DESC.TXT"
SPACECRAFT_POINTING_MODE = ACROSSTRACK
^MEX_POINTING_DESC = "MEX_POINTING_DESC.TXT"
RIGHT_ASCENSION = -1e+32
DECLINATION = -1e+32
OFFSET_ANGLE = -0.07
SPACECRAFT_SOLAR_DISTANCE = 2.09781e+08
TARGET_NAME = MARS
/* CAMERA DATA ELEMENTS */
DETECTOR_TEMPERATURE = 18.5744
FOCAL_PLANE_TEMPERATURE = 8.9911
INST_CMPRS_NAME = "DISCRETE COSINE TRANSFORMATION (DCT)"
INST_CMPRS_RATIO = 28.3528
INST_CMPRS_QUALITY = 0
INST_CMPRS_QUANTZ_TBL_ID = 0
INSTRUMENT_TEMPERATURE = 11.6418
LENS_TEMPERATURE = 9.195
MACROPIXEL_SIZE = 8
MISSING_FRAMES = 0
PIXEL_SUBSAMPLING_FLAG = N
SIGNAL_CHAIN_ID = 2
/* RADIOMETRIC DATA ELEMENTS */
BANDWIDTH = 88.0
CENTER_FILTER_WAVELENGTH = 538.0
RADIANCE_OFFSET = 2.5715
RADIANCE_SCALING_FACTOR = 0.00295151
REFLECTANCE_SCALING_FACTOR = 0.000111832
MEX:REFLECTANCE_OFFSET = 0.0974338
/* IMAGE OBJECT DEFINITIONS */
OBJECT = IMAGE
  INTERCHANGE_FORMAT = BINARY
  LINES = 5784
  LINE_SAMPLES = 1863
  SAMPLE_TYPE = UNSIGNED_INTEGER
  SAMPLE_BITS = 8
  BANDS = 1
  BAND_STORAGE_TYPE = BAND_SEQUENTIAL
  MAXIMUM = 254
  MEAN = 125.251
  MINIMUM = 2
  STANDARD_DEVIATION = 50.0648
END_OBJECT = IMAGE
/* MAP OBJECT DEFINITIONS */
OBJECT = IMAGE_MAP_PROJECTION
  ^DATA_SET_MAP_PROJECTION_CATALOG= "DSMAP.CAT"
  A_AXIS_RADIUS = 3396.0
  B_AXIS_RADIUS = 3396.0
  C_AXIS_RADIUS = 3396.0
  CENTER_LATITUDE = 0.0
  CENTER_LONGITUDE = 63.0
  COORDINATE_SYSTEM_NAME = PLANETOGRAPHIC
  COORDINATE_SYSTEM_TYPE = "BODY-FIXED ROTATING"
  EASTERNMOST_LONGITUDE = 67.7212
  FIRST_STANDARD_PARALLEL = "N/A"
  LINE_FIRST_PIXEL = 1
  LINE_LAST_PIXEL = 5784
  LINE_PROJECTION_OFFSET = -41771.6875
  MAP_PROJECTION_ROTATION = 0.0
  MAP_PROJECTION_TYPE = SINUSOIDAL
  MAP_RESOLUTION = 592.713803866667
  MAP_SCALE = 0.1
  MAXIMUM_LATITUDE = -70.4789
  MINIMUM_LATITUDE = -80.2256
  POSITIVE_LONGITUDE_DIRECTION = EAST
  REFERENCE_LATITUDE = "N/A"
  REFERENCE_LONGITUDE = "N/A"
  SAMPLE_FIRST_PIXEL = 1
  SAMPLE_LAST_PIXEL = 1863
  SAMPLE_PROJECTION_OFFSET = 923.8125
  SECOND_STANDARD_PARALLEL = "N/A"
  WESTERNMOST_LONGITUDE = 54.2418
END_OBJECT = IMAGE_MAP_PROJECTION
END
