PDS_VERSION_ID = PDS3
/* FILE DATA ELEMENTS */
RECORD_TYPE = UNDEFINED
/* POINTERS TO DATA OBJECTS */
^IMAGE = ("H4580_0000_ND4.TIF")
/* IDENTIFICATION DATA ELEMENTS */
DATA_SET_ID = "MEX-M-HRSC-4-REFDR-MAPPROJECT-EXT1-V4.0"
DATA_SET_NAME = "MARS EXPRESS HRSC MAP PROJECTED REFDR EXTENSION1 V4.0"
DETECTOR_ID = MEX_HRSC_NADIR
EVENT_TYPE = "MARS-REGIONAL-MAPPING-Im-Gl"
INSTRUMENT_HOST_ID = MEX
INSTRUMENT_HOST_NAME = "MARS EXPRESS"
INSTRUMENT_ID = HRSC
INSTRUMENT_NAME = "HIGH RESOLUTION STEREO CAMERA"
MISSION_NAME = "MARS EXPRESS"
MISSION_PHASE_NAME = ME_Phase_8
PROCESSING_LEVEL_ID = 4
PRODUCT_CREATION_TIME = 2023-02-11T00:15:54.000Z
PRODUCT_ID = "H4580_0000_ND4.TIF"
RELEASE_ID = 0007
REVISION_ID = 0000
/* QUALITY DATA ELEMENTS */
DATA_QUALITY_ID = 1
DATA_QUALITY_DESC = "Data calculated based on original SPICE kernels"
/* TIME DATA ELEMENTS */
SPACECRAFT_CLOCK_START_COUNT = "1/0133759027.08402"
SPACECRAFT_CLOCK_STOP_COUNT = "1/0133759238.14694"
START_TIME = 2007-07-29T03:17:37.387Z
STOP_TIME = 2007-07-29T03:20:06.403Z
/* ORBITAL DATA ELEMENTS */
ASCENDING_NODE_LONGITUDE = 132.54
MAXIMUM_RESOLUTION = 0.0121
FOOTPRINT_POINT_LATITUDE = (-79.9051,-79.9808,-80.1261,-80.2166, -80.2193,-80.2318,-79.969,-79.6143, -79.432,-79.2495,-79.0669,-78.8842, -78.7012,-78.3351,-77.9686,-77.6017, -77.0504,-76.7673,-76.5771,-76.3869, -76.1967,-76.0064,-75.8162,-75.6262, -75.436,-75.2459,-75.0556,-74.8654, -74.6693,-74.4726,-74.276,-74.0794, -73.8826,-73.6862,-73.4897,-73.2932, -73.097,-72.7951,-72.5926,-72.39, -72.1875,-71.9851,-71.783,-71.5808, -71.3786,-71.1769,-70.9748,-70.7731, -70.6722,-70.6566,-70.6296,-70.595, -70.5575,-70.5248,-70.4775,-70.4754, -70.4745,-70.6746,-70.8748,-71.075, -71.2753,-71.4757,-71.6762,-71.8768, -72.0772,-72.2779,-72.4785,-72.6791, -72.8783,-73.0726,-73.2668,-73.4611, -73.6555,-73.8496,-74.0438,-74.2381, -74.4323,-74.7204,-74.9081,-75.0959, -75.2833,-75.4708,-75.6582,-75.8455, -76.0328,-76.2199,-76.407,-76.5939, -76.7793,-77.1397,-77.4994,-77.8582, -78.2162,-78.4843,-78.7518,-79.1074, -79.4594,-79.7997,-79.8846,-79.9051)
FOOTPRINT_POINT_LONGITUDE = (54.2506,55.4066,57.8829,59.6525, 59.7084,59.9294,60.3566,60.8972,61.1601 ,61.4137,61.659,61.8974,62.125,62.5606, 62.969,63.3504,63.8712,64.1301,64.2956, 64.4582,64.6148,64.7649,64.9134,65.062, 65.2018,65.3395,65.4708,65.5987,65.7309 ,65.8574,65.9797,66.0998,66.2121, 66.3263,66.4371,66.5425,66.6495,66.8089 ,66.913,67.0125,67.1096,67.2042,67.2992 ,67.3898,67.4775,67.5675,67.6488, 67.7321,67.7727,67.7789,67.1257,66.3662 ,65.6114,65.0025,64.1835,64.1479, 64.1304,64.0282,63.9235,63.8161,63.7062 ,63.5945,63.4797,63.3636,63.2402,63.117 ,62.989,62.8578,62.7257,62.593,62.4555, 62.3151,62.1741,62.0207,61.8678,61.7112 ,61.5503,61.3035,61.1386,60.9701, 60.7922,60.61,60.423,60.2311,60.0337, 59.8304,59.6211,59.4061,59.1856,58.7377 ,58.2613,57.7498,57.2072,56.7803, 56.3317,55.6963,55.0224,54.3209,54.1378 ,54.2506)
ORBIT_NUMBER = 4580
ORBITAL_ECCENTRICITY = 0.57
ORBITAL_INCLINATION = 86.7
ORBITAL_SEMIMAJOR_AXIS = 8529.75
PERIAPSIS_ALTITUDE = 293.57
PERIAPSIS_ARGUMENT_ANGLE = 271.95
PERIAPSIS_TIME = 2007-07-29T03:15:45.000Z
SPACECRAFT_ORIENTATION = (0.0,-1.0,0.0)
^MEX_ORIENTATION_DESC = "MEX_ORIENTATION_DESC.TXT"
SPACECRAFT_POINTING_MODE = ACROSSTRACK
^MEX_POINTING_DESC = "MEX_POINTING_DESC.TXT"
RIGHT_ASCENSION = -1e+32
DECLINATION = -1e+32
OFFSET_ANGLE = -0.07
SPACECRAFT_SOLAR_DISTANCE = 2.09781e+08
TARGET_NAME = MARS
/* CAMERA DATA ELEMENTS */
DETECTOR_TEMPERATURE = 18.5744
FOCAL_PLANE_TEMPERATURE = 8.9911
INST_CMPRS_NAME = "DISCRETE COSINE TRANSFORMATION (DCT)"
INST_CMPRS_RATIO = 7.49195
INST_CMPRS_QUALITY = 0
INST_CMPRS_QUANTZ_TBL_ID = 0
INSTRUMENT_TEMPERATURE = 11.6418
LENS_TEMPERATURE = 9.195
MACROPIXEL_SIZE = 1
MISSING_FRAMES = 0
PIXEL_SUBSAMPLING_FLAG = N
SIGNAL_CHAIN_ID = 0
/* RADIOMETRIC DATA ELEMENTS */
BANDWIDTH = 177.0
CENTER_FILTER_WAVELENGTH = 677.5
RADIANCE_OFFSET = 6.23186
RADIANCE_SCALING_FACTOR = 0.0129058
REFLECTANCE_SCALING_FACTOR = 0.00030172
MEX:REFLECTANCE_OFFSET = 0.145692
/* IMAGE OBJECT DEFINITIONS */
OBJECT = IMAGE
  INTERCHANGE_FORMAT = BINARY
  LINES = 46268
  LINE_SAMPLES = 14901
  SAMPLE_TYPE = UNSIGNED_INTEGER
  SAMPLE_BITS = 8
  BANDS = 1
  BAND_STORAGE_TYPE = BAND_SEQUENTIAL
  MAXIMUM = 254
  MEAN = 126.407
  MINIMUM = 1
  STANDARD_DEVIATION = 45.7792
END_OBJECT = IMAGE
/* MAP OBJECT DEFINITIONS */
OBJECT = IMAGE_MAP_PROJECTION
  ^DATA_SET_MAP_PROJECTION_CATALOG= "DSMAP.CAT"
  A_AXIS_RADIUS = 3396.0
  B_AXIS_RADIUS = 3396.0
  C_AXIS_RADIUS = 3396.0
  CENTER_LATITUDE = 0.0
  CENTER_LONGITUDE = 63.0
  COORDINATE_SYSTEM_NAME = PLANETOGRAPHIC
  COORDINATE_SYSTEM_TYPE = "BODY-FIXED ROTATING"
  EASTERNMOST_LONGITUDE = 67.77889999999999
  FIRST_STANDARD_PARALLEL = "N/A"
  LINE_FIRST_PIXEL = 1
  LINE_LAST_PIXEL = 46268
  LINE_PROJECTION_OFFSET = -334170.0
  MAP_PROJECTION_ROTATION = 0.0
  MAP_PROJECTION_TYPE = SINUSOIDAL
  MAP_RESOLUTION = 4741.71043093333
  MAP_SCALE = 0.0125
  MAXIMUM_LATITUDE = -70.47450000000001
  MINIMUM_LATITUDE = -80.23180000000001
  POSITIVE_LONGITUDE_DIRECTION = EAST
  REFERENCE_LATITUDE = "N/A"
  REFERENCE_LONGITUDE = "N/A"
  SAMPLE_FIRST_PIXEL = 1
  SAMPLE_LAST_PIXEL = 14901
  SAMPLE_PROJECTION_OFFSET = 7394.0
  SECOND_STANDARD_PARALLEL = "N/A"
  WESTERNMOST_LONGITUDE = 54.1378
END_OBJECT = IMAGE_MAP_PROJECTION
END
