PDS_VERSION_ID = PDS3
/* FILE DATA ELEMENTS */
RECORD_TYPE = UNDEFINED
/* POINTERS TO DATA OBJECTS */
^IMAGE = ("H4584_0000_GR4.TIF")
/* IDENTIFICATION DATA ELEMENTS */
DATA_SET_ID = "MEX-M-HRSC-4-REFDR-MAPPROJECT-EXT1-V4.0"
DATA_SET_NAME = "MARS EXPRESS HRSC MAP PROJECTED REFDR EXTENSION1 V4.0"
DETECTOR_ID = MEX_HRSC_GREEN
EVENT_TYPE = "MARS-REGIONAL-MAPPING-Gl-Pf-La"
INSTRUMENT_HOST_ID = MEX
INSTRUMENT_HOST_NAME = "MARS EXPRESS"
INSTRUMENT_ID = HRSC
INSTRUMENT_NAME = "HIGH RESOLUTION STEREO CAMERA"
MISSION_NAME = "MARS EXPRESS"
MISSION_PHASE_NAME = ME_Phase_9
PROCESSING_LEVEL_ID = 4
PRODUCT_CREATION_TIME = 2023-02-11T00:15:54.000Z
PRODUCT_ID = "H4584_0000_GR4.TIF"
RELEASE_ID = 0007
REVISION_ID = 0000
/* QUALITY DATA ELEMENTS */
DATA_QUALITY_ID = 1
DATA_QUALITY_DESC = "Data calculated based on original SPICE kernels"
/* TIME DATA ELEMENTS */
SPACECRAFT_CLOCK_START_COUNT = "1/0133855678.09076"
SPACECRAFT_CLOCK_STOP_COUNT = "1/0133855858.16809"
START_TIME = 2007-07-30T06:08:23.792Z
STOP_TIME = 2007-07-30T06:10:27.694Z
/* ORBITAL DATA ELEMENTS */
ASCENDING_NODE_LONGITUDE = 132.46
MAXIMUM_RESOLUTION = 0.0407
FOOTPRINT_POINT_LATITUDE = (-86.0509,-86.2808,-86.6019,-86.9443, -86.9526,-86.9726,-86.9094,-86.8395, -86.7221,-86.6368,-86.5463,-86.4509, -86.3509,-86.1934,-86.0837,-85.913, -85.6751,-85.49,-85.3639,-85.2356, -85.1055,-84.9002,-84.7607,-84.6198, -84.4775,-84.2616,-84.1162,-83.9698, -83.7483,-83.5995,-83.4499,-83.2995, -83.0727,-82.8445,-82.6916,-82.4613, -82.3071,-82.075,-81.9198,-81.7642, -81.6082,-81.4518,-81.2168,-81.0597, -80.9023,-80.7447,-80.5078,-80.3455, -80.2634,-80.198,-80.0879,-80.0151, -79.9274,-79.8596,-79.856,-79.8555, -80.0145,-80.1707,-80.4001,-80.5527, -80.7789,-81.0054,-81.1561,-81.3793, -81.6012,-81.7481,-81.8949,-82.0426, -82.1873,-82.4027,-82.5455,-82.6876, -82.8986,-83.1074,-83.2451,-83.4491, -83.5834,-83.7162,-83.8474,-83.9767, -84.1046,-84.2303,-84.354,-84.5335, -84.6481,-84.8141,-84.9739,-85.0766, -85.2253,-85.3203,-85.4113,-85.5404, -85.6213,-85.6978,-85.7695,-85.8363, -85.8978,-85.9798,-86.0044,-86.0509)
FOOTPRINT_POINT_LONGITUDE = (329.543,330.587,332.295,334.54,334.601 ,335.02,337.769,340.404,344.115,346.447 ,348.659,350.757,352.742,355.521, 357.246,359.659,362.573,364.552,365.785 ,366.946,368.048,369.645,370.642, 371.594,372.487,373.756,374.557,375.311 ,376.363,377.026,377.658,378.261, 379.115,379.917,380.423,381.144,381.6, 382.25,382.662,383.059,383.443,383.811, 384.336,384.672,384.996,385.31,385.762, 386.057,386.202,386.315,384.229,382.989 ,381.609,380.617,380.565,380.546, 380.186,379.82,379.264,378.879,378.266, 377.63,377.188,376.487,375.748,375.231, 374.699,374.155,373.578,372.671,372.038 ,371.381,370.345,369.246,368.475, 367.257,366.402,365.51,364.58,363.608, 362.595,361.535,360.429,358.715,357.532 ,355.656,353.656,352.251,350.032, 348.476,346.856,344.304,342.521,340.673 ,338.76,336.783,334.744,331.574,330.49, 329.543)
ORBIT_NUMBER = 4584
ORBITAL_ECCENTRICITY = 0.57
ORBITAL_INCLINATION = 86.69
ORBITAL_SEMIMAJOR_AXIS = 8530.42
PERIAPSIS_ALTITUDE = 294.35
PERIAPSIS_ARGUMENT_ANGLE = 271.25
PERIAPSIS_TIME = 2007-07-30T06:08:29.000Z
SPACECRAFT_ORIENTATION = (0.0,-1.0,0.0)
^MEX_ORIENTATION_DESC = "MEX_ORIENTATION_DESC.TXT"
SPACECRAFT_POINTING_MODE = NADIR
^MEX_POINTING_DESC = "MEX_POINTING_DESC.TXT"
RIGHT_ASCENSION = -1e+32
DECLINATION = -1e+32
OFFSET_ANGLE = -1e+32
SPACECRAFT_SOLAR_DISTANCE = 2.09906e+08
TARGET_NAME = MARS
/* CAMERA DATA ELEMENTS */
DETECTOR_TEMPERATURE = 18.1666
FOCAL_PLANE_TEMPERATURE = 8.7872
INST_CMPRS_NAME = "DISCRETE COSINE TRANSFORMATION (DCT)"
INST_CMPRS_RATIO = 8.36673
INST_CMPRS_QUALITY = 0
INST_CMPRS_QUANTZ_TBL_ID = 0
INSTRUMENT_TEMPERATURE = 11.4379
LENS_TEMPERATURE = 8.9911
MACROPIXEL_SIZE = 4
MISSING_FRAMES = 0
PIXEL_SUBSAMPLING_FLAG = N
SIGNAL_CHAIN_ID = 2
/* RADIOMETRIC DATA ELEMENTS */
BANDWIDTH = 88.0
CENTER_FILTER_WAVELENGTH = 538.0
RADIANCE_OFFSET = 2.46522
RADIANCE_SCALING_FACTOR = 0.0156307
REFLECTANCE_SCALING_FACTOR = 0.000592946
MEX:REFLECTANCE_OFFSET = 0.0935176
/* IMAGE OBJECT DEFINITIONS */
OBJECT = IMAGE
  INTERCHANGE_FORMAT = BINARY
  LINES = 8438
  LINE_SAMPLES = 6496
  SAMPLE_TYPE = UNSIGNED_INTEGER
  SAMPLE_BITS = 8
  BANDS = 1
  BAND_STORAGE_TYPE = BAND_SEQUENTIAL
  MAXIMUM = 255
  MEAN = 145.17
  MINIMUM = 1
  STANDARD_DEVIATION = 79.5314
END_OBJECT = IMAGE
/* MAP OBJECT DEFINITIONS */
OBJECT = IMAGE_MAP_PROJECTION
  ^DATA_SET_MAP_PROJECTION_CATALOG= "DSMAP.CAT"
  A_AXIS_RADIUS = 3396.0
  B_AXIS_RADIUS = 3396.0
  C_AXIS_RADIUS = 3396.0
  CENTER_LATITUDE = 0.0
  CENTER_LONGITUDE = 11.0
  COORDINATE_SYSTEM_NAME = PLANETOGRAPHIC
  COORDINATE_SYSTEM_TYPE = "BODY-FIXED ROTATING"
  EASTERNMOST_LONGITUDE = 26.315
  FIRST_STANDARD_PARALLEL = "N/A"
  LINE_FIRST_PIXEL = 1
  LINE_LAST_PIXEL = 8438
  LINE_PROJECTION_OFFSET = -94666.375
  MAP_PROJECTION_ROTATION = 0.0
  MAP_PROJECTION_TYPE = SINUSOIDAL
  MAP_RESOLUTION = 1185.42760773333
  MAP_SCALE = 0.05
  MAXIMUM_LATITUDE = -79.85550000000001
  MINIMUM_LATITUDE = -86.9726
  POSITIVE_LONGITUDE_DIRECTION = EAST
  REFERENCE_LATITUDE = "N/A"
  REFERENCE_LONGITUDE = "N/A"
  SAMPLE_FIRST_PIXEL = 1
  SAMPLE_LAST_PIXEL = 6496
  SAMPLE_PROJECTION_OFFSET = 3398.625
  SECOND_STANDARD_PARALLEL = "N/A"
  WESTERNMOST_LONGITUDE = -30.457
END_OBJECT = IMAGE_MAP_PROJECTION
END
