PDS_VERSION_ID = PDS3
/* FILE DATA ELEMENTS */
RECORD_TYPE = UNDEFINED
/* POINTERS TO DATA OBJECTS */
^IMAGE = ("H4588_0000_BL4.TIF")
/* IDENTIFICATION DATA ELEMENTS */
DATA_SET_ID = "MEX-M-HRSC-4-REFDR-MAPPROJECT-EXT1-V4.0"
DATA_SET_NAME = "MARS EXPRESS HRSC MAP PROJECTED REFDR EXTENSION1 V4.0"
DETECTOR_ID = MEX_HRSC_BLUE
EVENT_TYPE = "MARS-REGIONAL-MAPPING-Gl-Pf"
INSTRUMENT_HOST_ID = MEX
INSTRUMENT_HOST_NAME = "MARS EXPRESS"
INSTRUMENT_ID = HRSC
INSTRUMENT_NAME = "HIGH RESOLUTION STEREO CAMERA"
MISSION_NAME = "MARS EXPRESS"
MISSION_PHASE_NAME = ME_Phase_9
PROCESSING_LEVEL_ID = 4
PRODUCT_CREATION_TIME = 2023-02-11T00:15:54.000Z
PRODUCT_ID = "H4588_0000_BL4.TIF"
RELEASE_ID = 0007
REVISION_ID = 0000
/* QUALITY DATA ELEMENTS */
DATA_QUALITY_ID = 1
DATA_QUALITY_DESC = "Data calculated based on original SPICE kernels"
/* TIME DATA ELEMENTS */
SPACECRAFT_CLOCK_START_COUNT = "1/0133952541.00122"
SPACECRAFT_CLOCK_STOP_COUNT = "1/0133952817.00122"
START_TIME = 2007-07-31T09:02:55.717Z
STOP_TIME = 2007-07-31T09:05:23.641Z
/* ORBITAL DATA ELEMENTS */
ASCENDING_NODE_LONGITUDE = 132.38
MAXIMUM_RESOLUTION = 0.0479
FOOTPRINT_POINT_LATITUDE = (-82.3343,-82.5237,-82.7608,-82.7644, -82.7928,-82.4566,-82.1185,-81.7786, -81.6028,-81.4255,-81.2479,-81.07, -80.8025,-80.6238,-80.4448,-80.2657, -80.0863,-79.9068,-79.7271,-79.4572, -79.2772,-79.097,-78.9132,-78.7262, -78.539,-78.3519,-78.0709,-77.8835, -77.6962,-77.5088,-77.321,-77.1335, -76.9459,-76.6578,-76.464,-76.27, -76.076,-75.882,-75.6881,-75.4941, -75.3003,-75.1064,-74.8085,-74.6083, -74.4082,-74.2082,-74.0083,-73.8084, -73.6086,-73.5081,-73.4464,-73.3546, -73.3104,-73.2303,-73.2279,-73.2279, -73.4254,-73.6229,-73.8206,-74.1168, -74.3145,-74.6109,-74.9035,-75.0946, -75.2856,-75.4766,-75.6677,-75.8586, -76.0495,-76.2403,-76.431,-76.6208, -76.805,-76.989,-77.173,-77.4486, -77.6321,-77.8154,-77.9986,-78.2728, -78.4554,-78.6378,-78.8157,-79.0789, -79.4287,-79.603,-79.777,-79.9507, -80.1239,-80.3829,-80.5549,-80.7264, -80.8974,-81.0677,-81.4043,-81.7281, -81.9689,-82.2077,-82.2868,-82.3343)
FOOTPRINT_POINT_LONGITUDE = (340.08,342.787,346.827,346.894,347.072 ,348.134,349.104,349.994,350.424, 350.839,351.236,351.618,352.162,352.506 ,352.838,353.157,353.464,353.761, 354.047,354.456,354.718,354.971,355.219 ,355.463,355.698,355.926,356.253, 356.462,356.666,356.863,357.053,357.237 ,357.417,357.683,357.856,358.023, 358.185,358.342,358.495,358.644,358.789 ,358.929,359.138,359.273,359.405, 359.533,359.658,359.78,359.899,359.954, 359.991,358.066,357.263,355.933,355.895 ,355.882,355.736,355.586,355.43,355.193 ,355.026,354.769,354.505,354.327, 354.144,353.956,353.76,353.559,353.352, 353.139,352.921,352.695,352.47,352.238, 351.996,351.623,351.365,351.097,350.821 ,350.392,350.093,349.782,349.469, 348.986,348.303,347.944,347.572,347.186 ,346.785,346.157,345.718,345.261, 344.786,344.293,343.254,342.163,341.283 ,340.351,340.028,340.08)
ORBIT_NUMBER = 4588
ORBITAL_ECCENTRICITY = 0.57
ORBITAL_INCLINATION = 86.69
ORBITAL_SEMIMAJOR_AXIS = 8529.87
PERIAPSIS_ALTITUDE = 294.64
PERIAPSIS_ARGUMENT_ANGLE = 270.54
PERIAPSIS_TIME = 2007-07-31T09:01:19.000Z
SPACECRAFT_ORIENTATION = (0.0,-1.0,0.0)
^MEX_ORIENTATION_DESC = "MEX_ORIENTATION_DESC.TXT"
SPACECRAFT_POINTING_MODE = NADIR
^MEX_POINTING_DESC = "MEX_POINTING_DESC.TXT"
RIGHT_ASCENSION = -1e+32
DECLINATION = -1e+32
OFFSET_ANGLE = -1e+32
SPACECRAFT_SOLAR_DISTANCE = 2.10032e+08
TARGET_NAME = MARS
/* CAMERA DATA ELEMENTS */
DETECTOR_TEMPERATURE = 0.0
FOCAL_PLANE_TEMPERATURE = 0.0
INST_CMPRS_NAME = "DISCRETE COSINE TRANSFORMATION (DCT)"
INST_CMPRS_RATIO = 7.61105
INST_CMPRS_QUALITY = 0
INST_CMPRS_QUANTZ_TBL_ID = 0
INSTRUMENT_TEMPERATURE = 0.0
LENS_TEMPERATURE = 0.0
MACROPIXEL_SIZE = 4
MISSING_FRAMES = 0
PIXEL_SUBSAMPLING_FLAG = N
SIGNAL_CHAIN_ID = 2
/* RADIOMETRIC DATA ELEMENTS */
BANDWIDTH = 76.0
CENTER_FILTER_WAVELENGTH = 444.0
RADIANCE_OFFSET = 1.00885
RADIANCE_SCALING_FACTOR = 0.00312336
REFLECTANCE_SCALING_FACTOR = 0.000141563
MEX:REFLECTANCE_OFFSET = 0.0457249
/* IMAGE OBJECT DEFINITIONS */
OBJECT = IMAGE
  INTERCHANGE_FORMAT = BINARY
  LINES = 11772
  LINE_SAMPLES = 4382
  SAMPLE_TYPE = UNSIGNED_INTEGER
  SAMPLE_BITS = 8
  BANDS = 1
  BAND_STORAGE_TYPE = BAND_SEQUENTIAL
  MAXIMUM = 255
  MEAN = 129.858
  MINIMUM = 1
  STANDARD_DEVIATION = 94.7665
END_OBJECT = IMAGE
/* MAP OBJECT DEFINITIONS */
OBJECT = IMAGE_MAP_PROJECTION
  ^DATA_SET_MAP_PROJECTION_CATALOG= "DSMAP.CAT"
  A_AXIS_RADIUS = 3396.0
  B_AXIS_RADIUS = 3396.0
  C_AXIS_RADIUS = 3396.0
  CENTER_LATITUDE = 0.0
  CENTER_LONGITUDE = 354.0
  COORDINATE_SYSTEM_NAME = PLANETOGRAPHIC
  COORDINATE_SYSTEM_TYPE = "BODY-FIXED ROTATING"
  EASTERNMOST_LONGITUDE = 359.991
  FIRST_STANDARD_PARALLEL = "N/A"
  LINE_FIRST_PIXEL = 1
  LINE_LAST_PIXEL = 11772
  LINE_PROJECTION_OFFSET = -86379.125
  MAP_PROJECTION_ROTATION = 0.0
  MAP_PROJECTION_TYPE = SINUSOIDAL
  MAP_RESOLUTION = 1185.42760773333
  MAP_SCALE = 0.05
  MAXIMUM_LATITUDE = -73.22790000000001
  MINIMUM_LATITUDE = -82.7928
  POSITIVE_LONGITUDE_DIRECTION = EAST
  REFERENCE_LATITUDE = "N/A"
  REFERENCE_LONGITUDE = "N/A"
  SAMPLE_FIRST_PIXEL = 1
  SAMPLE_LAST_PIXEL = 4382
  SAMPLE_PROJECTION_OFFSET = 2239.875
  SECOND_STANDARD_PARALLEL = "N/A"
  WESTERNMOST_LONGITUDE = 340.028
END_OBJECT = IMAGE_MAP_PROJECTION
END
