PDS_VERSION_ID = PDS3
/* FILE DATA ELEMENTS */
RECORD_TYPE = UNDEFINED
/* POINTERS TO DATA OBJECTS */
^IMAGE = ("H4588_0000_P24.TIF")
/* IDENTIFICATION DATA ELEMENTS */
DATA_SET_ID = "MEX-M-HRSC-4-REFDR-MAPPROJECT-EXT1-V4.0"
DATA_SET_NAME = "MARS EXPRESS HRSC MAP PROJECTED REFDR EXTENSION1 V4.0"
DETECTOR_ID = MEX_HRSC_P2
EVENT_TYPE = "MARS-REGIONAL-MAPPING-Gl-Pf"
INSTRUMENT_HOST_ID = MEX
INSTRUMENT_HOST_NAME = "MARS EXPRESS"
INSTRUMENT_ID = HRSC
INSTRUMENT_NAME = "HIGH RESOLUTION STEREO CAMERA"
MISSION_NAME = "MARS EXPRESS"
MISSION_PHASE_NAME = ME_Phase_9
PROCESSING_LEVEL_ID = 4
PRODUCT_CREATION_TIME = 2023-02-11T00:15:54.000Z
PRODUCT_ID = "H4588_0000_P24.TIF"
RELEASE_ID = 0007
REVISION_ID = 0000
/* QUALITY DATA ELEMENTS */
DATA_QUALITY_ID = 1
DATA_QUALITY_DESC = "Data calculated based on original SPICE kernels"
/* TIME DATA ELEMENTS */
SPACECRAFT_CLOCK_START_COUNT = "1/0133952541.00122"
SPACECRAFT_CLOCK_STOP_COUNT = "1/0133952817.00122"
START_TIME = 2007-07-31T09:03:09.211Z
STOP_TIME = 2007-07-31T09:05:24.068Z
/* ORBITAL DATA ELEMENTS */
ASCENDING_NODE_LONGITUDE = 132.38
MAXIMUM_RESOLUTION = 0.0248
FOOTPRINT_POINT_LATITUDE = (-82.2668,-82.4029,-82.583,-82.6941, -82.6978,-82.7716,-82.4655,-82.3081, -82.1503,-81.9921,-81.834,-81.5963, -81.4374,-81.2783,-81.039,-80.8795, -80.7194,-80.5592,-80.2385,-79.9177, -79.669,-79.5029,-79.2534,-79.0032, -78.8362,-78.6691,-78.4184,-78.2508, -78.0838,-77.8334,-77.6626,-77.403, -77.2296,-77.0569,-76.8843,-76.7116, -76.5395,-76.367,-76.1944,-76.0219, -75.8452,-75.6672,-75.4001,-75.2221, -75.0442,-74.8664,-74.6887,-74.5112, -74.4225,-74.3937,-74.3344,-74.2976, -74.2584,-74.2189,-74.1636,-74.1609, -74.1604,-74.4248,-74.5994,-74.8624, -75.0375,-75.2127,-75.3874,-75.5625, -75.7378,-75.9076,-76.1622,-76.3318, -76.5014,-76.6712,-76.8407,-77.0953, -77.2654,-77.4347,-77.5999,-77.7631, -77.9266,-78.0901,-78.2527,-78.4156, -78.5787,-78.8229,-79.0664,-79.2283, -79.3901,-79.629,-79.9395,-80.2499, -80.5578,-80.7115,-80.8649,-81.0178, -81.1701,-81.4728,-81.6235,-81.774, -81.9234,-82.2162,-82.287,-82.2668)
FOOTPRINT_POINT_LONGITUDE = (340.328,342.258,345.137,347.156, 347.226,347.27,348.231,348.694,349.137, 349.562,349.971,350.555,350.925,351.282 ,351.793,352.118,352.432,352.735,353.31 ,353.847,354.238,354.49,354.853,355.198 ,355.419,355.634,355.943,356.141, 356.334,356.614,356.797,357.065,357.237 ,357.405,357.568,357.727,357.882, 358.032,358.178,358.321,358.463,358.603 ,358.806,358.936,359.064,359.188, 359.309,359.427,359.486,359.504,358.219 ,357.495,356.774,356.053,355.174, 355.132,355.116,354.89,354.739,354.503, 354.341,354.174,354.005,353.83,353.648, 353.468,353.189,352.997,352.8,352.596, 352.388,352.062,351.835,351.605,351.373 ,351.138,350.895,350.643,350.388, 350.123,349.848,349.421,348.974,348.665 ,348.346,347.854,347.177,346.448, 345.676,345.267,344.844,344.406,343.953 ,342.999,342.494,341.966,341.421, 340.284,339.995,340.328)
ORBIT_NUMBER = 4588
ORBITAL_ECCENTRICITY = 0.57
ORBITAL_INCLINATION = 86.69
ORBITAL_SEMIMAJOR_AXIS = 8529.87
PERIAPSIS_ALTITUDE = 294.64
PERIAPSIS_ARGUMENT_ANGLE = 270.54
PERIAPSIS_TIME = 2007-07-31T09:01:19.000Z
SPACECRAFT_ORIENTATION = (0.0,-1.0,0.0)
^MEX_ORIENTATION_DESC = "MEX_ORIENTATION_DESC.TXT"
SPACECRAFT_POINTING_MODE = NADIR
^MEX_POINTING_DESC = "MEX_POINTING_DESC.TXT"
RIGHT_ASCENSION = -1e+32
DECLINATION = -1e+32
OFFSET_ANGLE = -1e+32
SPACECRAFT_SOLAR_DISTANCE = 2.10032e+08
TARGET_NAME = MARS
/* CAMERA DATA ELEMENTS */
DETECTOR_TEMPERATURE = 0.0
FOCAL_PLANE_TEMPERATURE = 0.0
INST_CMPRS_NAME = "DISCRETE COSINE TRANSFORMATION (DCT)"
INST_CMPRS_RATIO = 8.87501
INST_CMPRS_QUALITY = 0
INST_CMPRS_QUANTZ_TBL_ID = 0
INSTRUMENT_TEMPERATURE = 0.0
LENS_TEMPERATURE = 0.0
MACROPIXEL_SIZE = 2
MISSING_FRAMES = 0
PIXEL_SUBSAMPLING_FLAG = N
SIGNAL_CHAIN_ID = 3
/* RADIOMETRIC DATA ELEMENTS */
BANDWIDTH = 177.0
CENTER_FILTER_WAVELENGTH = 676.5
RADIANCE_OFFSET = 6.44657
RADIANCE_SCALING_FACTOR = 0.02057
REFLECTANCE_SCALING_FACTOR = 0.000481132
MEX:REFLECTANCE_OFFSET = 0.150785
/* IMAGE OBJECT DEFINITIONS */
OBJECT = IMAGE
  INTERCHANGE_FORMAT = BINARY
  LINES = 23543
  LINE_SAMPLES = 8764
  SAMPLE_TYPE = UNSIGNED_INTEGER
  SAMPLE_BITS = 8
  BANDS = 1
  BAND_STORAGE_TYPE = BAND_SEQUENTIAL
  MAXIMUM = 255
  MEAN = 145.826
  MINIMUM = 1
  STANDARD_DEVIATION = 78.4351
END_OBJECT = IMAGE
/* MAP OBJECT DEFINITIONS */
OBJECT = IMAGE_MAP_PROJECTION
  ^DATA_SET_MAP_PROJECTION_CATALOG= "DSMAP.CAT"
  A_AXIS_RADIUS = 3396.0
  B_AXIS_RADIUS = 3396.0
  C_AXIS_RADIUS = 3396.0
  CENTER_LATITUDE = 0.0
  CENTER_LONGITUDE = 354.0
  COORDINATE_SYSTEM_NAME = PLANETOGRAPHIC
  COORDINATE_SYSTEM_TYPE = "BODY-FIXED ROTATING"
  EASTERNMOST_LONGITUDE = 359.504
  FIRST_STANDARD_PARALLEL = "N/A"
  LINE_FIRST_PIXEL = 1
  LINE_LAST_PIXEL = 23543
  LINE_PROJECTION_OFFSET = -172757.75
  MAP_PROJECTION_ROTATION = 0.0
  MAP_PROJECTION_TYPE = SINUSOIDAL
  MAP_RESOLUTION = 2370.85521546667
  MAP_SCALE = 0.025
  MAXIMUM_LATITUDE = -74.1604
  MINIMUM_LATITUDE = -82.77160000000001
  POSITIVE_LONGITUDE_DIRECTION = EAST
  REFERENCE_LATITUDE = "N/A"
  REFERENCE_LONGITUDE = "N/A"
  SAMPLE_FIRST_PIXEL = 1
  SAMPLE_LAST_PIXEL = 8764
  SAMPLE_PROJECTION_OFFSET = 4480.25
  SECOND_STANDARD_PARALLEL = "N/A"
  WESTERNMOST_LONGITUDE = 339.995
END_OBJECT = IMAGE_MAP_PROJECTION
END
