PDS_VERSION_ID = PDS3
/* FILE DATA ELEMENTS */
RECORD_TYPE = UNDEFINED
/* POINTERS TO DATA OBJECTS */
^IMAGE = ("H4588_0000_RE4.TIF")
/* IDENTIFICATION DATA ELEMENTS */
DATA_SET_ID = "MEX-M-HRSC-4-REFDR-MAPPROJECT-EXT1-V4.0"
DATA_SET_NAME = "MARS EXPRESS HRSC MAP PROJECTED REFDR EXTENSION1 V4.0"
DETECTOR_ID = MEX_HRSC_RED
EVENT_TYPE = "MARS-REGIONAL-MAPPING-Gl-Pf"
INSTRUMENT_HOST_ID = MEX
INSTRUMENT_HOST_NAME = "MARS EXPRESS"
INSTRUMENT_ID = HRSC
INSTRUMENT_NAME = "HIGH RESOLUTION STEREO CAMERA"
MISSION_NAME = "MARS EXPRESS"
MISSION_PHASE_NAME = ME_Phase_9
PROCESSING_LEVEL_ID = 4
PRODUCT_CREATION_TIME = 2023-02-11T00:15:54.000Z
PRODUCT_ID = "H4588_0000_RE4.TIF"
RELEASE_ID = 0007
REVISION_ID = 0000
/* QUALITY DATA ELEMENTS */
DATA_QUALITY_ID = 1
DATA_QUALITY_DESC = "Data calculated based on original SPICE kernels"
/* TIME DATA ELEMENTS */
SPACECRAFT_CLOCK_START_COUNT = "1/0133952541.00122"
SPACECRAFT_CLOCK_STOP_COUNT = "1/0133952817.00122"
START_TIME = 2007-07-31T09:03:13.728Z
STOP_TIME = 2007-07-31T09:05:23.641Z
/* ORBITAL DATA ELEMENTS */
ASCENDING_NODE_LONGITUDE = 132.38
MAXIMUM_RESOLUTION = 0.0506
FOOTPRINT_POINT_LATITUDE = (-82.259,-82.3774,-82.5292,-82.6865, -82.69,-82.7791,-82.6289,-82.4028, -82.2518,-82.1003,-81.9487,-81.7972, -81.6455,-81.4932,-81.2647,-81.1118, -80.806,-80.4992,-80.1921,-79.9539, -79.7947,-79.6349,-79.476,-79.2374, -78.998,-78.8382,-78.6782,-78.4383, -78.2778,-78.1181,-77.9537,-77.7889, -77.6236,-77.4585,-77.2921,-77.1269, -76.8794,-76.7144,-76.5501,-76.3852, -76.2176,-76.0473,-75.8771,-75.707, -75.5369,-75.367,-75.1971,-75.0272, -74.8575,-74.7727,-74.7613,-74.6925, -74.6446,-74.581,-74.527,-74.5244, -74.5243,-74.6912,-74.8588,-75.0258, -75.1932,-75.36,-75.6109,-75.8626, -76.0302,-76.1928,-76.3547,-76.5168, -76.6791,-76.8411,-77.0031,-77.1659, -77.3284,-77.4901,-77.6517,-77.8128, -77.9694,-78.203,-78.4367,-78.5927, -78.8264,-78.9816,-79.137,-79.2919, -79.5237,-79.7551,-79.9805,-80.2779, -80.4988,-80.7933,-80.9401,-81.1594, -81.4494,-81.5939,-81.7382,-81.9534, -82.0956,-82.2372,-82.3075,-82.259)
FOOTPRINT_POINT_LONGITUDE = (340.355,342.025,344.394,347.195, 347.263,347.251,347.735,348.424,348.861 ,349.28,349.683,350.071,350.445,350.805 ,351.32,351.649,352.272,352.854,353.399 ,353.797,354.053,354.3,354.54,354.886, 355.215,355.427,355.632,355.93,356.12, 356.306,356.491,356.673,356.849,357.021 ,357.187,357.349,357.584,357.736, 357.884,358.028,358.171,358.312,358.45, 358.584,358.715,358.843,358.967,359.089 ,359.207,359.265,359.273,357.801, 356.882,355.761,354.849,354.808,354.794 ,354.647,354.495,354.341,354.183, 354.021,353.77,353.506,353.325,353.145, 352.961,352.772,352.577,352.378,352.173 ,351.959,351.741,351.519,351.29,351.056 ,350.82,350.458,350.079,349.816,349.406 ,349.125,348.832,348.533,348.066, 347.577,347.076,346.373,345.822,345.037 ,344.624,343.979,343.07,342.589,342.088 ,341.303,340.759,340.193,339.905, 340.355)
ORBIT_NUMBER = 4588
ORBITAL_ECCENTRICITY = 0.57
ORBITAL_INCLINATION = 86.69
ORBITAL_SEMIMAJOR_AXIS = 8529.87
PERIAPSIS_ALTITUDE = 294.64
PERIAPSIS_ARGUMENT_ANGLE = 270.54
PERIAPSIS_TIME = 2007-07-31T09:01:19.000Z
SPACECRAFT_ORIENTATION = (0.0,-1.0,0.0)
^MEX_ORIENTATION_DESC = "MEX_ORIENTATION_DESC.TXT"
SPACECRAFT_POINTING_MODE = NADIR
^MEX_POINTING_DESC = "MEX_POINTING_DESC.TXT"
RIGHT_ASCENSION = -1e+32
DECLINATION = -1e+32
OFFSET_ANGLE = -1e+32
SPACECRAFT_SOLAR_DISTANCE = 2.10032e+08
TARGET_NAME = MARS
/* CAMERA DATA ELEMENTS */
DETECTOR_TEMPERATURE = 0.0
FOCAL_PLANE_TEMPERATURE = 0.0
INST_CMPRS_NAME = "DISCRETE COSINE TRANSFORMATION (DCT)"
INST_CMPRS_RATIO = 10.9447
INST_CMPRS_QUALITY = 0
INST_CMPRS_QUANTZ_TBL_ID = 0
INSTRUMENT_TEMPERATURE = 0.0
LENS_TEMPERATURE = 0.0
MACROPIXEL_SIZE = 4
MISSING_FRAMES = 0
PIXEL_SUBSAMPLING_FLAG = N
SIGNAL_CHAIN_ID = 2
/* RADIOMETRIC DATA ELEMENTS */
BANDWIDTH = 48.0
CENTER_FILTER_WAVELENGTH = 748.0
RADIANCE_OFFSET = 1.77825
RADIANCE_SCALING_FACTOR = 0.0085705
REFLECTANCE_SCALING_FACTOR = 0.000862789
MEX:REFLECTANCE_OFFSET = 0.179015
/* IMAGE OBJECT DEFINITIONS */
OBJECT = IMAGE
  INTERCHANGE_FORMAT = BINARY
  LINES = 11772
  LINE_SAMPLES = 4382
  SAMPLE_TYPE = UNSIGNED_INTEGER
  SAMPLE_BITS = 8
  BANDS = 1
  BAND_STORAGE_TYPE = BAND_SEQUENTIAL
  MAXIMUM = 255
  MEAN = 113.378
  MINIMUM = 1
  STANDARD_DEVIATION = 72.1236
END_OBJECT = IMAGE
/* MAP OBJECT DEFINITIONS */
OBJECT = IMAGE_MAP_PROJECTION
  ^DATA_SET_MAP_PROJECTION_CATALOG= "DSMAP.CAT"
  A_AXIS_RADIUS = 3396.0
  B_AXIS_RADIUS = 3396.0
  C_AXIS_RADIUS = 3396.0
  CENTER_LATITUDE = 0.0
  CENTER_LONGITUDE = 354.0
  COORDINATE_SYSTEM_NAME = PLANETOGRAPHIC
  COORDINATE_SYSTEM_TYPE = "BODY-FIXED ROTATING"
  EASTERNMOST_LONGITUDE = 359.273
  FIRST_STANDARD_PARALLEL = "N/A"
  LINE_FIRST_PIXEL = 1
  LINE_LAST_PIXEL = 11772
  LINE_PROJECTION_OFFSET = -86379.125
  MAP_PROJECTION_ROTATION = 0.0
  MAP_PROJECTION_TYPE = SINUSOIDAL
  MAP_RESOLUTION = 1185.42760773333
  MAP_SCALE = 0.05
  MAXIMUM_LATITUDE = -74.5243
  MINIMUM_LATITUDE = -82.7791
  POSITIVE_LONGITUDE_DIRECTION = EAST
  REFERENCE_LATITUDE = "N/A"
  REFERENCE_LONGITUDE = "N/A"
  SAMPLE_FIRST_PIXEL = 1
  SAMPLE_LAST_PIXEL = 4382
  SAMPLE_PROJECTION_OFFSET = 2239.875
  SECOND_STANDARD_PARALLEL = "N/A"
  WESTERNMOST_LONGITUDE = 339.905
END_OBJECT = IMAGE_MAP_PROJECTION
END
