PDS_VERSION_ID = PDS3
/* FILE DATA ELEMENTS */
RECORD_TYPE = UNDEFINED
/* POINTERS TO DATA OBJECTS */
^IMAGE = ("H4589_0000_BL4.TIF")
/* IDENTIFICATION DATA ELEMENTS */
DATA_SET_ID = "MEX-M-HRSC-4-REFDR-MAPPROJECT-EXT1-V4.0"
DATA_SET_NAME = "MARS EXPRESS HRSC MAP PROJECTED REFDR EXTENSION1 V4.0"
DETECTOR_ID = MEX_HRSC_BLUE
EVENT_TYPE = "MARS-REGIONAL-MAPPING-Pf-Eo"
INSTRUMENT_HOST_ID = MEX
INSTRUMENT_HOST_NAME = "MARS EXPRESS"
INSTRUMENT_ID = HRSC
INSTRUMENT_NAME = "HIGH RESOLUTION STEREO CAMERA"
MISSION_NAME = "MARS EXPRESS"
MISSION_PHASE_NAME = ME_Phase_9
PROCESSING_LEVEL_ID = 4
PRODUCT_CREATION_TIME = 2023-02-11T00:15:54.000Z
PRODUCT_ID = "H4589_0000_BL4.TIF"
RELEASE_ID = 0007
REVISION_ID = 0000
/* QUALITY DATA ELEMENTS */
DATA_QUALITY_ID = 1
DATA_QUALITY_DESC = "Data calculated based on original SPICE kernels"
/* TIME DATA ELEMENTS */
SPACECRAFT_CLOCK_START_COUNT = "1/0133976837.07292"
SPACECRAFT_CLOCK_STOP_COUNT = "1/0133977083.56982"
START_TIME = 2007-07-31T15:47:55.068Z
STOP_TIME = 2007-07-31T15:50:50.484Z
/* ORBITAL DATA ELEMENTS */
ASCENDING_NODE_LONGITUDE = 132.37
MAXIMUM_RESOLUTION = 0.0524
FOOTPRINT_POINT_LATITUDE = (-76.2593,-76.3268,-76.3884,-76.4594, -76.4609,-76.4888,-75.7903,-75.4829, -75.2771,-75.0712,-74.8656,-74.6601, -74.4548,-74.2496,-74.0445,-73.8395, -73.6346,-73.4298,-73.2252,-73.0207, -72.8163,-72.4082,-72.0007,-71.5938, -71.1877,-70.8357,-70.5939,-70.3523, -69.9896,-69.6292,-69.3888,-69.1485, -68.9085,-68.6689,-68.4295,-68.1904, -67.9516,-67.7131,-67.4748,-67.2369, -66.9993,-66.7619,-66.5249,-66.2828, -66.0399,-65.7975,-65.5553,-65.4328, -65.3979,-65.3787,-65.3631,-65.339, -65.3173,-65.2954,-65.2719,-65.2704, -65.2709,-65.6348,-65.8761,-66.1179, -66.3596,-66.5954,-66.8316,-67.068, -67.3048,-67.5418,-67.779,-68.0165, -68.3736,-68.6114,-68.8499,-69.0885, -69.3274,-69.5666,-69.8059,-70.0456, -70.2853,-70.5253,-70.7656,-71.0006, -71.4038,-71.9087,-72.2122,-72.6171, -73.0223,-73.2252,-73.4282,-73.6312, -73.8343,-74.0375,-74.2407,-74.4439, -74.6473,-74.8508,-75.0543,-75.2578, -75.5625,-76.1537,-76.2523,-76.2593)
FOOTPRINT_POINT_LONGITUDE = (258.397,259.73,261.103,262.97,263.015, 263.329,263.717,263.876,263.979,264.077 ,264.174,264.268,264.36,264.45,264.536, 264.62,264.701,264.781,264.858,264.933, 265.005,265.148,265.282,265.41,265.533, 265.636,265.703,265.767,265.855,265.952 ,266.011,266.068,266.123,266.177,266.23 ,266.281,266.332,266.381,266.428, 266.475,266.521,266.565,266.609,266.653 ,266.695,266.737,266.777,266.797, 266.803,266.1,265.602,264.913,264.362, 263.848,263.34,263.308,263.297,263.219, 263.165,263.11,263.053,262.996,262.938, 262.878,262.816,262.752,262.687,262.619 ,262.515,262.442,262.368,262.291, 262.213,262.131,262.048,261.962,261.873 ,261.781,261.687,261.592,261.422, 261.197,261.055,260.856,260.646,260.537 ,260.424,260.308,260.189,260.066,259.94 ,259.81,259.676,259.538,259.395,259.249 ,259.02,258.545,258.462,258.397)
ORBIT_NUMBER = 4589
ORBITAL_ECCENTRICITY = 0.57
ORBITAL_INCLINATION = 86.69
ORBITAL_SEMIMAJOR_AXIS = 8530.34
PERIAPSIS_ALTITUDE = 294.15
PERIAPSIS_ARGUMENT_ANGLE = 270.38
PERIAPSIS_TIME = 2007-07-31T15:44:34.000Z
SPACECRAFT_ORIENTATION = (0.0,-1.0,0.0)
^MEX_ORIENTATION_DESC = "MEX_ORIENTATION_DESC.TXT"
SPACECRAFT_POINTING_MODE = ACROSSTRACK
^MEX_POINTING_DESC = "MEX_POINTING_DESC.TXT"
RIGHT_ASCENSION = -1e+32
DECLINATION = -1e+32
OFFSET_ANGLE = -0.8
SPACECRAFT_SOLAR_DISTANCE = 2.10064e+08
TARGET_NAME = MARS
/* CAMERA DATA ELEMENTS */
DETECTOR_TEMPERATURE = 18.1666
FOCAL_PLANE_TEMPERATURE = 8.7872
INST_CMPRS_NAME = "DISCRETE COSINE TRANSFORMATION (DCT)"
INST_CMPRS_RATIO = 13.7834
INST_CMPRS_QUALITY = 0
INST_CMPRS_QUANTZ_TBL_ID = 0
INSTRUMENT_TEMPERATURE = 11.4379
LENS_TEMPERATURE = 9.6028
MACROPIXEL_SIZE = 4
MISSING_FRAMES = 0
PIXEL_SUBSAMPLING_FLAG = N
SIGNAL_CHAIN_ID = 2
/* RADIOMETRIC DATA ELEMENTS */
BANDWIDTH = 76.0
CENTER_FILTER_WAVELENGTH = 444.0
RADIANCE_OFFSET = 1.064
RADIANCE_SCALING_FACTOR = 0.0011816
REFLECTANCE_SCALING_FACTOR = 5.35714e-05
MEX:REFLECTANCE_OFFSET = 0.0482394
/* IMAGE OBJECT DEFINITIONS */
OBJECT = IMAGE
  INTERCHANGE_FORMAT = BINARY
  LINES = 13303
  LINE_SAMPLES = 3162
  SAMPLE_TYPE = UNSIGNED_INTEGER
  SAMPLE_BITS = 8
  BANDS = 1
  BAND_STORAGE_TYPE = BAND_SEQUENTIAL
  MAXIMUM = 255
  MEAN = 140.441
  MINIMUM = 1
  STANDARD_DEVIATION = 43.3759
END_OBJECT = IMAGE
/* MAP OBJECT DEFINITIONS */
OBJECT = IMAGE_MAP_PROJECTION
  ^DATA_SET_MAP_PROJECTION_CATALOG= "DSMAP.CAT"
  A_AXIS_RADIUS = 3396.0
  B_AXIS_RADIUS = 3396.0
  C_AXIS_RADIUS = 3396.0
  CENTER_LATITUDE = 0.0
  CENTER_LONGITUDE = 263.0
  COORDINATE_SYSTEM_NAME = PLANETOGRAPHIC
  COORDINATE_SYSTEM_TYPE = "BODY-FIXED ROTATING"
  EASTERNMOST_LONGITUDE = 266.803
  FIRST_STANDARD_PARALLEL = "N/A"
  LINE_FIRST_PIXEL = 1
  LINE_LAST_PIXEL = 13303
  LINE_PROJECTION_OFFSET = -77379.375
  MAP_PROJECTION_ROTATION = 0.0
  MAP_PROJECTION_TYPE = SINUSOIDAL
  MAP_RESOLUTION = 1185.42760773333
  MAP_SCALE = 0.05
  MAXIMUM_LATITUDE = -65.2704
  MINIMUM_LATITUDE = -76.4888
  POSITIVE_LONGITUDE_DIRECTION = EAST
  REFERENCE_LATITUDE = "N/A"
  REFERENCE_LONGITUDE = "N/A"
  SAMPLE_FIRST_PIXEL = 1
  SAMPLE_LAST_PIXEL = 3162
  SAMPLE_PROJECTION_OFFSET = 1280.875
  SECOND_STANDARD_PARALLEL = "N/A"
  WESTERNMOST_LONGITUDE = 258.397
END_OBJECT = IMAGE_MAP_PROJECTION
END
