PDS_VERSION_ID = PDS3
/* FILE DATA ELEMENTS */
RECORD_TYPE = UNDEFINED
/* POINTERS TO DATA OBJECTS */
^IMAGE = ("H4589_0000_P24.TIF")
/* IDENTIFICATION DATA ELEMENTS */
DATA_SET_ID = "MEX-M-HRSC-4-REFDR-MAPPROJECT-EXT1-V4.0"
DATA_SET_NAME = "MARS EXPRESS HRSC MAP PROJECTED REFDR EXTENSION1 V4.0"
DETECTOR_ID = MEX_HRSC_P2
EVENT_TYPE = "MARS-REGIONAL-MAPPING-Pf-Eo"
INSTRUMENT_HOST_ID = MEX
INSTRUMENT_HOST_NAME = "MARS EXPRESS"
INSTRUMENT_ID = HRSC
INSTRUMENT_NAME = "HIGH RESOLUTION STEREO CAMERA"
MISSION_NAME = "MARS EXPRESS"
MISSION_PHASE_NAME = ME_Phase_9
PROCESSING_LEVEL_ID = 4
PRODUCT_CREATION_TIME = 2023-02-11T00:15:54.000Z
PRODUCT_ID = "H4589_0000_P24.TIF"
RELEASE_ID = 0007
REVISION_ID = 0000
/* QUALITY DATA ELEMENTS */
DATA_QUALITY_ID = 1
DATA_QUALITY_DESC = "Data calculated based on original SPICE kernels"
/* TIME DATA ELEMENTS */
SPACECRAFT_CLOCK_START_COUNT = "1/0133976837.07292"
SPACECRAFT_CLOCK_STOP_COUNT = "1/0133977083.56982"
START_TIME = 2007-07-31T15:48:09.871Z
STOP_TIME = 2007-07-31T15:51:10.752Z
/* ORBITAL DATA ELEMENTS */
ASCENDING_NODE_LONGITUDE = 132.37
MAXIMUM_RESOLUTION = 0.0274
FOOTPRINT_POINT_LATITUDE = (-76.1982,-76.2778,-76.3513,-76.4301, -76.432,-76.5097,-76.3067,-76.002, -75.7993,-75.5969,-75.3945,-75.1923, -74.8891,-74.6875,-74.4861,-74.0839, -73.6821,-73.281,-72.8805,-72.2821, -72.0617,-71.8241,-71.5874,-71.3505, -71.1147,-70.7612,-70.5257,-70.2899, -69.9361,-69.7029,-69.4692,-69.1188, -68.8854,-68.6527,-68.4202,-68.1881, -67.9564,-67.725,-67.4893,-67.2526, -67.0162,-66.7802,-66.5404,-66.299, -66.0579,-65.8176,-65.5726,-65.4497, -65.4042,-65.3658,-65.3347,-65.3021, -65.2744,-65.2451,-65.2432,-65.243, -65.6104,-65.8496,-66.0897,-66.3295, -66.5691,-66.8039,-67.039,-67.2747, -67.5102,-67.7402,-67.9706,-68.2012, -68.4333,-68.6639,-68.8956,-69.1274, -69.36,-69.5927,-69.8257,-70.0592, -70.2925,-70.5263,-70.8781,-71.1129, -71.3475,-71.5828,-71.8183,-72.0439, -72.4397,-72.836,-73.2332,-73.7306, -74.0293,-74.4279,-74.6274,-74.8274, -75.0272,-75.2271,-75.4272,-75.6273, -75.9278,-76.1281,-76.2283,-76.1982)
FOOTPRINT_POINT_LONGITUDE = (258.422,259.832,261.288,263.08,263.128 ,263.421,263.538,263.706,263.814,263.92 ,264.022,264.121,264.263,264.356, 264.446,264.619,264.781,264.935,265.081 ,265.288,265.36,265.435,265.51,265.581, 265.652,265.754,265.819,265.881,265.969 ,266.031,266.089,266.173,266.227, 266.279,266.331,266.381,266.43,266.478, 266.525,266.572,266.618,266.663,266.707 ,266.751,266.793,266.835,266.877, 266.897,266.905,265.855,265.108,264.406 ,263.851,263.301,263.267,263.255, 263.177,263.124,263.07,263.014,262.957, 262.899,262.84,262.779,262.716,262.653, 262.589,262.522,262.454,262.384,262.311 ,262.237,262.16,262.081,262.0,261.916, 261.83,261.741,261.603,261.507,261.408, 261.306,261.201,261.097,260.908,260.708 ,260.496,260.215,260.037,259.786, 259.655,259.52,259.381,259.238,259.09, 258.938,258.7,258.535,258.45,258.422)
ORBIT_NUMBER = 4589
ORBITAL_ECCENTRICITY = 0.57
ORBITAL_INCLINATION = 86.69
ORBITAL_SEMIMAJOR_AXIS = 8530.34
PERIAPSIS_ALTITUDE = 294.15
PERIAPSIS_ARGUMENT_ANGLE = 270.38
PERIAPSIS_TIME = 2007-07-31T15:44:34.000Z
SPACECRAFT_ORIENTATION = (0.0,-1.0,0.0)
^MEX_ORIENTATION_DESC = "MEX_ORIENTATION_DESC.TXT"
SPACECRAFT_POINTING_MODE = ACROSSTRACK
^MEX_POINTING_DESC = "MEX_POINTING_DESC.TXT"
RIGHT_ASCENSION = -1e+32
DECLINATION = -1e+32
OFFSET_ANGLE = -0.8
SPACECRAFT_SOLAR_DISTANCE = 2.10064e+08
TARGET_NAME = MARS
/* CAMERA DATA ELEMENTS */
DETECTOR_TEMPERATURE = 18.5744
FOCAL_PLANE_TEMPERATURE = 8.7872
INST_CMPRS_NAME = "DISCRETE COSINE TRANSFORMATION (DCT)"
INST_CMPRS_RATIO = 7.59678
INST_CMPRS_QUALITY = 0
INST_CMPRS_QUANTZ_TBL_ID = 0
INSTRUMENT_TEMPERATURE = 11.4379
LENS_TEMPERATURE = 9.6028
MACROPIXEL_SIZE = 2
MISSING_FRAMES = 0
PIXEL_SUBSAMPLING_FLAG = N
SIGNAL_CHAIN_ID = 3
/* RADIOMETRIC DATA ELEMENTS */
BANDWIDTH = 177.0
CENTER_FILTER_WAVELENGTH = 676.5
RADIANCE_OFFSET = 7.15564
RADIANCE_SCALING_FACTOR = 0.0167032
REFLECTANCE_SCALING_FACTOR = 0.000390806
MEX:REFLECTANCE_OFFSET = 0.167421
/* IMAGE OBJECT DEFINITIONS */
OBJECT = IMAGE
  INTERCHANGE_FORMAT = BINARY
  LINES = 26606
  LINE_SAMPLES = 6323
  SAMPLE_TYPE = UNSIGNED_INTEGER
  SAMPLE_BITS = 8
  BANDS = 1
  BAND_STORAGE_TYPE = BAND_SEQUENTIAL
  MAXIMUM = 254
  MEAN = 141.076
  MINIMUM = 1
  STANDARD_DEVIATION = 49.1322
END_OBJECT = IMAGE
/* MAP OBJECT DEFINITIONS */
OBJECT = IMAGE_MAP_PROJECTION
  ^DATA_SET_MAP_PROJECTION_CATALOG= "DSMAP.CAT"
  A_AXIS_RADIUS = 3396.0
  B_AXIS_RADIUS = 3396.0
  C_AXIS_RADIUS = 3396.0
  CENTER_LATITUDE = 0.0
  CENTER_LONGITUDE = 263.0
  COORDINATE_SYSTEM_NAME = PLANETOGRAPHIC
  COORDINATE_SYSTEM_TYPE = "BODY-FIXED ROTATING"
  EASTERNMOST_LONGITUDE = 266.905
  FIRST_STANDARD_PARALLEL = "N/A"
  LINE_FIRST_PIXEL = 1
  LINE_LAST_PIXEL = 26606
  LINE_PROJECTION_OFFSET = -154758.25
  MAP_PROJECTION_ROTATION = 0.0
  MAP_PROJECTION_TYPE = SINUSOIDAL
  MAP_RESOLUTION = 2370.85521546667
  MAP_SCALE = 0.025
  MAXIMUM_LATITUDE = -65.24299999999999
  MINIMUM_LATITUDE = -76.5097
  POSITIVE_LONGITUDE_DIRECTION = EAST
  REFERENCE_LATITUDE = "N/A"
  REFERENCE_LONGITUDE = "N/A"
  SAMPLE_FIRST_PIXEL = 1
  SAMPLE_LAST_PIXEL = 6323
  SAMPLE_PROJECTION_OFFSET = 2562.25
  SECOND_STANDARD_PARALLEL = "N/A"
  WESTERNMOST_LONGITUDE = 258.422
END_OBJECT = IMAGE_MAP_PROJECTION
END
